BEGIN:VCALENDAR
VERSION:2.0
PRODID:-//Faith in  Action East Bay - ECPv6.15.20//NONSGML v1.0//EN
CALSCALE:GREGORIAN
METHOD:PUBLISH
X-WR-CALNAME:Faith in  Action East Bay
X-ORIGINAL-URL:https://fiaeastbay.org
X-WR-CALDESC:Events for Faith in  Action East Bay
REFRESH-INTERVAL;VALUE=DURATION:PT1H
X-Robots-Tag:noindex
X-PUBLISHED-TTL:PT1H
BEGIN:VTIMEZONE
TZID:America/Los_Angeles
BEGIN:DAYLIGHT
TZOFFSETFROM:-0800
TZOFFSETTO:-0700
TZNAME:PDT
DTSTART:20250309T100000
END:DAYLIGHT
BEGIN:STANDARD
TZOFFSETFROM:-0700
TZOFFSETTO:-0800
TZNAME:PST
DTSTART:20251102T090000
END:STANDARD
BEGIN:DAYLIGHT
TZOFFSETFROM:-0800
TZOFFSETTO:-0700
TZNAME:PDT
DTSTART:20260308T100000
END:DAYLIGHT
BEGIN:STANDARD
TZOFFSETFROM:-0700
TZOFFSETTO:-0800
TZNAME:PST
DTSTART:20261101T090000
END:STANDARD
BEGIN:DAYLIGHT
TZOFFSETFROM:-0800
TZOFFSETTO:-0700
TZNAME:PDT
DTSTART:20270314T100000
END:DAYLIGHT
BEGIN:STANDARD
TZOFFSETFROM:-0700
TZOFFSETTO:-0800
TZNAME:PST
DTSTART:20271107T090000
END:STANDARD
END:VTIMEZONE
BEGIN:VEVENT
DTSTART;TZID=America/Los_Angeles:20260324T100000
DTEND;TZID=America/Los_Angeles:20260324T160000
DTSTAMP:20260425T121635
CREATED:20260211T223614Z
LAST-MODIFIED:20260304T003318Z
UID:5470-1774346400-1774368000@fiaeastbay.org
SUMMARY:Families Are Sacred Convention
DESCRIPTION:2026 Families are Sacred Statewide Convention\n10 a.m. to 4 p.m. Tuesday\, March 24\nSAFE Credit Union Convention Center\, 1401 K Street\nSacramento\, CA 95814 \nGet on the bus to Sacramento for a day of meeting with state representatives to advance our organizing priorities. Here is what we are fighting for in Sacramento on March 24: \n\n\nBills to provide funding to support immigrants and help immigrants detained by ICE \n\n\nAB 1231: Alternatives to incarceration \n\n\nAB 736/SB 417: $10 billion housing bond \n\n\nSB 1218: Statewide penalties for illegal dumping \n\n\nOn this day we will create a unified presence of power and love to advance policies that create safe\, thriving communities that are free from ICE terror\, mass incarceration\, housing scarcity\, and trash-filled neighborhoods. \nWe truly hope you can join us for this event. More people = more power. Please invite as many people as you can! Our goal is to bring 100 people to Sacramento. Please register by Friday\, March 6. \nThe bus will pick up at 7:30 a.m. at Our Lady of the Rosary Church\, 703 C St.\, Union City and then at 8 a.m. at the FIAEB Office: 8400 Enterprise Oakland. Lunch is included. \nREGISTER\n \nREGÍSTRESE
URL:https://fiaeastbay.org/event/families-are-sacred-convention/
ATTACH;FMTTYPE=image/png:https://fiaeastbay.org/wp-content/uploads/2026/02/GetontheBusMarch24eng.png
END:VEVENT
END:VCALENDAR