BEGIN:VCALENDAR
VERSION:2.0
PRODID:-//Faith in  Action East Bay - ECPv6.15.20//NONSGML v1.0//EN
CALSCALE:GREGORIAN
METHOD:PUBLISH
X-WR-CALNAME:Faith in  Action East Bay
X-ORIGINAL-URL:https://fiaeastbay.org
X-WR-CALDESC:Events for Faith in  Action East Bay
REFRESH-INTERVAL;VALUE=DURATION:PT1H
X-Robots-Tag:noindex
X-PUBLISHED-TTL:PT1H
BEGIN:VTIMEZONE
TZID:America/Los_Angeles
BEGIN:DAYLIGHT
TZOFFSETFROM:-0800
TZOFFSETTO:-0700
TZNAME:PDT
DTSTART:20240310T100000
END:DAYLIGHT
BEGIN:STANDARD
TZOFFSETFROM:-0700
TZOFFSETTO:-0800
TZNAME:PST
DTSTART:20241103T090000
END:STANDARD
BEGIN:DAYLIGHT
TZOFFSETFROM:-0800
TZOFFSETTO:-0700
TZNAME:PDT
DTSTART:20250309T100000
END:DAYLIGHT
BEGIN:STANDARD
TZOFFSETFROM:-0700
TZOFFSETTO:-0800
TZNAME:PST
DTSTART:20251102T090000
END:STANDARD
BEGIN:DAYLIGHT
TZOFFSETFROM:-0800
TZOFFSETTO:-0700
TZNAME:PDT
DTSTART:20260308T100000
END:DAYLIGHT
BEGIN:STANDARD
TZOFFSETFROM:-0700
TZOFFSETTO:-0800
TZNAME:PST
DTSTART:20261101T090000
END:STANDARD
END:VTIMEZONE
BEGIN:VEVENT
DTSTART;TZID=America/Los_Angeles:20250416T173000
DTEND;TZID=America/Los_Angeles:20250416T190000
DTSTAMP:20260424T090723
CREATED:20250408T212157Z
LAST-MODIFIED:20250408T212405Z
UID:5084-1744824600-1744830000@fiaeastbay.org
SUMMARY:Interfaith Vigil to Stop ICE Expansion in Dublin
DESCRIPTION:RSVP
URL:https://fiaeastbay.org/event/interfaith-vigil-to-stop-ice-expansion-in-dublin/
ATTACH;FMTTYPE=image/png:https://fiaeastbay.org/wp-content/uploads/2025/04/Dublin-Vigil-April-16-2.png
END:VEVENT
BEGIN:VEVENT
DTSTART;TZID=America/Los_Angeles:20250412T100000
DTEND;TZID=America/Los_Angeles:20250412T150000
DTSTAMP:20260424T090723
CREATED:20250123T035930Z
LAST-MODIFIED:20250318T153554Z
UID:4935-1744452000-1744470000@fiaeastbay.org
SUMMARY:Immigration Forum
DESCRIPTION:
URL:https://fiaeastbay.org/event/immigration-forum-14/
ATTACH;FMTTYPE=image/png:https://fiaeastbay.org/wp-content/uploads/2025/01/ImForumApril12StFrancis.png
END:VEVENT
BEGIN:VEVENT
DTSTART;TZID=America/Los_Angeles:20250411T180000
DTEND;TZID=America/Los_Angeles:20250411T200000
DTSTAMP:20260424T090723
CREATED:20250402T021627Z
LAST-MODIFIED:20250402T211229Z
UID:5046-1744394400-1744401600@fiaeastbay.org
SUMMARY:Ceasefire Night Walk
DESCRIPTION:Location: Sacred Heart\, 4025 Martin Luther King Jr. Way\n\nNight walks:\n6pm: Gathering for pre-walk/corners process\n6:30pm: walk or stand on corners\n7:30pm: returned back to starting location or completed from the corners\nBy 7:45pm\, walk process completed\nFor more information\, please contact alba@fiaeastbay.org
URL:https://fiaeastbay.org/event/ceasefire-night-walk-105/
ATTACH;FMTTYPE=image/png:https://fiaeastbay.org/wp-content/uploads/2021/12/OaklandCeasefire_cal.png
END:VEVENT
BEGIN:VEVENT
DTSTART;TZID=America/Los_Angeles:20250409T090000
DTEND;TZID=America/Los_Angeles:20250409T110000
DTSTAMP:20260424T090723
CREATED:20250407T150059Z
LAST-MODIFIED:20250407T150100Z
UID:5081-1744189200-1744196400@fiaeastbay.org
SUMMARY:Learn About the OUSD Budget Crisis
DESCRIPTION:
URL:https://fiaeastbay.org/event/learn-about-the-ousd-budget-crisis-4/
ATTACH;FMTTYPE=image/png:https://fiaeastbay.org/wp-content/uploads/2025/04/OUSDEdBudgetApril9.png
END:VEVENT
BEGIN:VEVENT
DTSTART;TZID=America/Los_Angeles:20250330T140000
DTEND;TZID=America/Los_Angeles:20250330T153000
DTSTAMP:20260424T090723
CREATED:20250318T153741Z
LAST-MODIFIED:20250318T153742Z
UID:5009-1743343200-1743348600@fiaeastbay.org
SUMMARY:Oakland Mayoral Forum
DESCRIPTION:
URL:https://fiaeastbay.org/event/oakland-mayoral-forum-3/
ATTACH;FMTTYPE=image/png:https://fiaeastbay.org/wp-content/uploads/2025/03/OaklandMayoralForum.png
END:VEVENT
BEGIN:VEVENT
DTSTART;TZID=America/Los_Angeles:20250329T110000
DTEND;TZID=America/Los_Angeles:20250329T140000
DTSTAMP:20260424T090723
CREATED:20250326T231815Z
LAST-MODIFIED:20250326T231913Z
UID:5026-1743246000-1743256800@fiaeastbay.org
SUMMARY:Stop the Killings: A Peaceful Caravan to City Hall
DESCRIPTION:Stop the Killings: A Peaceful Caravan to City Hall\n\n\nWe invite you to stand Shoulder-2-Shoulder with us and bring the peace movement to our city! Join us for “Stop the Killings: A Peaceful Caravan to City Hall” as we raise our voices against violence and advocate for peace in our communities. \n Date: Saturday\, March 29th\n Time: 11:00 AM\n Starting Point: 7300 E14\n Ending at: City Hall \nThis is more than just a march—it’s a movement to end all hostilities and create a safer future for everyone. Let’s come together in solidarity to demand change and make our streets safer. \nFor more information\, contact Edwin Hagler at 415-678-6000. \nSpread the word\, bring your friends and family\, and let’s march for peace!
URL:https://fiaeastbay.org/event/stop-the-killings-a-peaceful-caravan-to-city-hall/
ATTACH;FMTTYPE=image/jpeg:https://fiaeastbay.org/wp-content/uploads/2025/03/unnamed.jpg
END:VEVENT
BEGIN:VEVENT
DTSTART;TZID=America/Los_Angeles:20250328T180000
DTEND;TZID=America/Los_Angeles:20250328T200000
DTSTAMP:20260424T090723
CREATED:20241228T164649Z
LAST-MODIFIED:20241228T164650Z
UID:4898-1743184800-1743192000@fiaeastbay.org
SUMMARY:Ceasefire Night Walk
DESCRIPTION:Location: At Thy Word\, 8915 International Blvd.\n\nNight walks:\n6pm: Gathering for pre-walk/corners process\n6:30pm: walk or stand on corners\n7:30pm: returned back to starting location or completed from the corners\nBy 7:45pm\, walk process completed\nFor more information\, please contact Alba Hernandez at alba@fiaeastbay.org
URL:https://fiaeastbay.org/event/ceasefire-night-walk-104/
ATTACH;FMTTYPE=image/png:https://fiaeastbay.org/wp-content/uploads/2021/12/OaklandCeasefire_cal.png
END:VEVENT
BEGIN:VEVENT
DTSTART;TZID=America/Los_Angeles:20250327T180000
DTEND;TZID=America/Los_Angeles:20250327T200000
DTSTAMP:20260424T090723
CREATED:20250318T152946Z
LAST-MODIFIED:20250318T152947Z
UID:5000-1743098400-1743105600@fiaeastbay.org
SUMMARY:Know Your Rights Workshop
DESCRIPTION:REGISTER\n \nREGISTER
URL:https://fiaeastbay.org/event/know-your-rights-workshop-2/
ATTACH;FMTTYPE=image/png:https://fiaeastbay.org/wp-content/uploads/2025/03/3.27.25-KYR-Workshop.png
END:VEVENT
BEGIN:VEVENT
DTSTART;TZID=America/Los_Angeles:20250327T100000
DTEND;TZID=America/Los_Angeles:20250327T113000
DTSTAMP:20260424T090723
CREATED:20250318T214937Z
LAST-MODIFIED:20250318T214937Z
UID:5012-1743069600-1743075000@fiaeastbay.org
SUMMARY:No Wellpath! Public Protection Committee Meeting
DESCRIPTION:The Stop Deaths and Harm group has serious concerns about the quality of healthcare in Alameda County Jail which has had one of the highest rates of in-custody deaths in the state. Wellpath\, the medical care provider in the jail since 2016\, is owned by a global investment firm and provides healthcare in 34 of California’s 56 county jails. Over 1500 lawsuits have been filed nationwide and Wellpath’s recent bankruptcy will prevent those families from getting justice. \nWe are asking all those who care about improving medical treatment in Alameda County Jail to attend the Alameda County Board of Supervisors’ Public Protection Committee meeting on March 27th at 10:00 AM. Wellpaths’s $49 million dollar annual contract is up for renewal in 2027\, and we want the Board of Supervisors to start to explore alternatives NOW! \nIf you are able to attend and might be willing to speak\, please contact mickydux612@gmail.com  If you are unable to attend in person\, but can join on Zoom\, please join at: https://zoom.us/j/83246519903
URL:https://fiaeastbay.org/event/no-wellpath-public-protection-committee-meeting/
ATTACH;FMTTYPE=image/png:https://fiaeastbay.org/wp-content/uploads/2025/03/Wellpath-Alameda-County-Bd-of-Supes-3.27.25.png
END:VEVENT
BEGIN:VEVENT
DTSTART;TZID=America/Los_Angeles:20250326T090000
DTEND;TZID=America/Los_Angeles:20250326T110000
DTSTAMP:20260424T090723
CREATED:20250306T203935Z
LAST-MODIFIED:20250306T204033Z
UID:4994-1742979600-1742986800@fiaeastbay.org
SUMMARY:Learn About the OUSD Budget Crisis
DESCRIPTION:
URL:https://fiaeastbay.org/event/learn-about-the-ousd-budget-crisis-3/
ATTACH;FMTTYPE=image/png:https://fiaeastbay.org/wp-content/uploads/2025/03/OUSDEdBudgetMar26.png
END:VEVENT
BEGIN:VEVENT
DTSTART;TZID=America/Los_Angeles:20250323T100000
DTEND;TZID=America/Los_Angeles:20250323T150000
DTSTAMP:20260424T090723
CREATED:20250123T035855Z
LAST-MODIFIED:20250218T223243Z
UID:4933-1742724000-1742742000@fiaeastbay.org
SUMMARY:Immigration Forum
DESCRIPTION:
URL:https://fiaeastbay.org/event/immigration-forum-13/
ATTACH;FMTTYPE=image/png:https://fiaeastbay.org/wp-content/uploads/2025/01/ImForumMarch23StJarlath.png
END:VEVENT
BEGIN:VEVENT
DTSTART;TZID=America/Los_Angeles:20250321T180000
DTEND;TZID=America/Los_Angeles:20250321T200000
DTSTAMP:20260424T090723
CREATED:20250109T201433Z
LAST-MODIFIED:20250318T224405Z
UID:4904-1742580000-1742587200@fiaeastbay.org
SUMMARY:March4Family - Contra Costa County
DESCRIPTION:REGISTER
URL:https://fiaeastbay.org/event/richmond-peace-walk-20/
ATTACH;FMTTYPE=image/jpeg:https://fiaeastbay.org/wp-content/uploads/2025/01/RichmondMar21eng.jpg
END:VEVENT
BEGIN:VEVENT
DTSTART;TZID=America/Los_Angeles:20250321T180000
DTEND;TZID=America/Los_Angeles:20250321T200000
DTSTAMP:20260424T090723
CREATED:20241228T164548Z
LAST-MODIFIED:20250319T032551Z
UID:4896-1742580000-1742587200@fiaeastbay.org
SUMMARY:Ceasefire Night Walk
DESCRIPTION:The location of this Friday’s Ceasefire Night Walk has been moved from Tabernacle Missionary Baptist Church to St. Louis Bertrand Parish\, 1410 100th Ave.\, Oakland. On March 17 Derbing Alvarado was murdered nearby on International Blvd. This Night Walk is in memory of him.\n\nContact: doga@fiaeastbay.org
URL:https://fiaeastbay.org/event/ceasefire-night-walk-103/
ATTACH;FMTTYPE=image/png:https://fiaeastbay.org/wp-content/uploads/2024/12/St.-Louis-Bertrand-CF-4.png
END:VEVENT
BEGIN:VEVENT
DTSTART;TZID=America/Los_Angeles:20250314T180000
DTEND;TZID=America/Los_Angeles:20250314T200000
DTSTAMP:20260424T090723
CREATED:20241228T164424Z
LAST-MODIFIED:20241228T164425Z
UID:4894-1741975200-1741982400@fiaeastbay.org
SUMMARY:Ceasefire Night Walk
DESCRIPTION:Location: First Mt. Sinai\, 1970 86th Ave.\n\nNight walks:\n6pm: Gathering for pre-walk/corners process\n6:30pm: walk or stand on corners\n7:30pm: returned back to starting location or completed from the corners\nBy 7:45pm\, walk process completed\nFor more information\, please contact Alba Hernandez at alba@fiaeastbay.org
URL:https://fiaeastbay.org/event/ceasefire-night-walk-102/
ATTACH;FMTTYPE=image/png:https://fiaeastbay.org/wp-content/uploads/2021/12/OaklandCeasefire_cal.png
END:VEVENT
BEGIN:VEVENT
DTSTART;TZID=America/Los_Angeles:20250312T090000
DTEND;TZID=America/Los_Angeles:20250312T110000
DTSTAMP:20260424T090723
CREATED:20250306T203807Z
LAST-MODIFIED:20250306T204005Z
UID:4990-1741770000-1741777200@fiaeastbay.org
SUMMARY:Learn About the OUSD Budget Crisis
DESCRIPTION:
URL:https://fiaeastbay.org/event/learn-about-the-ousd-budget-crisis-2/
ATTACH;FMTTYPE=image/png:https://fiaeastbay.org/wp-content/uploads/2025/03/OUSDEdBudgetMarch12.png
END:VEVENT
BEGIN:VEVENT
DTSTART;TZID=America/Los_Angeles:20250308T100000
DTEND;TZID=America/Los_Angeles:20250308T150000
DTSTAMP:20260424T090723
CREATED:20250123T035808Z
LAST-MODIFIED:20250218T223416Z
UID:4931-1741428000-1741446000@fiaeastbay.org
SUMMARY:Immigration Forum
DESCRIPTION:
URL:https://fiaeastbay.org/event/immigration-forum-12/
ATTACH;FMTTYPE=image/png:https://fiaeastbay.org/wp-content/uploads/2025/01/ImForumMarch8CorpusChristi.png
END:VEVENT
BEGIN:VEVENT
DTSTART;TZID=America/Los_Angeles:20250306T180000
DTEND;TZID=America/Los_Angeles:20250306T200000
DTSTAMP:20260424T090723
CREATED:20250228T211716Z
LAST-MODIFIED:20250301T114155Z
UID:4979-1741284000-1741291200@fiaeastbay.org
SUMMARY:Statewide and Local Leadership Assembly
DESCRIPTION:REGISTER\n \nREGISTER
URL:https://fiaeastbay.org/event/statewide-and-local-leadership-assembly/
ATTACH;FMTTYPE=image/png:https://fiaeastbay.org/wp-content/uploads/2025/02/Mar6STDengs.png
END:VEVENT
BEGIN:VEVENT
DTSTART;TZID=America/Los_Angeles:20250303T183000
DTEND;TZID=America/Los_Angeles:20250303T193000
DTSTAMP:20260424T090723
CREATED:20250228T212434Z
LAST-MODIFIED:20250228T212521Z
UID:4983-1741026600-1741030200@fiaeastbay.org
SUMMARY:Know Your Rights Training
DESCRIPTION:
URL:https://fiaeastbay.org/event/know-your-rights-training-2/
ATTACH;FMTTYPE=image/png:https://fiaeastbay.org/wp-content/uploads/2025/02/StClementsMar3.png
END:VEVENT
BEGIN:VEVENT
DTSTART;TZID=America/Los_Angeles:20250301T110000
DTEND;TZID=America/Los_Angeles:20250301T120000
DTSTAMP:20260424T090723
CREATED:20250220T221806Z
LAST-MODIFIED:20250220T222814Z
UID:4971-1740826800-1740830400@fiaeastbay.org
SUMMARY:Know Your Rights Workshop
DESCRIPTION:REGISTER
URL:https://fiaeastbay.org/event/know-your-rights-workshop/
ATTACH;FMTTYPE=image/png:https://fiaeastbay.org/wp-content/uploads/2025/02/KYRmarch1eng.png
END:VEVENT
BEGIN:VEVENT
DTSTART;TZID=America/Los_Angeles:20250301T100000
DTEND;TZID=America/Los_Angeles:20250301T120000
DTSTAMP:20260424T090723
CREATED:20250215T225538Z
LAST-MODIFIED:20250215T225639Z
UID:4956-1740823200-1740830400@fiaeastbay.org
SUMMARY:District 2 Council Member Candidate Forum
DESCRIPTION:
URL:https://fiaeastbay.org/event/district-2-council-member-candidate-forum/
ATTACH;FMTTYPE=image/png:https://fiaeastbay.org/wp-content/uploads/2025/02/D2-Council-Member-Candidate-Forum-Clinton-Park-2.png
END:VEVENT
BEGIN:VEVENT
DTSTART;TZID=America/Los_Angeles:20250228T180000
DTEND;TZID=America/Los_Angeles:20250228T200000
DTSTAMP:20260424T090723
CREATED:20241228T164303Z
LAST-MODIFIED:20241228T164304Z
UID:4892-1740765600-1740772800@fiaeastbay.org
SUMMARY:Ceasefire Night Walk
DESCRIPTION:Location: At Thy Word\, 8915 International Blvd.\n\nNight walks:\n6pm: Gathering for pre-walk/corners process\n6:30pm: walk or stand on corners\n7:30pm: returned back to starting location or completed from the corners\nBy 7:45pm\, walk process completed\nFor more information\, please contact Alba Hernandez at alba@fiaeastbay.org
URL:https://fiaeastbay.org/event/ceasefire-night-walk-101/
ATTACH;FMTTYPE=image/png:https://fiaeastbay.org/wp-content/uploads/2021/12/OaklandCeasefire_cal.png
END:VEVENT
BEGIN:VEVENT
DTSTART;TZID=America/Los_Angeles:20250226T090000
DTEND;TZID=America/Los_Angeles:20250226T110000
DTSTAMP:20260424T090723
CREATED:20250215T225034Z
LAST-MODIFIED:20250215T225122Z
UID:4952-1740560400-1740567600@fiaeastbay.org
SUMMARY:Learn About the OUSD Budget Crisis
DESCRIPTION:
URL:https://fiaeastbay.org/event/learn-about-the-ousd-budget-crisis/
ATTACH;FMTTYPE=image/png:https://fiaeastbay.org/wp-content/uploads/2025/02/OUSDEdBudgetFeb26.png
END:VEVENT
BEGIN:VEVENT
DTSTART;TZID=America/Los_Angeles:20250222T093000
DTEND;TZID=America/Los_Angeles:20250222T113000
DTSTAMP:20260424T090723
CREATED:20250123T035727Z
LAST-MODIFIED:20250129T194116Z
UID:4929-1740216600-1740223800@fiaeastbay.org
SUMMARY:Immigration Know Your Rights Training
DESCRIPTION:
URL:https://fiaeastbay.org/event/immigration-know-your-rights-training-2/
ATTACH;FMTTYPE=image/png:https://fiaeastbay.org/wp-content/uploads/2025/01/Immigration-KYR_HAS.png
END:VEVENT
BEGIN:VEVENT
DTSTART;TZID=America/Los_Angeles:20250221T180000
DTEND;TZID=America/Los_Angeles:20250221T200000
DTSTAMP:20260424T090723
CREATED:20241228T164116Z
LAST-MODIFIED:20241228T164117Z
UID:4890-1740160800-1740168000@fiaeastbay.org
SUMMARY:Ceasefire Night Walk
DESCRIPTION:Location: St. Columba\, 6401 San Pablo Ave.\n\nNight walks:\n6pm: Gathering for pre-walk/corners process\n6:30pm: walk or stand on corners\n7:30pm: returned back to starting location or completed from the corners\nBy 7:45pm\, walk process completed\nFor more information\, please contact Alba Hernandez at alba@fiaeastbay.org
URL:https://fiaeastbay.org/event/ceasefire-night-walk-100/
ATTACH;FMTTYPE=image/png:https://fiaeastbay.org/wp-content/uploads/2021/12/OaklandCeasefire_cal.png
END:VEVENT
BEGIN:VEVENT
DTSTART;TZID=America/Los_Angeles:20250221T173000
DTEND;TZID=America/Los_Angeles:20250221T190000
DTSTAMP:20260424T090723
CREATED:20250211T223814Z
LAST-MODIFIED:20250212T005353Z
UID:4949-1740159000-1740164400@fiaeastbay.org
SUMMARY:Interfaith Immigration Vigil - Richmond
DESCRIPTION:
URL:https://fiaeastbay.org/event/interfaith-immigration-vigil-richmond/
ATTACH;FMTTYPE=image/png:https://fiaeastbay.org/wp-content/uploads/2025/02/Feb21Richmondvigil.png
END:VEVENT
BEGIN:VEVENT
DTSTART;TZID=America/Los_Angeles:20250220T170000
DTEND;TZID=America/Los_Angeles:20250220T190000
DTSTAMP:20260424T090723
CREATED:20250211T223516Z
LAST-MODIFIED:20250211T223855Z
UID:4945-1740070800-1740078000@fiaeastbay.org
SUMMARY:Interfaith Immigration March & Vigil
DESCRIPTION:
URL:https://fiaeastbay.org/event/interfaith-immigration-march-vigil/
ATTACH;FMTTYPE=image/png:https://fiaeastbay.org/wp-content/uploads/2025/02/Feb20Fvigil.png
END:VEVENT
BEGIN:VEVENT
DTSTART;TZID=America/Los_Angeles:20250215T163000
DTEND;TZID=America/Los_Angeles:20250215T173000
DTSTAMP:20260424T090723
CREATED:20250205T011301Z
LAST-MODIFIED:20250205T015512Z
UID:4939-1739637000-1739640600@fiaeastbay.org
SUMMARY:Know Your Rights Training
DESCRIPTION:
URL:https://fiaeastbay.org/event/know-your-rights-training/
ATTACH;FMTTYPE=image/png:https://fiaeastbay.org/wp-content/uploads/2025/02/SLBKYR.png
END:VEVENT
BEGIN:VEVENT
DTSTART;TZID=America/Los_Angeles:20250214T180000
DTEND;TZID=America/Los_Angeles:20250214T200000
DTSTAMP:20260424T090723
CREATED:20241228T164001Z
LAST-MODIFIED:20241228T164002Z
UID:4888-1739556000-1739563200@fiaeastbay.org
SUMMARY:Ceasefire Night Walk
DESCRIPTION:Location: First Mt. Sinai\, 1970 86th Ave.\n\nNight walks:\n6pm: Gathering for pre-walk/corners process\n6:30pm: walk or stand on corners\n7:30pm: returned back to starting location or completed from the corners\nBy 7:45pm\, walk process completed\nFor more information\, please contact Alba Hernandez at alba@fiaeastbay.org
URL:https://fiaeastbay.org/event/ceasefire-night-walk-99/
ATTACH;FMTTYPE=image/png:https://fiaeastbay.org/wp-content/uploads/2021/12/OaklandCeasefire_cal.png
END:VEVENT
BEGIN:VEVENT
DTSTART;TZID=America/Los_Angeles:20250131T180000
DTEND;TZID=America/Los_Angeles:20250131T200000
DTSTAMP:20260424T090723
CREATED:20241228T163751Z
LAST-MODIFIED:20241228T163751Z
UID:4886-1738346400-1738353600@fiaeastbay.org
SUMMARY:Ceasefire Night Walk
DESCRIPTION:Location: St. Benedict’s Church\, 2245 82nd Ave.\n\nNight walks:\n6pm: Gathering for pre-walk/corners process\n6:30pm: walk or stand on corners\n7:30pm: returned back to starting location or completed from the corners\nBy 7:45pm\, walk process completed\nFor more information\, please contact Alba Hernandez at alba@fiaeastbay.org
URL:https://fiaeastbay.org/event/ceasefire-night-walk-98/
ATTACH;FMTTYPE=image/png:https://fiaeastbay.org/wp-content/uploads/2021/12/OaklandCeasefire_cal.png
END:VEVENT
BEGIN:VEVENT
DTSTART;TZID=America/Los_Angeles:20250130T180000
DTEND;TZID=America/Los_Angeles:20250130T200000
DTSTAMP:20260424T090723
CREATED:20250123T014919Z
LAST-MODIFIED:20250123T015045Z
UID:4925-1738260000-1738267200@fiaeastbay.org
SUMMARY:Volunteer Rapid Response Training
DESCRIPTION:REGISTER\n \nREGISTER
URL:https://fiaeastbay.org/event/volunteer-rapid-response-training/
ATTACH;FMTTYPE=image/png:https://fiaeastbay.org/wp-content/uploads/2025/01/VRRTjan30_eng.png
END:VEVENT
END:VCALENDAR