BEGIN:VCALENDAR
VERSION:2.0
PRODID:-//Faith in  Action East Bay - ECPv6.15.20//NONSGML v1.0//EN
CALSCALE:GREGORIAN
METHOD:PUBLISH
X-WR-CALNAME:Faith in  Action East Bay
X-ORIGINAL-URL:https://fiaeastbay.org
X-WR-CALDESC:Events for Faith in  Action East Bay
REFRESH-INTERVAL;VALUE=DURATION:PT1H
X-Robots-Tag:noindex
X-PUBLISHED-TTL:PT1H
BEGIN:VTIMEZONE
TZID:America/Los_Angeles
BEGIN:DAYLIGHT
TZOFFSETFROM:-0800
TZOFFSETTO:-0700
TZNAME:PDT
DTSTART:20230312T100000
END:DAYLIGHT
BEGIN:STANDARD
TZOFFSETFROM:-0700
TZOFFSETTO:-0800
TZNAME:PST
DTSTART:20231105T090000
END:STANDARD
BEGIN:DAYLIGHT
TZOFFSETFROM:-0800
TZOFFSETTO:-0700
TZNAME:PDT
DTSTART:20240310T100000
END:DAYLIGHT
BEGIN:STANDARD
TZOFFSETFROM:-0700
TZOFFSETTO:-0800
TZNAME:PST
DTSTART:20241103T090000
END:STANDARD
BEGIN:DAYLIGHT
TZOFFSETFROM:-0800
TZOFFSETTO:-0700
TZNAME:PDT
DTSTART:20250309T100000
END:DAYLIGHT
BEGIN:STANDARD
TZOFFSETFROM:-0700
TZOFFSETTO:-0800
TZNAME:PST
DTSTART:20251102T090000
END:STANDARD
BEGIN:DAYLIGHT
TZOFFSETFROM:-0800
TZOFFSETTO:-0700
TZNAME:PDT
DTSTART:20260308T100000
END:DAYLIGHT
BEGIN:STANDARD
TZOFFSETFROM:-0700
TZOFFSETTO:-0800
TZNAME:PST
DTSTART:20261101T090000
END:STANDARD
END:VTIMEZONE
BEGIN:VEVENT
DTSTART;TZID=America/Los_Angeles:20250215T163000
DTEND;TZID=America/Los_Angeles:20250215T173000
DTSTAMP:20260424T055205
CREATED:20250205T011301Z
LAST-MODIFIED:20250205T015512Z
UID:4939-1739637000-1739640600@fiaeastbay.org
SUMMARY:Know Your Rights Training
DESCRIPTION:
URL:https://fiaeastbay.org/event/know-your-rights-training/
ATTACH;FMTTYPE=image/png:https://fiaeastbay.org/wp-content/uploads/2025/02/SLBKYR.png
END:VEVENT
BEGIN:VEVENT
DTSTART;TZID=America/Los_Angeles:20250214T180000
DTEND;TZID=America/Los_Angeles:20250214T200000
DTSTAMP:20260424T055205
CREATED:20241228T164001Z
LAST-MODIFIED:20241228T164002Z
UID:4888-1739556000-1739563200@fiaeastbay.org
SUMMARY:Ceasefire Night Walk
DESCRIPTION:Location: First Mt. Sinai\, 1970 86th Ave.\n\nNight walks:\n6pm: Gathering for pre-walk/corners process\n6:30pm: walk or stand on corners\n7:30pm: returned back to starting location or completed from the corners\nBy 7:45pm\, walk process completed\nFor more information\, please contact Alba Hernandez at alba@fiaeastbay.org
URL:https://fiaeastbay.org/event/ceasefire-night-walk-99/
ATTACH;FMTTYPE=image/png:https://fiaeastbay.org/wp-content/uploads/2021/12/OaklandCeasefire_cal.png
END:VEVENT
BEGIN:VEVENT
DTSTART;TZID=America/Los_Angeles:20250131T180000
DTEND;TZID=America/Los_Angeles:20250131T200000
DTSTAMP:20260424T055205
CREATED:20241228T163751Z
LAST-MODIFIED:20241228T163751Z
UID:4886-1738346400-1738353600@fiaeastbay.org
SUMMARY:Ceasefire Night Walk
DESCRIPTION:Location: St. Benedict’s Church\, 2245 82nd Ave.\n\nNight walks:\n6pm: Gathering for pre-walk/corners process\n6:30pm: walk or stand on corners\n7:30pm: returned back to starting location or completed from the corners\nBy 7:45pm\, walk process completed\nFor more information\, please contact Alba Hernandez at alba@fiaeastbay.org
URL:https://fiaeastbay.org/event/ceasefire-night-walk-98/
ATTACH;FMTTYPE=image/png:https://fiaeastbay.org/wp-content/uploads/2021/12/OaklandCeasefire_cal.png
END:VEVENT
BEGIN:VEVENT
DTSTART;TZID=America/Los_Angeles:20250130T180000
DTEND;TZID=America/Los_Angeles:20250130T200000
DTSTAMP:20260424T055205
CREATED:20250123T014919Z
LAST-MODIFIED:20250123T015045Z
UID:4925-1738260000-1738267200@fiaeastbay.org
SUMMARY:Volunteer Rapid Response Training
DESCRIPTION:REGISTER\n \nREGISTER
URL:https://fiaeastbay.org/event/volunteer-rapid-response-training/
ATTACH;FMTTYPE=image/png:https://fiaeastbay.org/wp-content/uploads/2025/01/VRRTjan30_eng.png
END:VEVENT
BEGIN:VEVENT
DTSTART;TZID=America/Los_Angeles:20250125T110000
DTEND;TZID=America/Los_Angeles:20250125T130000
DTSTAMP:20260424T055205
CREATED:20250123T014040Z
LAST-MODIFIED:20250123T035448Z
UID:4922-1737802800-1737810000@fiaeastbay.org
SUMMARY:Alameda County DA Candidate Forum
DESCRIPTION:Alameda County DA Candidate Forum\, Hybrid\nCome join us at the DA Candidate Forum on Saturday\, Jan. 25th to hear from all the candidates running for District Attorney!Date: Saturday\, January 25th from 11am-1pm\nLocation: Online and in person at Lakeshore Avenue Baptist Church\,\n3534 Lakeshore Avenue\, Oakland\, 94610 \nFollowing Alameda County’s District Attorney Recall\, the County Board of Supervisors are tasked to appoint a new DA on February 4th. Community coalitions focused on progressive solutions to public safety and re-entry are organizing a public community forum to give residents the opportunity to hear directly from the candidates applying for the position. \nThis hybrid event will provide an opportunity for residents to learn more about each candidate’s platform\, hear their stances on pressing community issues like public safety\, restorative justice\, police accountability\, diversion\, and more. Hear directly from the candidates & share your voice about about what justice should look like in our community. Alameda County Supervisors are also invited to join the forum to hear community’s priorities and inform their deliberation. \nREGISTER
URL:https://fiaeastbay.org/event/alameda-county-da-candidate-forum/
ATTACH;FMTTYPE=image/png:https://fiaeastbay.org/wp-content/uploads/2025/01/DA2025sm.png
END:VEVENT
BEGIN:VEVENT
DTSTART;TZID=America/Los_Angeles:20250124T180000
DTEND;TZID=America/Los_Angeles:20250124T200000
DTSTAMP:20260424T055205
CREATED:20241228T163640Z
LAST-MODIFIED:20241228T163640Z
UID:4884-1737741600-1737748800@fiaeastbay.org
SUMMARY:Ceasefire Night Walk
DESCRIPTION:Location: At Thy Word\, 8915 International Blvd.\n\nNight walks:\n6pm: Gathering for pre-walk/corners process\n6:30pm: walk or stand on corners\n7:30pm: returned back to starting location or completed from the corners\nBy 7:45pm\, walk process completed\nFor more information\, please contact Alba Hernandez at alba@fiaeastbay.org
URL:https://fiaeastbay.org/event/ceasefire-night-walk-97/
ATTACH;FMTTYPE=image/png:https://fiaeastbay.org/wp-content/uploads/2021/12/OaklandCeasefire_cal.png
END:VEVENT
BEGIN:VEVENT
DTSTART;TZID=America/Los_Angeles:20250120T093000
DTEND;TZID=America/Los_Angeles:20250120T103000
DTSTAMP:20260424T055205
CREATED:20250115T001936Z
LAST-MODIFIED:20250115T002811Z
UID:4915-1737365400-1737369000@fiaeastbay.org
SUMMARY:Interfaith MLK Service
DESCRIPTION:REGISTER \n \nREGISTER 
URL:https://fiaeastbay.org/event/interfaith-mlk-service/
ATTACH;FMTTYPE=image/png:https://fiaeastbay.org/wp-content/uploads/2025/01/MLKserviceJan20_2025sm.png
END:VEVENT
BEGIN:VEVENT
DTSTART;TZID=America/Los_Angeles:20250117T180000
DTEND;TZID=America/Los_Angeles:20250117T200000
DTSTAMP:20260424T055205
CREATED:20241228T163524Z
LAST-MODIFIED:20241228T163526Z
UID:4882-1737136800-1737144000@fiaeastbay.org
SUMMARY:Ceasefire Night Walk
DESCRIPTION:Location: St. Patrick’s\, 1023 Peralta Street\n\nNight walks:\n6pm: Gathering for pre-walk/corners process\n6:30pm: walk or stand on corners\n7:30pm: returned back to starting location or completed from the corners\nBy 7:45pm\, walk process completed\nFor more information\, please contact Alba Hernandez at alba@fiaeastbay.org
URL:https://fiaeastbay.org/event/ceasefire-night-walk-96/
ATTACH;FMTTYPE=image/png:https://fiaeastbay.org/wp-content/uploads/2021/12/OaklandCeasefire_cal.png
END:VEVENT
BEGIN:VEVENT
DTSTART;TZID=America/Los_Angeles:20250117T180000
DTEND;TZID=America/Los_Angeles:20250117T190000
DTSTAMP:20260424T055205
CREATED:20241118T150223Z
LAST-MODIFIED:20241228T162918Z
UID:4784-1737136800-1737140400@fiaeastbay.org
SUMMARY:Richmond Peace Walk
DESCRIPTION:
URL:https://fiaeastbay.org/event/richmond-peace-walk-18/
ATTACH;FMTTYPE=image/png:https://fiaeastbay.org/wp-content/uploads/2024/11/RichmondPWsm.png
END:VEVENT
BEGIN:VEVENT
DTSTART;TZID=America/Los_Angeles:20250110T180000
DTEND;TZID=America/Los_Angeles:20250110T200000
DTSTAMP:20260424T055205
CREATED:20241228T163406Z
LAST-MODIFIED:20241228T163408Z
UID:4880-1736532000-1736539200@fiaeastbay.org
SUMMARY:Ceasefire Night Walk
DESCRIPTION:Location: First Mt. Sinai\, 1970 86th Ave.\n\nNight walks:\n6pm: Gathering for pre-walk/corners process\n6:30pm: walk or stand on corners\n7:30pm: returned back to starting location or completed from the corners\nBy 7:45pm\, walk process completed\nFor more information\, please contact Alba Hernandez at alba@fiaeastbay.org
URL:https://fiaeastbay.org/event/ceasefire-night-walk-95/
ATTACH;FMTTYPE=image/png:https://fiaeastbay.org/wp-content/uploads/2021/12/OaklandCeasefire_cal.png
END:VEVENT
BEGIN:VEVENT
DTSTART;TZID=America/Los_Angeles:20241230T100000
DTEND;TZID=America/Los_Angeles:20241230T110000
DTSTAMP:20260424T055205
CREATED:20241227T152058Z
LAST-MODIFIED:20241227T152059Z
UID:4878-1735552800-1735556400@fiaeastbay.org
SUMMARY:Ceasefire Press Conference
DESCRIPTION:For Immediate Release: Press Conference to Discuss Oakland’s Safest Year Since the Pandemic\nContact: Barbara Lafitte-Oluwole\, 510-331-3790\, lafitteolu@fiaeastbay.org \nFaith in Action East Bay’s Public Safety Committee and Ceasefire Night Walkers along with Oakland’s Ceasefire partners\, including representatives from the City of Oakland Department of Violence Prevention (DVP)\, will host a press conference at 10 a.m. Monday\, December 30\, 2024\, in the Meeting Hall at the Faith In Action East Bay (FIAEB) headquarters at 8400 Enterprise Way\, Suite 123\, Oakland\, CA 94621\, to discuss year-end reductions in gun violence and share community support for the Ceasefire strategy. \n“Our communities have never wavered from our support of the Ceasefire Strategy. We knew in the beginning\, in its struggle and in its success\, that Ceasefire saves lives — the lives of Black and Brown men in Oakland!” said Faith in Action East Bay organizer Alba Hernandez. \nThe City of Oakland will finish 2024 as the safest year since the start of the COVID pandemic. As of December 1\, there has been a 34% decrease in murders accompanied by a 34% reduction in non-fatal shootings relative to 2023. As Oakland’s primary violence reduction strategy\, Ceasefire seeks to identify individuals at very high risk of being involved in gun violence\, inform them of their risk\, and then offer them intensive community-based services such as life coaching\, workforce development\, and mental health care.
URL:https://fiaeastbay.org/event/ceasefire-press-conference/
ATTACH;FMTTYPE=image/png:https://fiaeastbay.org/wp-content/uploads/2021/12/OaklandCeasefire_cal.png
END:VEVENT
BEGIN:VEVENT
DTSTART;TZID=America/Los_Angeles:20241217T160000
DTEND;TZID=America/Los_Angeles:20241217T190000
DTSTAMP:20260424T055205
CREATED:20241211T021544Z
LAST-MODIFIED:20241211T023722Z
UID:4848-1734451200-1734462000@fiaeastbay.org
SUMMARY:Immigration Legal Clinic
DESCRIPTION:When: Tuesday\,December 17th @ 4:00PM ~ English\, Mam\, and Spanish \nWhere: Fremont High School Address: 4610 Foothill Blvd\, Oakland\, CA 94601 \nOrganized by the Oakland Unified School District\, and Centro Legal de la Raza \n▪ Know Your Rights: Learn what to do if you are approached by Immigration and Customs Enforcement (ICE) \n▪ Legal Orientation: Learn about the immigration system and asylum application process \nOpen to all families in Oakland Unified School District
URL:https://fiaeastbay.org/event/immigration-legal-clinic/
ATTACH;FMTTYPE=image/png:https://fiaeastbay.org/wp-content/uploads/2024/12/Iforum_sm.png
END:VEVENT
BEGIN:VEVENT
DTSTART;TZID=America/Los_Angeles:20241216T173000
DTEND;TZID=America/Los_Angeles:20241216T184500
DTSTAMP:20260424T055205
CREATED:20241124T234220Z
LAST-MODIFIED:20241124T234304Z
UID:4790-1734370200-1734374700@fiaeastbay.org
SUMMARY:PICO Virtual Leadership Assembly
DESCRIPTION:We have had quite a journey together this year.  There have been moments of celebration and moments of anger and loss.  And in the midst of it all\, we listened to our community and we took action.  \nOn Monday\, December 16th from 5:30 pm-6:45 pm we will be gathering virtually via zoom to reflect on our year together and how we prepare ourselves for the work ahead in 2025.  We will have time for sharing\, for learning\, and for music and song.  Finally\, we will have time to appreciate our choice to walk together in faith and spirit. \nREGISTER
URL:https://fiaeastbay.org/event/pico-virtual-leadership-assembly-2/
ATTACH;FMTTYPE=image/png:https://fiaeastbay.org/wp-content/uploads/2024/11/PICODecla.png
END:VEVENT
BEGIN:VEVENT
DTSTART;TZID=America/Los_Angeles:20241213T180000
DTEND;TZID=America/Los_Angeles:20241213T200000
DTSTAMP:20260424T055205
CREATED:20241009T211644Z
LAST-MODIFIED:20241009T211644Z
UID:4733-1734112800-1734120000@fiaeastbay.org
SUMMARY:Ceasefire Night Walk
DESCRIPTION:Location: St. Patrick’s\, 1023 Peralta Street\n\nNight walks:\n6pm: Gathering for pre-walk/corners process\n6:30pm: walk or stand on corners\n7:30pm: returned back to starting location or completed from the corners\nBy 7:45pm\, walk process completed\nFor more information\, please contact Alba Hernandez at alba@fiaeastbay.org
URL:https://fiaeastbay.org/event/ceasefire-night-walk-94/
ATTACH;FMTTYPE=image/png:https://fiaeastbay.org/wp-content/uploads/2021/12/OaklandCeasefire_cal.png
END:VEVENT
BEGIN:VEVENT
DTSTART;TZID=America/Los_Angeles:20241210T183000
DTEND;TZID=America/Los_Angeles:20241210T200000
DTSTAMP:20260424T055205
CREATED:20241125T234534Z
LAST-MODIFIED:20241202T161203Z
UID:4793-1733855400-1733860800@fiaeastbay.org
SUMMARY:Holiday Leadership Assembly
DESCRIPTION:REGISTER
URL:https://fiaeastbay.org/event/holiday-leadership-assembly/
ATTACH;FMTTYPE=image/png:https://fiaeastbay.org/wp-content/uploads/2024/11/RLADEC10sm.png
END:VEVENT
BEGIN:VEVENT
DTSTART;TZID=America/Los_Angeles:20241207T190000
DTEND;TZID=America/Los_Angeles:20241207T213000
DTSTAMP:20260424T055205
CREATED:20241022T014424Z
LAST-MODIFIED:20241112T144638Z
UID:4737-1733598000-1733607000@fiaeastbay.org
SUMMARY:Rise Up for Justice
DESCRIPTION:REGISTER\n \nREGISTER
URL:https://fiaeastbay.org/event/rise-up-for-justice-2/
ATTACH;FMTTYPE=image/png:https://fiaeastbay.org/wp-content/uploads/2024/10/RUFJeng2024.png
END:VEVENT
BEGIN:VEVENT
DTSTART;TZID=America/Los_Angeles:20241122T180000
DTEND;TZID=America/Los_Angeles:20241122T200000
DTSTAMP:20260424T055205
CREATED:20241009T211337Z
LAST-MODIFIED:20241009T211337Z
UID:4731-1732298400-1732305600@fiaeastbay.org
SUMMARY:Ceasefire Night Walk
DESCRIPTION:Location: At Thy Word\, 8915 International Blvd.\n\nNight walks:\n6pm: Gathering for pre-walk/corners process\n6:30pm: walk or stand on corners\n7:30pm: returned back to starting location or completed from the corners\nBy 7:45pm\, walk process completed\nFor more information\, please contact Alba Hernandez at alba@fiaeastbay.org
URL:https://fiaeastbay.org/event/ceasefire-night-walk-93/
ATTACH;FMTTYPE=image/png:https://fiaeastbay.org/wp-content/uploads/2021/12/OaklandCeasefire_cal.png
END:VEVENT
BEGIN:VEVENT
DTSTART;TZID=America/Los_Angeles:20241118T183000
DTEND;TZID=America/Los_Angeles:20241118T200000
DTSTAMP:20260424T055205
CREATED:20241104T191616Z
LAST-MODIFIED:20241104T192057Z
UID:4766-1731954600-1731960000@fiaeastbay.org
SUMMARY:Election Debrief and Reflection
DESCRIPTION:REGISTER
URL:https://fiaeastbay.org/event/election-debrief-and-reflection/
ATTACH;FMTTYPE=image/png:https://fiaeastbay.org/wp-content/uploads/2024/11/ElectionDebriefNov18sm.png
END:VEVENT
BEGIN:VEVENT
DTSTART;TZID=America/Los_Angeles:20241116T130000
DTEND;TZID=America/Los_Angeles:20241116T150000
DTSTAMP:20260424T055205
CREATED:20241029T211600Z
LAST-MODIFIED:20241029T211600Z
UID:4750-1731762000-1731769200@fiaeastbay.org
SUMMARY:A Conversation with Author Marshall Ganz
DESCRIPTION:Join the Alameda Labor Council\, Building Trades Council of Alameda\, and the UC Berkeley Labor Center for a talk by Marshall Ganz\, senior lecturer in leadership\, organizing\, and civil society at Harvard’s Kennedy School and one of the country’s leading voices on democratic organizing. \nHe has distilled decades of insights into his new book\, People\, Power\, Change: Organizing for Democratic Renewal. Written in the tradition of classics like Saul Alinsky’s 1972 Rules for Radicals\, Ganz’s book is both a practical guide on how to reclaim democratic power and an inspiring call for collective organizing as an essential driver of democracy. \nSaturday\, November 16\, 2024\n1:00–3:00 pm \nAlameda Labor Council\n7750 Pardee Ln Ste 110\, Oakland\, CA 94621 \nREGISTER
URL:https://fiaeastbay.org/event/a-conversation-with-author-marshall-ganz/
ATTACH;FMTTYPE=image/png:https://fiaeastbay.org/wp-content/uploads/2024/10/MGanz.png
END:VEVENT
BEGIN:VEVENT
DTSTART;TZID=America/Los_Angeles:20241115T180000
DTEND;TZID=America/Los_Angeles:20241115T200000
DTSTAMP:20260424T055205
CREATED:20241009T211041Z
LAST-MODIFIED:20241009T211041Z
UID:4729-1731693600-1731700800@fiaeastbay.org
SUMMARY:Ceasefire Night Walk
DESCRIPTION:Location: Tabernacle Missionary Baptist Church\, 10115 Edes Ave.\n\nNight walks:\n6pm: Gathering for pre-walk/corners process\n6:30pm: walk or stand on corners\n7:30pm: returned back to starting location or completed from the corners\nBy 7:45pm\, walk process completed\nFor more information\, please contact Alba Hernandez at alba@fiaeastbay.org
URL:https://fiaeastbay.org/event/ceasefire-night-walk-92/
ATTACH;FMTTYPE=image/png:https://fiaeastbay.org/wp-content/uploads/2021/12/OaklandCeasefire_cal.png
END:VEVENT
BEGIN:VEVENT
DTSTART;TZID=America/Los_Angeles:20241108T180000
DTEND;TZID=America/Los_Angeles:20241108T200000
DTSTAMP:20260424T055205
CREATED:20241009T210835Z
LAST-MODIFIED:20241009T210835Z
UID:4727-1731088800-1731096000@fiaeastbay.org
SUMMARY:Ceasefire Night Walk
DESCRIPTION:Location: First Mt. Sinai\, 1970 86th Ave.\n\nNight walks:\n6pm: Gathering for pre-walk/corners process\n6:30pm: walk or stand on corners\n7:30pm: returned back to starting location or completed from the corners\nBy 7:45pm\, walk process completed\nFor more information\, please contact Alba Hernandez at alba@fiaeastbay.org
URL:https://fiaeastbay.org/event/ceasefire-night-walk-91/
ATTACH;FMTTYPE=image/png:https://fiaeastbay.org/wp-content/uploads/2021/12/OaklandCeasefire_cal.png
END:VEVENT
BEGIN:VEVENT
DTSTART;TZID=America/Los_Angeles:20241105T190000
DTEND;TZID=America/Los_Angeles:20241105T210000
DTSTAMP:20260424T055205
CREATED:20241029T224759Z
LAST-MODIFIED:20241029T224852Z
UID:4759-1730833200-1730840400@fiaeastbay.org
SUMMARY:Election Day Watch Party
DESCRIPTION:REGISTER
URL:https://fiaeastbay.org/event/election-watch-party/
ATTACH;FMTTYPE=image/png:https://fiaeastbay.org/wp-content/uploads/2024/10/WatchPartysm.png
END:VEVENT
BEGIN:VEVENT
DTSTART;TZID=America/Los_Angeles:20241105T160000
DTEND;TZID=America/Los_Angeles:20241105T190000
DTSTAMP:20260424T055205
CREATED:20241022T122622Z
LAST-MODIFIED:20241022T122622Z
UID:4741-1730822400-1730833200@fiaeastbay.org
SUMMARY:Election Day Prayer
DESCRIPTION:
URL:https://fiaeastbay.org/event/election-day-prayer/
ATTACH;FMTTYPE=image/jpeg:https://fiaeastbay.org/wp-content/uploads/2024/10/election-day-Prayer.jpg
END:VEVENT
BEGIN:VEVENT
DTSTART;TZID=America/Los_Angeles:20241101T180000
DTEND;TZID=America/Los_Angeles:20241101T200000
DTSTAMP:20260424T055205
CREATED:20241009T210117Z
LAST-MODIFIED:20241009T210117Z
UID:4723-1730484000-1730491200@fiaeastbay.org
SUMMARY:Ceasefire Night Walk
DESCRIPTION:Location: St. Columba\, 6401 San Pablo Ave.\n\nNight walks:\n6pm: Gathering for pre-walk/corners process\n6:30pm: walk or stand on corners\n7:30pm: returned back to starting location or completed from the corners\nBy 7:45pm\, walk process completed\nFor more information\, please contact Alba Hernandez at alba@fiaeastbay.org
URL:https://fiaeastbay.org/event/ceasefire-night-walk-90/
ATTACH;FMTTYPE=image/png:https://fiaeastbay.org/wp-content/uploads/2021/12/OaklandCeasefire_cal.png
END:VEVENT
BEGIN:VEVENT
DTSTART;TZID=America/Los_Angeles:20241031T160000
DTEND;TZID=America/Los_Angeles:20241031T190000
DTSTAMP:20260424T055205
CREATED:20241022T123045Z
LAST-MODIFIED:20241022T123045Z
UID:4744-1730390400-1730401200@fiaeastbay.org
SUMMARY:San Antonio Neighborhood Trick-or-Treat
DESCRIPTION:
URL:https://fiaeastbay.org/event/san-antonio-neighborhood-trick-or-treat/
ATTACH;FMTTYPE=image/png:https://fiaeastbay.org/wp-content/uploads/2024/10/Trick-or-Treat-Eng-2.png
END:VEVENT
BEGIN:VEVENT
DTSTART;TZID=America/Los_Angeles:20241030T173000
DTEND;TZID=America/Los_Angeles:20241030T193000
DTSTAMP:20260424T055205
CREATED:20240815T230430Z
LAST-MODIFIED:20241029T190403Z
UID:4603-1730309400-1730316600@fiaeastbay.org
SUMMARY:Phone Banking
DESCRIPTION:Volunteering to phone bank is a great opporturnity to encourage people to vote and empower the community with information about what will be on the ballot \nPhone Banking Opportunies from now until the election – Training Provided \nREGISTER:  tinyurl.com/fiaebthursdays
URL:https://fiaeastbay.org/event/phone-banking-22/
ATTACH;FMTTYPE=image/png:https://fiaeastbay.org/wp-content/uploads/2024/08/voteIMG.png
END:VEVENT
BEGIN:VEVENT
DTSTART;TZID=America/Los_Angeles:20241029T180000
DTEND;TZID=America/Los_Angeles:20241029T200000
DTSTAMP:20260424T055205
CREATED:20240815T230342Z
LAST-MODIFIED:20240815T235854Z
UID:4601-1730224800-1730232000@fiaeastbay.org
SUMMARY:Phone Banking
DESCRIPTION:Volunteering to phone bank is a great opporturnity to encourage people to vote and empower the community with information about what will be on the ballot \nPhone Banking Opportunies from now until the election – Training Provided \nREGISTER \n\nTuesdays on zoom from 6 – 8 p.m.: tinyurl.com/fiaebtuesdays\nThursdays on zoom from 5:30 – 7:30 p.m.:  tinyurl.com/fiaebthursdays
URL:https://fiaeastbay.org/event/phone-banking-21/
ATTACH;FMTTYPE=image/png:https://fiaeastbay.org/wp-content/uploads/2024/08/voteIMG.png
END:VEVENT
BEGIN:VEVENT
DTSTART;TZID=America/Los_Angeles:20241025T180000
DTEND;TZID=America/Los_Angeles:20241025T200000
DTSTAMP:20260424T055205
CREATED:20241009T205714Z
LAST-MODIFIED:20241009T210512Z
UID:4719-1729879200-1729886400@fiaeastbay.org
SUMMARY:Ceasefire Night Walk
DESCRIPTION:Location: At Thy Word\, 8915 International Blvd.\n\nNight walks:\n6pm: Gathering for pre-walk/corners process\n6:30pm: walk or stand on corners\n7:30pm: returned back to starting location or completed from the corners\nBy 7:45pm\, walk process completed\nFor more information\, please contact Alba Hernandez at alba@fiaeastbay.org
URL:https://fiaeastbay.org/event/ceasefire-night-walk-88/
ATTACH;FMTTYPE=image/png:https://fiaeastbay.org/wp-content/uploads/2021/12/OaklandCeasefire_cal.png
END:VEVENT
BEGIN:VEVENT
DTSTART;TZID=America/Los_Angeles:20241024T173000
DTEND;TZID=America/Los_Angeles:20241024T193000
DTSTAMP:20260424T055205
CREATED:20240815T230222Z
LAST-MODIFIED:20240815T235813Z
UID:4599-1729791000-1729798200@fiaeastbay.org
SUMMARY:Phone Banking
DESCRIPTION:Volunteering to phone bank is a great opporturnity to encourage people to vote and empower the community with information about what will be on the ballot \nPhone Banking Opportunies from now until the election – Training Provided \nREGISTER \n\nTuesdays on zoom from 6 – 8 p.m.: tinyurl.com/fiaebtuesdays\nThursdays on zoom from 5:30 – 7:30 p.m.:  tinyurl.com/fiaebthursdays
URL:https://fiaeastbay.org/event/phone-banking-20/
ATTACH;FMTTYPE=image/png:https://fiaeastbay.org/wp-content/uploads/2024/08/voteIMG.png
END:VEVENT
BEGIN:VEVENT
DTSTART;TZID=America/Los_Angeles:20241023T190000
DTEND;TZID=America/Los_Angeles:20241023T200000
DTSTAMP:20260424T055205
CREATED:20240917T163545Z
LAST-MODIFIED:20241001T221903Z
UID:4683-1729710000-1729713600@fiaeastbay.org
SUMMARY:Pros and Cons Presentation
DESCRIPTION:REGISTER for Oct. 23
URL:https://fiaeastbay.org/event/pros-and-cons-presentation-2/
ATTACH;FMTTYPE=image/png:https://fiaeastbay.org/wp-content/uploads/2024/09/ProsConsOct23.png
END:VEVENT
END:VCALENDAR