BEGIN:VCALENDAR
VERSION:2.0
PRODID:-//Faith in  Action East Bay - ECPv6.15.20//NONSGML v1.0//EN
CALSCALE:GREGORIAN
METHOD:PUBLISH
X-WR-CALNAME:Faith in  Action East Bay
X-ORIGINAL-URL:https://fiaeastbay.org
X-WR-CALDESC:Events for Faith in  Action East Bay
REFRESH-INTERVAL;VALUE=DURATION:PT1H
X-Robots-Tag:noindex
X-PUBLISHED-TTL:PT1H
BEGIN:VTIMEZONE
TZID:America/Los_Angeles
BEGIN:DAYLIGHT
TZOFFSETFROM:-0800
TZOFFSETTO:-0700
TZNAME:PDT
DTSTART:20230312T100000
END:DAYLIGHT
BEGIN:STANDARD
TZOFFSETFROM:-0700
TZOFFSETTO:-0800
TZNAME:PST
DTSTART:20231105T090000
END:STANDARD
BEGIN:DAYLIGHT
TZOFFSETFROM:-0800
TZOFFSETTO:-0700
TZNAME:PDT
DTSTART:20240310T100000
END:DAYLIGHT
BEGIN:STANDARD
TZOFFSETFROM:-0700
TZOFFSETTO:-0800
TZNAME:PST
DTSTART:20241103T090000
END:STANDARD
BEGIN:DAYLIGHT
TZOFFSETFROM:-0800
TZOFFSETTO:-0700
TZNAME:PDT
DTSTART:20250309T100000
END:DAYLIGHT
BEGIN:STANDARD
TZOFFSETFROM:-0700
TZOFFSETTO:-0800
TZNAME:PST
DTSTART:20251102T090000
END:STANDARD
END:VTIMEZONE
BEGIN:VEVENT
DTSTART;TZID=America/Los_Angeles:20241022T180000
DTEND;TZID=America/Los_Angeles:20241022T200000
DTSTAMP:20260424T074240
CREATED:20240815T230138Z
LAST-MODIFIED:20240815T235738Z
UID:4597-1729620000-1729627200@fiaeastbay.org
SUMMARY:Phone Banking
DESCRIPTION:Volunteering to phone bank is a great opporturnity to encourage people to vote and empower the community with information about what will be on the ballot \nPhone Banking Opportunies from now until the election – Training Provided \nREGISTER \n\nTuesdays on zoom from 6 – 8 p.m.: tinyurl.com/fiaebtuesdays\nThursdays on zoom from 5:30 – 7:30 p.m.:  tinyurl.com/fiaebthursdays
URL:https://fiaeastbay.org/event/phone-banking-19/
ATTACH;FMTTYPE=image/png:https://fiaeastbay.org/wp-content/uploads/2024/08/voteIMG.png
END:VEVENT
BEGIN:VEVENT
DTSTART;TZID=America/Los_Angeles:20241018T180000
DTEND;TZID=America/Los_Angeles:20241018T200000
DTSTAMP:20260424T074240
CREATED:20241009T205513Z
LAST-MODIFIED:20241009T205513Z
UID:4715-1729274400-1729281600@fiaeastbay.org
SUMMARY:Ceasefire Night Walk
DESCRIPTION:
URL:https://fiaeastbay.org/event/ceasefire-night-walk-87/
ATTACH;FMTTYPE=image/png:https://fiaeastbay.org/wp-content/uploads/2024/10/WVCFwalkOct18_eng.png
END:VEVENT
BEGIN:VEVENT
DTSTART;TZID=America/Los_Angeles:20241018T180000
DTEND;TZID=America/Los_Angeles:20241018T193000
DTSTAMP:20260424T074240
CREATED:20240826T193833Z
LAST-MODIFIED:20241009T201446Z
UID:4635-1729274400-1729279800@fiaeastbay.org
SUMMARY:Richmond Peace Walk
DESCRIPTION:
URL:https://fiaeastbay.org/event/richmond-peace-walk-17/
ATTACH;FMTTYPE=image/png:https://fiaeastbay.org/wp-content/uploads/2024/08/richmondsm.png
END:VEVENT
BEGIN:VEVENT
DTSTART;TZID=America/Los_Angeles:20241017T180000
DTEND;TZID=America/Los_Angeles:20241017T190000
DTSTAMP:20260424T074240
CREATED:20241009T201002Z
LAST-MODIFIED:20241009T201101Z
UID:4709-1729188000-1729191600@fiaeastbay.org
SUMMARY:Faith and Organizing in Africa
DESCRIPTION:Faith In Action East Bay & St. Columba Church invite you to join us for a conversation with Pr. John Rutsindintwarane \nFaith and Organizing in Africa\nTransforming people and uniting communities to build schools\, clinics\, and roads and address climate change.\nThursday\, October 17th\, 6:00 PM \nSt. Columba Church | 6401 San Pablo Avenue | Oakland\, CA 94608 \nRefreshments will be served. Donations to Faith in Action International are welcome! All donations will be matched. Feel free to invite friends and family. \nINFO: Barbara Lafitte-Oluwole at 510-331-3790 or lafitteolu@fiaeastbay.org\nFr. John Baumann at jbaumann@faithinaction.org \nwww.faithinactioninternational.org; https://www.facebook.com/FIAInternational \nRSVP\n  \n 
URL:https://fiaeastbay.org/event/faith-and-organizing-in-africa/
ATTACH;FMTTYPE=image/png:https://fiaeastbay.org/wp-content/uploads/2024/10/JohR.png
END:VEVENT
BEGIN:VEVENT
DTSTART;TZID=America/Los_Angeles:20241017T173000
DTEND;TZID=America/Los_Angeles:20241017T193000
DTSTAMP:20260424T074240
CREATED:20240815T230007Z
LAST-MODIFIED:20240815T235706Z
UID:4595-1729186200-1729193400@fiaeastbay.org
SUMMARY:Phone Banking
DESCRIPTION:Volunteering to phone bank is a great opporturnity to encourage people to vote and empower the community with information about what will be on the ballot \nPhone Banking Opportunies from now until the election – Training Provided \nREGISTER \n\nTuesdays on zoom from 6 – 8 p.m.: tinyurl.com/fiaebtuesdays\nThursdays on zoom from 5:30 – 7:30 p.m.:  tinyurl.com/fiaebthursdays
URL:https://fiaeastbay.org/event/phone-banking-18/
ATTACH;FMTTYPE=image/png:https://fiaeastbay.org/wp-content/uploads/2024/08/voteIMG.png
END:VEVENT
BEGIN:VEVENT
DTSTART;TZID=America/Los_Angeles:20241015T180000
DTEND;TZID=America/Los_Angeles:20241015T200000
DTSTAMP:20260424T074240
CREATED:20240815T225826Z
LAST-MODIFIED:20240815T235628Z
UID:4593-1729015200-1729022400@fiaeastbay.org
SUMMARY:Phone Banking
DESCRIPTION:Volunteering to phone bank is a great opporturnity to encourage people to vote and empower the community with information about what will be on the ballot \nPhone Banking Opportunies from now until the election – Training Provided \nREGISTER \n\nTuesdays on zoom from 6 – 8 p.m.: tinyurl.com/fiaebtuesdays\nThursdays on zoom from 5:30 – 7:30 p.m.:  tinyurl.com/fiaebthursdays
URL:https://fiaeastbay.org/event/phone-banking-17/
ATTACH;FMTTYPE=image/png:https://fiaeastbay.org/wp-content/uploads/2024/08/voteIMG.png
END:VEVENT
BEGIN:VEVENT
DTSTART;TZID=America/Los_Angeles:20241011T180000
DTEND;TZID=America/Los_Angeles:20241011T200000
DTSTAMP:20260424T074240
CREATED:20241009T205040Z
LAST-MODIFIED:20241009T210326Z
UID:4713-1728669600-1728676800@fiaeastbay.org
SUMMARY:Ceasefire Night Walk
DESCRIPTION:Location: First Mt. Sinai\, 1970 86th Ave.\n\nNight walks:\n6pm: Gathering for pre-walk/corners process\n6:30pm: walk or stand on corners\n7:30pm: returned back to starting location or completed from the corners\nBy 7:45pm\, walk process completed\nFor more information\, please contact Alba Hernandez at alba@fiaeastbay.org
URL:https://fiaeastbay.org/event/ceasefire-night-walk-86/
ATTACH;FMTTYPE=image/png:https://fiaeastbay.org/wp-content/uploads/2021/12/OaklandCeasefire_cal.png
END:VEVENT
BEGIN:VEVENT
DTSTART;TZID=America/Los_Angeles:20241010T173000
DTEND;TZID=America/Los_Angeles:20241010T193000
DTSTAMP:20260424T074240
CREATED:20240815T225705Z
LAST-MODIFIED:20240815T235553Z
UID:4591-1728581400-1728588600@fiaeastbay.org
SUMMARY:Phone Banking
DESCRIPTION:Volunteering to phone bank is a great opporturnity to encourage people to vote and empower the community with information about what will be on the ballot \nPhone Banking Opportunies from now until the election – Training Provided \nREGISTER \n\nTuesdays on zoom from 6 – 8 p.m.: tinyurl.com/fiaebtuesdays\nThursdays on zoom from 5:30 – 7:30 p.m.:  tinyurl.com/fiaebthursdays
URL:https://fiaeastbay.org/event/phone-banking-16/
ATTACH;FMTTYPE=image/png:https://fiaeastbay.org/wp-content/uploads/2024/08/voteIMG.png
END:VEVENT
BEGIN:VEVENT
DTSTART;TZID=America/Los_Angeles:20241009T183000
DTEND;TZID=America/Los_Angeles:20241009T200000
DTSTAMP:20260424T074240
CREATED:20240923T224528Z
LAST-MODIFIED:20240923T224528Z
UID:4688-1728498600-1728504000@fiaeastbay.org
SUMMARY:Vote2024: A Virtual Voter Education Event
DESCRIPTION:
URL:https://fiaeastbay.org/event/vote2024-a-virtual-voter-education-event/
ATTACH;FMTTYPE=image/png:https://fiaeastbay.org/wp-content/uploads/2024/09/JusticeJam-VOTE-2024.png
END:VEVENT
BEGIN:VEVENT
DTSTART;TZID=America/Los_Angeles:20241009T080000
DTEND;TZID=America/Los_Angeles:20241009T170000
DTSTAMP:20260424T074240
CREATED:20241009T205910Z
LAST-MODIFIED:20241009T205910Z
UID:4721-1728460800-1728493200@fiaeastbay.org
SUMMARY:Ceasefire Night Walk
DESCRIPTION:Location: St. Columba\, 6401 San Pablo Ave.\n\nNight walks:\n6pm: Gathering for pre-walk/corners process\n6:30pm: walk or stand on corners\n7:30pm: returned back to starting location or completed from the corners\nBy 7:45pm\, walk process completed\nFor more information\, please contact Chris Moreno at chris@fiaeastbay.org
URL:https://fiaeastbay.org/event/ceasefire-night-walk-89/
ATTACH;FMTTYPE=image/png:https://fiaeastbay.org/wp-content/uploads/2021/12/OaklandCeasefire_cal.png
END:VEVENT
BEGIN:VEVENT
DTSTART;TZID=America/Los_Angeles:20241008T180000
DTEND;TZID=America/Los_Angeles:20241008T200000
DTSTAMP:20260424T074240
CREATED:20240815T225616Z
LAST-MODIFIED:20240815T235514Z
UID:4589-1728410400-1728417600@fiaeastbay.org
SUMMARY:Phone Banking
DESCRIPTION:Volunteering to phone bank is a great opporturnity to encourage people to vote and empower the community with information about what will be on the ballot \nPhone Banking Opportunies from now until the election – Training Provided \nREGISTER \n\nTuesdays on zoom from 6 – 8 p.m.: tinyurl.com/fiaebtuesdays\nThursdays on zoom from 5:30 – 7:30 p.m.:  tinyurl.com/fiaebthursdays
URL:https://fiaeastbay.org/event/phone-banking-15/
ATTACH;FMTTYPE=image/png:https://fiaeastbay.org/wp-content/uploads/2024/08/voteIMG.png
END:VEVENT
BEGIN:VEVENT
DTSTART;TZID=America/Los_Angeles:20241006T123000
DTEND;TZID=America/Los_Angeles:20241006T140000
DTSTAMP:20260424T074240
CREATED:20240905T221229Z
LAST-MODIFIED:20240905T221229Z
UID:4656-1728217800-1728223200@fiaeastbay.org
SUMMARY:LWVO Pros and Cons Presentation
DESCRIPTION:
URL:https://fiaeastbay.org/event/lwvo-pros-and-cons-presentation/
ATTACH;FMTTYPE=image/png:https://fiaeastbay.org/wp-content/uploads/2024/09/ProsConsOct6.png
END:VEVENT
BEGIN:VEVENT
DTSTART;TZID=America/Los_Angeles:20241003T180000
DTEND;TZID=America/Los_Angeles:20241003T200000
DTSTAMP:20260424T074240
CREATED:20241003T173141Z
LAST-MODIFIED:20241003T173141Z
UID:4695-1727978400-1727985600@fiaeastbay.org
SUMMARY:Oakland District 1 Candidate Forum
DESCRIPTION:
URL:https://fiaeastbay.org/event/oakland-district-1-candidate-forum/
ATTACH;FMTTYPE=image/png:https://fiaeastbay.org/wp-content/uploads/2024/10/D1forum.png
END:VEVENT
BEGIN:VEVENT
DTSTART;TZID=America/Los_Angeles:20241001T180000
DTEND;TZID=America/Los_Angeles:20241001T200000
DTSTAMP:20260424T074240
CREATED:20240815T225342Z
LAST-MODIFIED:20240815T235313Z
UID:4585-1727805600-1727812800@fiaeastbay.org
SUMMARY:Phone Banking
DESCRIPTION:Volunteering to phone bank is a great opporturnity to encourage people to vote and empower the community with information about what will be on the ballot \nPhone Banking Opportunies from now until the election – Training Provided \nREGISTER \n\nTuesdays on zoom from 6 – 8 p.m.: tinyurl.com/fiaebtuesdays\nThursdays on zoom from 5:30 – 7:30 p.m.:  tinyurl.com/fiaebthursdays
URL:https://fiaeastbay.org/event/phone-banking-13/
ATTACH;FMTTYPE=image/png:https://fiaeastbay.org/wp-content/uploads/2024/08/voteIMG.png
END:VEVENT
BEGIN:VEVENT
DTSTART;TZID=America/Los_Angeles:20240930T183000
DTEND;TZID=America/Los_Angeles:20240930T200000
DTSTAMP:20260424T074240
CREATED:20240927T201505Z
LAST-MODIFIED:20240927T201505Z
UID:4691-1727721000-1727726400@fiaeastbay.org
SUMMARY:Emergency Leadership Assembly
DESCRIPTION:REGISTER
URL:https://fiaeastbay.org/event/emergency-leadership-assembly/
ATTACH;FMTTYPE=image/png:https://fiaeastbay.org/wp-content/uploads/2024/09/RLA9_30_24.png
END:VEVENT
BEGIN:VEVENT
DTSTART;TZID=America/Los_Angeles:20240927T180000
DTEND;TZID=America/Los_Angeles:20240927T200000
DTSTAMP:20260424T074240
CREATED:20240619T004818Z
LAST-MODIFIED:20240619T004818Z
UID:4463-1727460000-1727467200@fiaeastbay.org
SUMMARY:Ceasefire Night Walk
DESCRIPTION:Location: St. Benedict’s Church\, 2245 82nd Ave.\n\nNight walks:\n6pm: Gathering for pre-walk/corners process\n6:30pm: walk or stand on corners\n7:30pm: returned back to starting location or completed from the corners\nBy 7:45pm\, walk process completed\nFor more information\, please contact Chris Moreno at chris@fiaeastbay.org
URL:https://fiaeastbay.org/event/ceasefire-night-walk-85/
ATTACH;FMTTYPE=image/png:https://fiaeastbay.org/wp-content/uploads/2021/12/OaklandCeasefire_cal.png
END:VEVENT
BEGIN:VEVENT
DTSTART;TZID=America/Los_Angeles:20240926T173000
DTEND;TZID=America/Los_Angeles:20240926T193000
DTSTAMP:20260424T074240
CREATED:20240815T225206Z
LAST-MODIFIED:20240815T233702Z
UID:4583-1727371800-1727379000@fiaeastbay.org
SUMMARY:Phone Banking
DESCRIPTION:Volunteering to phone bank is a great opporturnity to encourage people to vote and empower the community with information about what will be on the ballot \nPhone Banking Opportunies from now until the election – Training Provided \nREGISTER \n\nTuesdays on zoom from 6 – 8 p.m.: tinyurl.com/fiaebtuesdays\nThursdays on zoom from 5:30 – 7:30 p.m.:  tinyurl.com/fiaebthursdays
URL:https://fiaeastbay.org/event/phone-banking-12/
ATTACH;FMTTYPE=image/png:https://fiaeastbay.org/wp-content/uploads/2024/08/voteIMG.png
END:VEVENT
BEGIN:VEVENT
DTSTART;TZID=America/Los_Angeles:20240924T180000
DTEND;TZID=America/Los_Angeles:20240924T200000
DTSTAMP:20260424T074240
CREATED:20240815T225109Z
LAST-MODIFIED:20240815T233616Z
UID:4581-1727200800-1727208000@fiaeastbay.org
SUMMARY:Phone Banking
DESCRIPTION:Volunteering to phone bank is a great opporturnity to encourage people to vote and empower the community with information about what will be on the ballot \nPhone Banking Opportunies from now until the election – Training Provided \nREGISTER \n\nTuesdays on zoom from 6 – 8 p.m.: tinyurl.com/fiaebtuesdays\nThursdays on zoom from 5:30 – 7:30 p.m.:  tinyurl.com/fiaebthursdays
URL:https://fiaeastbay.org/event/phone-banking-11/
ATTACH;FMTTYPE=image/png:https://fiaeastbay.org/wp-content/uploads/2024/08/voteIMG.png
END:VEVENT
BEGIN:VEVENT
DTSTART;TZID=America/Los_Angeles:20240920T180000
DTEND;TZID=America/Los_Angeles:20240920T200000
DTSTAMP:20260424T074240
CREATED:20240619T004645Z
LAST-MODIFIED:20240619T004645Z
UID:4461-1726855200-1726862400@fiaeastbay.org
SUMMARY:Ceasefire Night Walk
DESCRIPTION:Location: At Thy Word\, 8915 International Blvd.\n\nNight walks:\n6pm: Gathering for pre-walk/corners process\n6:30pm: walk or stand on corners\n7:30pm: returned back to starting location or completed from the corners\nBy 7:45pm\, walk process completed\nFor more information\, please contact Chris Moreno at chris@fiaeastbay.org
URL:https://fiaeastbay.org/event/ceasefire-night-walk-84/
ATTACH;FMTTYPE=image/png:https://fiaeastbay.org/wp-content/uploads/2021/12/OaklandCeasefire_cal.png
END:VEVENT
BEGIN:VEVENT
DTSTART;TZID=America/Los_Angeles:20240920T180000
DTEND;TZID=America/Los_Angeles:20240920T193000
DTSTAMP:20260424T074240
CREATED:20240826T193221Z
LAST-MODIFIED:20240826T193221Z
UID:4633-1726855200-1726860600@fiaeastbay.org
SUMMARY:Richmond Peace Walk
DESCRIPTION:
URL:https://fiaeastbay.org/event/richmond-peace-walk-16/
ATTACH;FMTTYPE=image/png:https://fiaeastbay.org/wp-content/uploads/2024/08/RichmondPWSeptOct.png
END:VEVENT
BEGIN:VEVENT
DTSTART;TZID=America/Los_Angeles:20240919T173000
DTEND;TZID=America/Los_Angeles:20240919T193000
DTSTAMP:20260424T074240
CREATED:20240815T225005Z
LAST-MODIFIED:20240815T233531Z
UID:4579-1726767000-1726774200@fiaeastbay.org
SUMMARY:Phone Banking
DESCRIPTION:Volunteering to phone bank is a great opporturnity to encourage people to vote and empower the community with information about what will be on the ballot \nPhone Banking Opportunies from now until the election – Training Provided \nREGISTER \n\nTuesdays on zoom from 6 – 8 p.m.: tinyurl.com/fiaebtuesdays\nThursdays on zoom from 5:30 – 7:30 p.m.:  tinyurl.com/fiaebthursdays
URL:https://fiaeastbay.org/event/phone-banking-10/
ATTACH;FMTTYPE=image/png:https://fiaeastbay.org/wp-content/uploads/2024/08/voteIMG.png
END:VEVENT
BEGIN:VEVENT
DTSTART;TZID=America/Los_Angeles:20240918T180000
DTEND;TZID=America/Los_Angeles:20240918T193000
DTSTAMP:20260424T074240
CREATED:20240821T021932Z
LAST-MODIFIED:20240916T134215Z
UID:4628-1726682400-1726687800@fiaeastbay.org
SUMMARY:Union City Candidate Forum
DESCRIPTION:
URL:https://fiaeastbay.org/event/union-city-candidate-forum/
ATTACH;FMTTYPE=image/png:https://fiaeastbay.org/wp-content/uploads/2024/08/UnionCityCandidate_eng.png
END:VEVENT
BEGIN:VEVENT
DTSTART;TZID=America/Los_Angeles:20240917T180000
DTEND;TZID=America/Los_Angeles:20240917T200000
DTSTAMP:20260424T074240
CREATED:20240815T224908Z
LAST-MODIFIED:20240815T233455Z
UID:4577-1726596000-1726603200@fiaeastbay.org
SUMMARY:Phone Banking
DESCRIPTION:Volunteering to phone bank is a great opporturnity to encourage people to vote and empower the community with information about what will be on the ballot \nPhone Banking Opportunies from now until the election – Training Provided \nREGISTER \n\nTuesdays on zoom from 6 – 8 p.m.: tinyurl.com/fiaebtuesdays\nThursdays on zoom from 5:30 – 7:30 p.m.:  tinyurl.com/fiaebthursdays
URL:https://fiaeastbay.org/event/phone-banking-9/
ATTACH;FMTTYPE=image/png:https://fiaeastbay.org/wp-content/uploads/2024/08/voteIMG.png
END:VEVENT
BEGIN:VEVENT
DTSTART;TZID=America/Los_Angeles:20240916T180000
DTEND;TZID=America/Los_Angeles:20240916T200000
DTSTAMP:20260424T074240
CREATED:20240815T224651Z
LAST-MODIFIED:20240909T021123Z
UID:4573-1726509600-1726516800@fiaeastbay.org
SUMMARY:Phone Banking Training
DESCRIPTION:REGISTER\n \nREGISTER
URL:https://fiaeastbay.org/event/phone-banking-7/
ATTACH;FMTTYPE=image/png:https://fiaeastbay.org/wp-content/uploads/2024/08/PBSept16eng.png
END:VEVENT
BEGIN:VEVENT
DTSTART;TZID=America/Los_Angeles:20240913T180000
DTEND;TZID=America/Los_Angeles:20240913T200000
DTSTAMP:20260424T074240
CREATED:20240619T004455Z
LAST-MODIFIED:20240805T202550Z
UID:4459-1726250400-1726257600@fiaeastbay.org
SUMMARY:Ceasefire Night Walk
DESCRIPTION:Location:Allen Temple\, 8501 International Blvd.\nOakland Ceasefire 12 Year Anniversary Celebration\n\nNight walks:\n6pm: Gathering for pre-walk/corners process\n6:30pm: walk or stand on corners\n7:30pm: returned back to starting location or completed from the corners\nBy 7:45pm\, walk process completed\nFor more information\, please contact Chris Moreno at chris@fiaeastbay.org
URL:https://fiaeastbay.org/event/ceasefire-night-walk-83/
ATTACH;FMTTYPE=image/png:https://fiaeastbay.org/wp-content/uploads/2021/12/OaklandCeasefire_cal.png
END:VEVENT
BEGIN:VEVENT
DTSTART;TZID=America/Los_Angeles:20240912T173000
DTEND;TZID=America/Los_Angeles:20240912T190000
DTSTAMP:20260424T074240
CREATED:20240826T203529Z
LAST-MODIFIED:20240826T203529Z
UID:4638-1726162200-1726167600@fiaeastbay.org
SUMMARY:PICO CA Network Leadership Assembly
DESCRIPTION:The Statewide Leadership Council invites you to join our PICO CA Network Leadership Assembly on September 12th\, 2024 at 5:30pm. \nPlease register here \nAcross the state our PICO CA federations are moving towards a Moral Economy Agenda that is centered in our belief in the sacredness of people and the land we reside on.  If successful our efforts will: \n\n\nGenerate billions of $$ per year for housing for all the diverse families in our communities: people who are unhoused\, people living in poverty\, young people\, working families. \n\n\nProtect the progress we’ve made towards transforming our criminal justice system into one that is restorative — that heals and rehabilitates\, that treats mental health and substance abuse\, that provides people with the job training\, housing\, healthcare they need and deserve \n\n\nOver the next four months we\, the PICO CA network\, have a vital role to play in determining whether California chooses to put $26 billion into prisons (the largest single prison spending increase in the history of California)\, and eliminate $750 million in mental health\, education\, youth development\, and drug treatment programs OR protects the progress we’ve made towards transforming our criminal justice system into one that is restorative and creates opportunities for everyone to live into our belief that Home is Sacred. \nWe look forward to seeing you on September 12th to prepare ourselves for our collective journey. \nWarm regards\, \nThe State Leadership Council
URL:https://fiaeastbay.org/event/pico-ca-network-leadership-assembly/
ATTACH;FMTTYPE=image/png:https://fiaeastbay.org/wp-content/uploads/2024/08/PICOca.png
END:VEVENT
BEGIN:VEVENT
DTSTART;TZID=America/Los_Angeles:20240910T180000
DTEND;TZID=America/Los_Angeles:20240910T193000
DTSTAMP:20260424T074240
CREATED:20240906T142514Z
LAST-MODIFIED:20240906T142514Z
UID:4663-1725991200-1725996600@fiaeastbay.org
SUMMARY:Oakland Community Safety Town Hall
DESCRIPTION:
URL:https://fiaeastbay.org/event/oakland-community-safety-town-hall/
ATTACH;FMTTYPE=image/png:https://fiaeastbay.org/wp-content/uploads/2024/09/OakComSafety.png
END:VEVENT
BEGIN:VEVENT
DTSTART;TZID=America/Los_Angeles:20240910T120000
DTEND;TZID=America/Los_Angeles:20240910T133000
DTSTAMP:20260424T074240
CREATED:20240828T005408Z
LAST-MODIFIED:20240828T005408Z
UID:4642-1725969600-1725975000@fiaeastbay.org
SUMMARY:Affordable Housing on Faith Lands Training
DESCRIPTION:Signed into law on October 11\, 2023\, SB 4 makes it legal for faith-based institutions to build affordable\, multi-family homes on lands they own by streamlining the permitting process and overriding local zoning restrictions. Clergy are invited to come learn more about how the new law supports faith communities in utilizing their properties to contribute to a moral economy and affordable housing for all. \n\n\n\n\nRSVP
URL:https://fiaeastbay.org/event/affordable-housing-on-faith-lands-training/
ATTACH;FMTTYPE=image/png:https://fiaeastbay.org/wp-content/uploads/2024/08/FaithLandsSept24IG.png
END:VEVENT
BEGIN:VEVENT
DTSTART;TZID=America/Los_Angeles:20240909T180000
DTEND;TZID=America/Los_Angeles:20240909T200000
DTSTAMP:20260424T074240
CREATED:20240905T222735Z
LAST-MODIFIED:20240905T222735Z
UID:4659-1725904800-1725912000@fiaeastbay.org
SUMMARY:SANC Peace Walk
DESCRIPTION:
URL:https://fiaeastbay.org/event/sanc-peace-walk/
ATTACH;FMTTYPE=image/png:https://fiaeastbay.org/wp-content/uploads/2024/09/1-Eng-SM.png
END:VEVENT
BEGIN:VEVENT
DTSTART;TZID=America/Los_Angeles:20240905T173000
DTEND;TZID=America/Los_Angeles:20240905T193000
DTSTAMP:20260424T074240
CREATED:20240815T224545Z
LAST-MODIFIED:20240815T233210Z
UID:4571-1725557400-1725564600@fiaeastbay.org
SUMMARY:Phone Banking
DESCRIPTION:Volunteering to phone bank is a great opporturnity to encourage people to vote and empower the community with information about what will be on the ballot \nPhone Banking Opportunies from now until the election – Training Provided \nREGISTER \n\nTuesdays on zoom from 6 – 8 p.m.: tinyurl.com/fiaebtuesdays\nThursdays on zoom from 5:30 – 7:30 p.m.:  tinyurl.com/fiaebthursdays
URL:https://fiaeastbay.org/event/phone-banking-6/
ATTACH;FMTTYPE=image/png:https://fiaeastbay.org/wp-content/uploads/2024/08/voteIMG.png
END:VEVENT
END:VCALENDAR