BEGIN:VCALENDAR
VERSION:2.0
PRODID:-//Faith in  Action East Bay - ECPv6.15.20//NONSGML v1.0//EN
CALSCALE:GREGORIAN
METHOD:PUBLISH
X-WR-CALNAME:Faith in  Action East Bay
X-ORIGINAL-URL:https://fiaeastbay.org
X-WR-CALDESC:Events for Faith in  Action East Bay
REFRESH-INTERVAL;VALUE=DURATION:PT1H
X-Robots-Tag:noindex
X-PUBLISHED-TTL:PT1H
BEGIN:VTIMEZONE
TZID:America/Los_Angeles
BEGIN:DAYLIGHT
TZOFFSETFROM:-0800
TZOFFSETTO:-0700
TZNAME:PDT
DTSTART:20240310T100000
END:DAYLIGHT
BEGIN:STANDARD
TZOFFSETFROM:-0700
TZOFFSETTO:-0800
TZNAME:PST
DTSTART:20241103T090000
END:STANDARD
BEGIN:DAYLIGHT
TZOFFSETFROM:-0800
TZOFFSETTO:-0700
TZNAME:PDT
DTSTART:20250309T100000
END:DAYLIGHT
BEGIN:STANDARD
TZOFFSETFROM:-0700
TZOFFSETTO:-0800
TZNAME:PST
DTSTART:20251102T090000
END:STANDARD
BEGIN:DAYLIGHT
TZOFFSETFROM:-0800
TZOFFSETTO:-0700
TZNAME:PDT
DTSTART:20260308T100000
END:DAYLIGHT
BEGIN:STANDARD
TZOFFSETFROM:-0700
TZOFFSETTO:-0800
TZNAME:PST
DTSTART:20261101T090000
END:STANDARD
BEGIN:DAYLIGHT
TZOFFSETFROM:-0800
TZOFFSETTO:-0700
TZNAME:PDT
DTSTART:20270314T100000
END:DAYLIGHT
BEGIN:STANDARD
TZOFFSETFROM:-0700
TZOFFSETTO:-0800
TZNAME:PST
DTSTART:20271107T090000
END:STANDARD
END:VTIMEZONE
BEGIN:VEVENT
DTSTART;TZID=America/Los_Angeles:20260228T110000
DTEND;TZID=America/Los_Angeles:20260228T130000
DTSTAMP:20260423T154023
CREATED:20260226T025708Z
LAST-MODIFIED:20260226T025708Z
UID:5486-1772276400-1772283600@fiaeastbay.org
SUMMARY:Equitable Lead Hazard Abatement Program (ELHAP) Community Engagement
DESCRIPTION:The City of Oakland is holding community meetings this month to hear from tenants\, landlords and community members about a new program to address lead paint hazards in rental housing. \nHere’s why this matters: Lead poisoning is extremely harmful to kids and birthing people\, yet lead abetment efforts have stalled for years. We need to understand the cities plan and push them to implement it. Also\, city staff working on proactive rental inspections will also be at these meetings. That means this is a real opportunity to speak up about habitability issues rental units\, such as mold\, pests\, broken plumbing\, whatever your landlord may be ignoring. The city needs to hear directly from tenants about what’s happening in our buildings. \nJoin us at any of the engagements below: \nSat\, Feb 28 | 11am–1pm\nRoots Community Health\, East Oakland\n9925 International Blvd\, Oakland 94603\nSpanish & Mam interpretation available \nMon\, Mar 2 | 5:30–7:30pm\nOnline Community Meeting via Zoom\nSpanish & Mam interpretation available \nThese community meetings are free\, open to the public and include: food\, childcare\, and language interpretation. \nThese meetings are especially important for tenants who are low-income\, experiencing housing insecurity\, or have limited housing options. Your lived experience is exactly what the city needs to hear. \nREGISTER
URL:https://fiaeastbay.org/event/equitable-lead-hazard-abatement-program-elhap-community-engagement/
ATTACH;FMTTYPE=image/png:https://fiaeastbay.org/wp-content/uploads/2026/02/lead-abatement-paint-oakland-6.png
END:VEVENT
BEGIN:VEVENT
DTSTART;TZID=America/Los_Angeles:20260228T093000
DTEND;TZID=America/Los_Angeles:20260228T120000
DTSTAMP:20260423T154023
CREATED:20260226T023610Z
LAST-MODIFIED:20260226T023647Z
UID:5477-1772271000-1772280000@fiaeastbay.org
SUMMARY:Honoring Black Luminaries
DESCRIPTION:You are cordially invited to join Mayor Barbara Lee\, Mountain View Cemetery\, and members of our community as we gather at Mountain View Cemetery — the final resting place of many of Oakland’s most influential Black pioneers — to commemorate the 100th Anniversary of the national observance of Black History Month.\n\n\nOn these historic grounds\, we will honor 26 Black Oakland luminaries whose lives shaped our city’s civic\, cultural\, and political legacy and whose contributions continue to inspire generations.\n\n\nFrom Ida Louise Jackson\, California’s first Black public school teacher\, to Bobby Hutton of the Black Panther Party; from OUSD Superintendent Marcus Foster and pioneering attorney Washington Oglesby\, to Jenny Prentiss\, author Jack London’s beloved nanny — and Mildred Parish Massey\, a courageous civil rights pioneer and one of the NAACP plaintiffs who helped integrate the University of Texas at El Paso — these trailblazers helped define Oakland’s enduring spirit of courage\, excellence\, and progress.\n\n\nThis special program will include historical reflections\, an inspirational message from the Mayor’s Interfaith Advisory Council\, remarks from Mayor Barbara Lee\, and a guided docent tour honoring the luminaries interred at Mountain View Cemetery.\n\n\nTogether\, we will walk the grounds where their stories are preserved — honoring legacy\, restoring history\, and reflecting on the responsibility we carry forward.\n\n\nWhen: Saturday\, February 28th\n\n\nWhere: Mountain View Cemetery – Tower Chapel\nTime: 5000 Piedmont Avenue\, Oakland\, CA\n\n\nSpeaking Program: 9:30 AM – 10:00 AM\nDocent Tour: 10:00 AM – 12:00 PM\n\n\nREGISTER: https://bit.ly/40zO7Fy
URL:https://fiaeastbay.org/event/honoring-black-luminaries/
ATTACH;FMTTYPE=image/png:https://fiaeastbay.org/wp-content/uploads/2026/02/BlackLuminaries.png
END:VEVENT
BEGIN:VEVENT
DTSTART;TZID=America/Los_Angeles:20260227T180000
DTEND;TZID=America/Los_Angeles:20260227T200000
DTSTAMP:20260423T154023
CREATED:20260115T023702Z
LAST-MODIFIED:20260115T023702Z
UID:5440-1772215200-1772222400@fiaeastbay.org
SUMMARY:Ceasefire Night Walk
DESCRIPTION:Location: At Thy Word\, 8915 International Blvd.\, Oakland\n\nNight walks:\n6pm: Gathering for pre-walk/corners process\n6:30pm: walk or stand on corners\n7:30pm: returned back to starting location or completed from the corners\nBy 7:45pm\, walk process completed\nFor more information\, please contact alba@fiaeastbay.org
URL:https://fiaeastbay.org/event/ceasefire-night-walk-136/
ATTACH;FMTTYPE=image/png:https://fiaeastbay.org/wp-content/uploads/2021/12/OaklandCeasefire_cal.png
END:VEVENT
BEGIN:VEVENT
DTSTART;TZID=America/Los_Angeles:20260220T180000
DTEND;TZID=America/Los_Angeles:20260220T200000
DTSTAMP:20260423T154023
CREATED:20260115T023352Z
LAST-MODIFIED:20260115T023352Z
UID:5438-1771610400-1771617600@fiaeastbay.org
SUMMARY:Ceasefire Night Walk
DESCRIPTION:Location: St. Patrick’s\, 1023 Peralta St.\, Oakland\n\nNight walks:\n6pm: Gathering for pre-walk/corners process\n6:30pm: walk or stand on corners\n7:30pm: returned back to starting location or completed from the corners\nBy 7:45pm\, walk process completed\nFor more information\, please contact alba@fiaeastbay.org
URL:https://fiaeastbay.org/event/ceasefire-night-walk-135/
ATTACH;FMTTYPE=image/png:https://fiaeastbay.org/wp-content/uploads/2021/12/OaklandCeasefire_cal.png
END:VEVENT
BEGIN:VEVENT
DTSTART;TZID=America/Los_Angeles:20260213T180000
DTEND;TZID=America/Los_Angeles:20260213T200000
DTSTAMP:20260423T154023
CREATED:20260115T023016Z
LAST-MODIFIED:20260115T023221Z
UID:5436-1771005600-1771012800@fiaeastbay.org
SUMMARY:Ceasefire Night Walk
DESCRIPTION:Location: First Mt. Sinai\, 1970 86th Avenue\, Oakland\n\nNight walks:\n6pm: Gathering for pre-walk/corners process\n6:30pm: walk or stand on corners\n7:30pm: returned back to starting location or completed from the corners\nBy 7:45pm\, walk process completed\nFor more information\, please contact alba@fiaeastbay.org
URL:https://fiaeastbay.org/event/ceasefire-night-walk-134/
ATTACH;FMTTYPE=image/png:https://fiaeastbay.org/wp-content/uploads/2021/12/OaklandCeasefire_cal.png
END:VEVENT
BEGIN:VEVENT
DTSTART;TZID=America/Los_Angeles:20260202T180000
DTEND;TZID=America/Los_Angeles:20260202T193000
DTSTAMP:20260423T154023
CREATED:20260127T041308Z
LAST-MODIFIED:20260127T041309Z
UID:5458-1770055200-1770060600@fiaeastbay.org
SUMMARY:Regional Assembly
DESCRIPTION:REGISTER
URL:https://fiaeastbay.org/event/regional-assembly-5/
ATTACH;FMTTYPE=image/png:https://fiaeastbay.org/wp-content/uploads/2026/01/RAfeb2.png
END:VEVENT
BEGIN:VEVENT
DTSTART;TZID=America/Los_Angeles:20260130T180000
DTEND;TZID=America/Los_Angeles:20260130T200000
DTSTAMP:20260423T154023
CREATED:20260115T022819Z
LAST-MODIFIED:20260115T023138Z
UID:5434-1769796000-1769803200@fiaeastbay.org
SUMMARY:Ceasefire Night Walk
DESCRIPTION:Location: At Thy Word\, 8915 International Blvd.\, Oakland\n\nNight walks:\n6pm: Gathering for pre-walk/corners process\n6:30pm: walk or stand on corners\n7:30pm: returned back to starting location or completed from the corners\nBy 7:45pm\, walk process completed\nFor more information\, please contact alba@fiaeastbay.org
URL:https://fiaeastbay.org/event/ceasefire-night-walk-133/
ATTACH;FMTTYPE=image/png:https://fiaeastbay.org/wp-content/uploads/2021/12/OaklandCeasefire_cal.png
END:VEVENT
BEGIN:VEVENT
DTSTART;TZID=America/Los_Angeles:20260124T100000
DTEND;TZID=America/Los_Angeles:20260124T150000
DTSTAMP:20260423T154023
CREATED:20251121T011223Z
LAST-MODIFIED:20251210T205621Z
UID:5397-1769248800-1769266800@fiaeastbay.org
SUMMARY:Statewide Host Assembly
DESCRIPTION:When/Cuando: Saturday\, January 24 / Sábado\, 24 de Enero\nWhere/Donde: South Sacramento Christian Center\n7710 Stockton Blvd\nSacramento\, CA 95823\nWhy/Porque: We will gather all our House Meeting Hosts and Leaders to celebrate the life and legacy of Rev. Dr. Martin Luther King Jr. and to re-affirm our commitment to the fight for racial and economic justice in our state. \n\nReuniremos a todos nuestros Anfitriones de Reuniones en Casa y Líderes para celebrar la vida y el legado del Rev. Dr. Martin Luther King Jr. y para reafirmar nuestro compromiso con la lucha por la justicia racial y económica en nuestro estado.  \nRegistration Link/Enlace de registracion: https://web.cvent.com/event/e61c0ce8-233b-4596-b3ff-395e8900c192/summary
URL:https://fiaeastbay.org/event/statewide-host-assembly/
END:VEVENT
BEGIN:VEVENT
DTSTART;TZID=America/Los_Angeles:20260123T180000
DTEND;TZID=America/Los_Angeles:20260123T200000
DTSTAMP:20260423T154023
CREATED:20260115T021847Z
LAST-MODIFIED:20260115T023102Z
UID:5432-1769191200-1769198400@fiaeastbay.org
SUMMARY:Ceasefire Night Walk
DESCRIPTION:Location: St. Columba\, 6401 San Pablo Ave.\, Oakland\n\nNight walks:\n6pm: Gathering for pre-walk/corners process\n6:30pm: walk or stand on corners\n7:30pm: returned back to starting location or completed from the corners\nBy 7:45pm\, walk process completed\nFor more information\, please contact alba@fiaeastbay.org
URL:https://fiaeastbay.org/event/ceasefire-night-walk-132/
ATTACH;FMTTYPE=image/png:https://fiaeastbay.org/wp-content/uploads/2021/12/OaklandCeasefire_cal.png
END:VEVENT
BEGIN:VEVENT
DTSTART;TZID=America/Los_Angeles:20260119T140000
DTEND;TZID=America/Los_Angeles:20260119T150000
DTSTAMP:20260423T154023
CREATED:20260114T145052Z
LAST-MODIFIED:20260115T024545Z
UID:5425-1768831200-1768834800@fiaeastbay.org
SUMMARY:Vigil: End State Violence Against Our Families
DESCRIPTION:REGISTER\n \nREGISTER
URL:https://fiaeastbay.org/event/vigil-end-state-violence-against-our-families/
ATTACH;FMTTYPE=image/jpeg:https://fiaeastbay.org/wp-content/uploads/2026/01/7.jpg
END:VEVENT
BEGIN:VEVENT
DTSTART;TZID=America/Los_Angeles:20260112T183000
DTEND;TZID=America/Los_Angeles:20260112T200000
DTSTAMP:20260423T154023
CREATED:20251112T005332Z
LAST-MODIFIED:20251112T005336Z
UID:5379-1768242600-1768248000@fiaeastbay.org
SUMMARY:Illegal Dumping Public Action
DESCRIPTION:
URL:https://fiaeastbay.org/event/illegal-dumping-public-action/
ATTACH;FMTTYPE=image/png:https://fiaeastbay.org/wp-content/uploads/2025/11/IDjan12eng.png
END:VEVENT
BEGIN:VEVENT
DTSTART;TZID=America/Los_Angeles:20260109T180000
DTEND;TZID=America/Los_Angeles:20260109T200000
DTSTAMP:20260423T154023
CREATED:20260107T200333Z
LAST-MODIFIED:20260107T200340Z
UID:5420-1767981600-1767988800@fiaeastbay.org
SUMMARY:Ceasefire Night Walk
DESCRIPTION:Location: First Mt. Sinai\, 1970 86th Avenue\, Oakland\n\nNight walks:\n6pm: Gathering for pre-walk/corners process\n6:30pm: walk or stand on corners\n7:30pm: returned back to starting location or completed from the corners\nBy 7:45pm\, walk process completed\nFor more information\, please contact alba@fiaeastbay.org
URL:https://fiaeastbay.org/event/ceasefire-night-walk-131/
ATTACH;FMTTYPE=image/png:https://fiaeastbay.org/wp-content/uploads/2021/12/OaklandCeasefire_cal.png
END:VEVENT
BEGIN:VEVENT
DTSTART;TZID=America/Los_Angeles:20251226T090000
DTEND;TZID=America/Los_Angeles:20251226T150000
DTSTAMP:20260423T154023
CREATED:20251121T012232Z
LAST-MODIFIED:20251210T212216Z
UID:5399-1766739600-1766761200@fiaeastbay.org
SUMMARY:Blood Drive and Sickle Cell Testing
DESCRIPTION:Blood supplies for Black and Brown families are dangerously low this month. This leaves our community extremely vulnerable during medical emergencies where blood is needed during and after a procedure or violent event. Imagine surviving an illness only to pass because there is not enough of your blood type available for your procedure. Your 15-minute appointment is now life-changing in the Bay Area for many families. The American Red Cross will take care of each donation\, and we are partnering with the team to make sure those that are most vulnerable are notified as soon as a donation at our event is a match.\n\nLocation: Richmond City Hall | 440 Civic Center Plaza Richmond CA 94804 | Basement Room | Fri. Dec. 26th 9am-3pm\n\nRegister to Donate Here:\nhttps://www.redcrossblood.org/give.html/drive-results?zipSponsor=KSTEWART\n\nBring a gift: For 10 year old Ja’Lani Leaks\, our sickle cell warrior.\n\nPlease spread the word this week and hope to see you there.\n\n———————————————————————————————\n\n\nBuenos tardes a todos\, \nLas reservas de sangre para familias negras y morenas están peligrosamente bajas este mes. Esto deja a nuestra comunidad extremadamente vulnerable durante emergencias médicas en las que se necesita sangre durante o después de un procedimiento o un acto de violencia. Imaginen sobrevivir a una enfermedad solo para fallecer porque no hay suficiente sangre de su tipo disponible para su procedimiento. \nSu cita de 15 minutos ahora puede cambiar la vida de muchas familias en el Área de la Bahía. La Cruz Roja Americana se encargará de cada donación\, y nos estamos asociando con su equipo para asegurarnos de que las personas más vulnerables sean notificadas tan pronto como una donación en nuestro evento sea compatible. \nLugar: Ayuntamiento de Richmond | 440 Civic Center Plaza\, Richmond\, CA 94804 | Salón del Sótano\nFecha y horario: Viernes\, 26 de diciembre\, de 9 a.m. a 3 p.m. \nRegístrese para donar aquí:\nhttps://www.redcrossblood.org/give.html/drive-results?zipSponsor=KSTEWART \nTraiga un regalo: para Ja’Lani Leaks\, nuestra guerrera de 10 años que lucha contra la anemia de células falciformes. \nPor favor\, difundan la información esta semana. Esperamos verlos allí.
URL:https://fiaeastbay.org/event/blood-drive-and-sickle-cell-testing/
ATTACH;FMTTYPE=image/png:https://fiaeastbay.org/wp-content/uploads/2025/11/RICHMOND-PRIDE-PURPOSE-BLOOD-DRIVE-4.png
END:VEVENT
BEGIN:VEVENT
DTSTART;TZID=America/Los_Angeles:20251219T180000
DTEND;TZID=America/Los_Angeles:20251219T200000
DTSTAMP:20260423T154023
CREATED:20251016T214349Z
LAST-MODIFIED:20251016T214353Z
UID:5348-1766167200-1766174400@fiaeastbay.org
SUMMARY:Ceasefire Night Walk
DESCRIPTION:Location: At Thy Word\, 8915 International Blvd.\, Oakland\n\nNight walks:\n6pm: Gathering for pre-walk/corners process\n6:30pm: walk or stand on corners\n7:30pm: returned back to starting location or completed from the corners\nBy 7:45pm\, walk process completed\nFor more information\, please contact alba@fiaeastbay.org
URL:https://fiaeastbay.org/event/ceasefire-night-walk-130/
ATTACH;FMTTYPE=image/png:https://fiaeastbay.org/wp-content/uploads/2021/12/OaklandCeasefire_cal.png
END:VEVENT
BEGIN:VEVENT
DTSTART;TZID=America/Los_Angeles:20251212T180000
DTEND;TZID=America/Los_Angeles:20251212T200000
DTSTAMP:20260423T154023
CREATED:20251016T214151Z
LAST-MODIFIED:20251201T232609Z
UID:5346-1765562400-1765569600@fiaeastbay.org
SUMMARY:Ceasefire Night Walk
DESCRIPTION:Location: New Hope MBC\, 892 36th Street\, Oakland\n\nNight walks:\n6pm: Gathering for pre-walk/corners process\n6:30pm: walk or stand on corners\n7:30pm: returned back to starting location or completed from the corners\nBy 7:45pm\, walk process completed\nFor more information\, please contact alba@fiaeastbay.org
URL:https://fiaeastbay.org/event/ceasefire-night-walk-129/
ATTACH;FMTTYPE=image/png:https://fiaeastbay.org/wp-content/uploads/2021/12/OaklandCeasefire_cal.png
END:VEVENT
BEGIN:VEVENT
DTSTART;TZID=America/Los_Angeles:20251206T190000
DTEND;TZID=America/Los_Angeles:20251206T213000
DTSTAMP:20260423T154023
CREATED:20251030T222836Z
LAST-MODIFIED:20251112T012235Z
UID:5364-1765047600-1765056600@fiaeastbay.org
SUMMARY:Rise Up for Justice
DESCRIPTION:
URL:https://fiaeastbay.org/event/rise-up-for-justice-3/
ATTACH;FMTTYPE=image/png:https://fiaeastbay.org/wp-content/uploads/2025/10/RUFJ25eng-1.png
END:VEVENT
BEGIN:VEVENT
DTSTART;TZID=America/Los_Angeles:20251123T100000
DTEND;TZID=America/Los_Angeles:20251123T150000
DTSTAMP:20260423T154023
CREATED:20251031T200426Z
LAST-MODIFIED:20251031T200430Z
UID:5367-1763892000-1763910000@fiaeastbay.org
SUMMARY:Impact Assembly ~ Antioch
DESCRIPTION:
URL:https://fiaeastbay.org/event/impact-assembly-antioch/
ATTACH;FMTTYPE=image/jpeg:https://fiaeastbay.org/wp-content/uploads/2025/10/Impact-Assembly-Flyer.jpg
END:VEVENT
BEGIN:VEVENT
DTSTART;TZID=America/Los_Angeles:20251122T100000
DTEND;TZID=America/Los_Angeles:20251122T183000
DTSTAMP:20260423T154023
CREATED:20250814T190352Z
LAST-MODIFIED:20250814T190353Z
UID:5268-1763805600-1763836200@fiaeastbay.org
SUMMARY:Community Feed and Give-Back
DESCRIPTION:
URL:https://fiaeastbay.org/event/community-feed-and-give-back/
ATTACH;FMTTYPE=image/png:https://fiaeastbay.org/wp-content/uploads/2025/08/NovJean.png
END:VEVENT
BEGIN:VEVENT
DTSTART;TZID=America/Los_Angeles:20251121T180000
DTEND;TZID=America/Los_Angeles:20251121T200000
DTSTAMP:20260423T154023
CREATED:20251016T213922Z
LAST-MODIFIED:20251016T213926Z
UID:5344-1763748000-1763755200@fiaeastbay.org
SUMMARY:Ceasefire Night Walk
DESCRIPTION:Location: St. Columba\, 6401 San Pablo Avenue\, Oakland\n\nNight walks:\n6pm: Gathering for pre-walk/corners process\n6:30pm: walk or stand on corners\n7:30pm: returned back to starting location or completed from the corners\nBy 7:45pm\, walk process completed\nFor more information\, please contact alba@fiaeastbay.org
URL:https://fiaeastbay.org/event/ceasefire-night-walk-128/
ATTACH;FMTTYPE=image/png:https://fiaeastbay.org/wp-content/uploads/2021/12/OaklandCeasefire_cal.png
END:VEVENT
BEGIN:VEVENT
DTSTART;TZID=America/Los_Angeles:20251115T120000
DTEND;TZID=America/Los_Angeles:20251115T160000
DTSTAMP:20260423T154023
CREATED:20251002T212121Z
LAST-MODIFIED:20251004T191827Z
UID:5327-1763208000-1763222400@fiaeastbay.org
SUMMARY:Guns to Gardens Gun Buyback
DESCRIPTION:This year the innovative Guns to Gardens gun buyback will again be at Mt. Zion Baptist Church\, 1203 Willow St.\, Oakland. It will be from noon til 4PM Saturday November 15. This innovative program\, sponsored by Mt. Zion Baptist Church\, St. Paul’s Episcopal Church\, Oakland\, many other faith leaders\, and supported by the Oakland Police Department\, is centered in Isiah 2:4 “and they shall forge their swords into plowshares” so the guns that are turned in are forged into garden tools. Each person turning in a gun will receive a gift card (up to $300) and a garden tool forged from a gun that was turned in at last year’s Guns to Gardens event. \nThis year Guns to Gardens is not asking for contributions because we had funds left over from last year. Instead we are asking: Please help us get the word out! Having a gun in the home increases the risk of death from homicide\, suicide\, and unintentional shootings\, affecting all members of the household\, including children. Studies show a significantly higher rate of violent deaths\, particularly suicides and homicides\, for people living in homes with firearms compared to those in gun-free homes. Additionally\, guns in the home are prime targets for thieves\, who can then use them for crimes. Please help us encourage all to get any guns out of their homes and the homes of their neighbors and friends\, and bring them to the Mt. Zion parking lot on Nov. 15 knowing that they will be forged into garden tools\, and get a gift card and a garden tool that was forged from a gun. Please post the flyer on your social media\, in newsletters\, and also we can deliver copies to you for you to post everywhere!
URL:https://fiaeastbay.org/event/guns-to-gardens-gun-buyback-2/
ATTACH;FMTTYPE=image/jpeg:https://fiaeastbay.org/wp-content/uploads/2025/10/G2G2025.jpg
END:VEVENT
BEGIN:VEVENT
DTSTART;TZID=America/Los_Angeles:20251114T180000
DTEND;TZID=America/Los_Angeles:20251114T200000
DTSTAMP:20260423T154023
CREATED:20251016T213225Z
LAST-MODIFIED:20251016T213228Z
UID:5342-1763143200-1763150400@fiaeastbay.org
SUMMARY:Ceasefire Night Walk
DESCRIPTION:Location: First Mt. Sinai\, 1970 86th Avenue\, Oakland\n\nNight walks:\n6pm: Gathering for pre-walk/corners process\n6:30pm: walk or stand on corners\n7:30pm: returned back to starting location or completed from the corners\nBy 7:45pm\, walk process completed\nFor more information\, please contact alba@fiaeastbay.org
URL:https://fiaeastbay.org/event/ceasefire-night-walk-127/
ATTACH;FMTTYPE=image/png:https://fiaeastbay.org/wp-content/uploads/2021/12/OaklandCeasefire_cal.png
END:VEVENT
BEGIN:VEVENT
DTSTART;TZID=America/Los_Angeles:20251114T170000
DTEND;TZID=America/Los_Angeles:20251114T190000
DTSTAMP:20260423T154023
CREATED:20251111T193129Z
LAST-MODIFIED:20251111T193133Z
UID:5376-1763139600-1763146800@fiaeastbay.org
SUMMARY:House Meeting
DESCRIPTION:REGISTER
URL:https://fiaeastbay.org/event/house-meeting/
ATTACH;FMTTYPE=image/png:https://fiaeastbay.org/wp-content/uploads/2025/11/HMnov14.png
END:VEVENT
BEGIN:VEVENT
DTSTART;TZID=America/Los_Angeles:20251112T160000
DTEND;TZID=America/Los_Angeles:20251112T180000
DTSTAMP:20260423T154023
CREATED:20250917T232745Z
LAST-MODIFIED:20250917T232746Z
UID:5306-1762963200-1762970400@fiaeastbay.org
SUMMARY:Congregational Land Initiative
DESCRIPTION:REGISTER
URL:https://fiaeastbay.org/event/congregational-land-initiative/
ATTACH;FMTTYPE=image/png:https://fiaeastbay.org/wp-content/uploads/2025/09/CLI-Fall-2025-Webinars-Flyer-v5.png
END:VEVENT
BEGIN:VEVENT
DTSTART;TZID=America/Los_Angeles:20251106T110000
DTEND;TZID=America/Los_Angeles:20251106T130000
DTSTAMP:20260423T154023
CREATED:20251029T213418Z
LAST-MODIFIED:20251029T213947Z
UID:5353-1762426800-1762434000@fiaeastbay.org
SUMMARY:Walking Our Faith: A Vigil of Prayer and Caring
DESCRIPTION:
URL:https://fiaeastbay.org/event/walking-our-faith-a-vigil-of-prayer-and-caring/
ATTACH;FMTTYPE=image/png:https://fiaeastbay.org/wp-content/uploads/2025/10/FaithWalkNov6eng.png
END:VEVENT
BEGIN:VEVENT
DTSTART;TZID=America/Los_Angeles:20251025T100000
DTEND;TZID=America/Los_Angeles:20251025T160000
DTSTAMP:20260423T154023
CREATED:20251010T185156Z
LAST-MODIFIED:20251010T185200Z
UID:5334-1761386400-1761408000@fiaeastbay.org
SUMMARY:980 Block Party
DESCRIPTION:Be part of the 980 Block Party on Saturday\, October 25\, 2025 at Preservation Park — a one-day gathering dedicated to healing\, storytelling\, and reimagining the future of the I-980 corridor. \nThe 980 freeway displaced hundreds of families and cut through the heart of West Oakland. Now\, we have a chance to come together — honoring the past while building a collective vision for the future. \nParticipants will move through a “time portal” that connects history\, current realities\, and future possibilities\, with a powerful mix of hands-on activities\, storytelling\, and visioning: \n\n\nLarge-Scale Site Mapping \n\n\nPhysical 3-D and Digital Modeling \n\n\nSteamroller Art Block Printing \n\n\nOral History Circles & Storytelling \n\n\nMini Media Festival \n\n\nFacilitated Discussions (Youth\, Housing\, Economic Development\, Health\, Cultural Arts\, Transportation\, Parks\, Youth\, Seniors\, Policy/Legislation) \n\n\nInstitutional Harm Illustrations curated by Hodari Davis of Edutainment for Equity \n\n\nResident Profiles & Quotes Installation \n\n\nData Stations on the Quantification of Actual Harm (Goldman School grad students) \n\n\nOne of the most important parts of the Block Party will be our discussion circles\, where community members will share stories\, ideas\, and visions on key topics such as: \n\n\nHousing and displacement prevention \n\n\nJobs\, small businesses\, and economic opportunity \n\n\nParks\, recreation\, and transportation \n\n\nArts and cultural preservation \n\n\nPower building and governance \n\n\nEvent Details:\n Saturday\, October 25\, 2025\n 10:00 AM – 4:00 PM\n Preservation Park\, Oakland \nWe hope you’ll join us and help spread the word to family\, friends\, and neighbors who also have a story to share. Together\, we can ensure the future of West Oakland is rooted in equity\, justice\, and community strength. \nWith appreciation\,\nRandolph Belle\n randolph@evoak.org\n (510) 333-9175\n www.980BlockParty.org
URL:https://fiaeastbay.org/event/980-block-party/
ATTACH;FMTTYPE=image/png:https://fiaeastbay.org/wp-content/uploads/2025/10/980BlockParty.png
END:VEVENT
BEGIN:VEVENT
DTSTART;TZID=America/Los_Angeles:20251024T180000
DTEND;TZID=America/Los_Angeles:20251024T200000
DTSTAMP:20260423T154023
CREATED:20251016T212427Z
LAST-MODIFIED:20251016T213015Z
UID:5340-1761328800-1761336000@fiaeastbay.org
SUMMARY:Ceasefire Night Walk
DESCRIPTION:Location: New Hope MBC\, 892 36th Street\, Oakland\n\nNight walks:\n6pm: Gathering for pre-walk/corners process\n6:30pm: walk or stand on corners\n7:30pm: returned back to starting location or completed from the corners\nBy 7:45pm\, walk process completed\nFor more information\, please contact alba@fiaeastbay.org
URL:https://fiaeastbay.org/event/ceasefire-night-walk-126/
ATTACH;FMTTYPE=image/png:https://fiaeastbay.org/wp-content/uploads/2021/12/OaklandCeasefire_cal.png
END:VEVENT
BEGIN:VEVENT
DTSTART;TZID=America/Los_Angeles:20251022T093000
DTEND;TZID=America/Los_Angeles:20251022T143000
DTSTAMP:20260423T154023
CREATED:20250917T232255Z
LAST-MODIFIED:20250917T232826Z
UID:5303-1761125400-1761143400@fiaeastbay.org
SUMMARY:Sacred Land\, Shared Futures
DESCRIPTION:REGISTER
URL:https://fiaeastbay.org/event/sacred-land-shared-futures/
ATTACH;FMTTYPE=image/png:https://fiaeastbay.org/wp-content/uploads/2025/09/SacredLandConveningFlyers-East-Bay-v1.2-8.12.25.png
END:VEVENT
BEGIN:VEVENT
DTSTART;TZID=America/Los_Angeles:20251017T180000
DTEND;TZID=America/Los_Angeles:20251017T200000
DTSTAMP:20260423T154023
CREATED:20251016T212236Z
LAST-MODIFIED:20251016T212240Z
UID:5337-1760724000-1760731200@fiaeastbay.org
SUMMARY:Ceasefire Night Walk
DESCRIPTION:Location: First Mt. Sinai\, 1970 86th Avenue\, Oakland\n\nNight walks:\n6pm: Gathering for pre-walk/corners process\n6:30pm: walk or stand on corners\n7:30pm: returned back to starting location or completed from the corners\nBy 7:45pm\, walk process completed\nFor more information\, please contact alba@fiaeastbay.org
URL:https://fiaeastbay.org/event/ceasefire-night-walk-125/
ATTACH;FMTTYPE=image/png:https://fiaeastbay.org/wp-content/uploads/2025/10/CFoct17.png
END:VEVENT
BEGIN:VEVENT
DTSTART;TZID=America/Los_Angeles:20251012T133000
DTEND;TZID=America/Los_Angeles:20251012T143000
DTSTAMP:20260423T154023
CREATED:20250926T215800Z
LAST-MODIFIED:20250926T215801Z
UID:5319-1760275800-1760279400@fiaeastbay.org
SUMMARY:Workshop: Changes in Medi-Cal
DESCRIPTION:ZOOM REGISTRATION
URL:https://fiaeastbay.org/event/workshop-changes-in-medi-cal/
ATTACH;FMTTYPE=image/png:https://fiaeastbay.org/wp-content/uploads/2025/09/MedicalOct12eng.png
END:VEVENT
BEGIN:VEVENT
DTSTART;TZID=America/Los_Angeles:20251010T180000
DTEND;TZID=America/Los_Angeles:20251010T200000
DTSTAMP:20260423T154023
CREATED:20251007T225013Z
LAST-MODIFIED:20251007T225017Z
UID:5331-1760119200-1760126400@fiaeastbay.org
SUMMARY:Ceasefire Night Walk
DESCRIPTION:
URL:https://fiaeastbay.org/event/ceasefire-night-walk-124/
ATTACH;FMTTYPE=image/png:https://fiaeastbay.org/wp-content/uploads/2025/10/CFoct10post.png
END:VEVENT
END:VCALENDAR