BEGIN:VCALENDAR
VERSION:2.0
PRODID:-//Faith in  Action East Bay - ECPv6.15.20//NONSGML v1.0//EN
CALSCALE:GREGORIAN
METHOD:PUBLISH
X-WR-CALNAME:Faith in  Action East Bay
X-ORIGINAL-URL:https://fiaeastbay.org
X-WR-CALDESC:Events for Faith in  Action East Bay
REFRESH-INTERVAL;VALUE=DURATION:PT1H
X-Robots-Tag:noindex
X-PUBLISHED-TTL:PT1H
BEGIN:VTIMEZONE
TZID:America/Los_Angeles
BEGIN:DAYLIGHT
TZOFFSETFROM:-0800
TZOFFSETTO:-0700
TZNAME:PDT
DTSTART:20230312T100000
END:DAYLIGHT
BEGIN:STANDARD
TZOFFSETFROM:-0700
TZOFFSETTO:-0800
TZNAME:PST
DTSTART:20231105T090000
END:STANDARD
BEGIN:DAYLIGHT
TZOFFSETFROM:-0800
TZOFFSETTO:-0700
TZNAME:PDT
DTSTART:20240310T100000
END:DAYLIGHT
BEGIN:STANDARD
TZOFFSETFROM:-0700
TZOFFSETTO:-0800
TZNAME:PST
DTSTART:20241103T090000
END:STANDARD
BEGIN:DAYLIGHT
TZOFFSETFROM:-0800
TZOFFSETTO:-0700
TZNAME:PDT
DTSTART:20250309T100000
END:DAYLIGHT
BEGIN:STANDARD
TZOFFSETFROM:-0700
TZOFFSETTO:-0800
TZNAME:PST
DTSTART:20251102T090000
END:STANDARD
END:VTIMEZONE
BEGIN:VEVENT
DTSTART;TZID=America/Los_Angeles:20240506T180000
DTEND;TZID=America/Los_Angeles:20240506T190000
DTSTAMP:20260425T094828
CREATED:20240417T223041Z
LAST-MODIFIED:20240417T223041Z
UID:4277-1715018400-1715022000@fiaeastbay.org
SUMMARY:Contra Costa County Cluster Meeting
DESCRIPTION:Focus: Regional Housing Bond for Affordable Housing\nEnfoque: Bonos Regionales de Vivienda para Viviendas Asequibles \nRegister/Regístrese \nAre you passionate about making a difference in our community and advocating for affordable housing? At our meetings\, we work towards creating opportunities for affordable housing for our families\, especially those who are marginalized and vulnerable. Whether you’ve been involved in similar initiatives before or are new to community organizing\, your presence and contributions are valued. Together\, we can make a meaningful impact in Contra Costa County. We look forward to seeing you there! \n¿Si te apasiona marcar la diferencia en nuestra comunidad y abogar por viviendas asequibles? En nuestras reuniones\, trabajamos para crear oportunidades de vivienda asequible para nuestras familias\, especialmente aquellas que están marginadas y vulnerables.Ya sea que hayas participado en iniciativas similares antes o seas nuevo en la organización comunitaria\, tu presencia y contribuciones son valoradas. Juntos\, podemos tener un impacto significativo en el Condado de Contra Costa. ¡Esperamos verte ahí! \nRegister/Regístrese
URL:https://fiaeastbay.org/event/contra-costa-county-cluster-meeting/
ATTACH;FMTTYPE=image/png:https://fiaeastbay.org/wp-content/uploads/2024/04/CCCCMay6.png
END:VEVENT
BEGIN:VEVENT
DTSTART;TZID=America/Los_Angeles:20240502T130000
DTEND;TZID=America/Los_Angeles:20240502T140000
DTSTAMP:20260425T094828
CREATED:20240308T025713Z
LAST-MODIFIED:20240308T025713Z
UID:4174-1714654800-1714658400@fiaeastbay.org
SUMMARY:Quarterly East Bay Faith Leader Gathering
DESCRIPTION:REGISTER\nFor more information about Faith Leader Cohorts contact Director of Clergy Organizing Rev. Rob Newells-Newton: rob@fiaeastbay.org
URL:https://fiaeastbay.org/event/quarterly-east-bay-faith-leader-gathering/
ATTACH;FMTTYPE=image/png:https://fiaeastbay.org/wp-content/uploads/2024/03/interfaithwheel.png
END:VEVENT
BEGIN:VEVENT
DTSTART;TZID=America/Los_Angeles:20240427T100000
DTEND;TZID=America/Los_Angeles:20240427T113000
DTSTAMP:20260425T094828
CREATED:20240405T172214Z
LAST-MODIFIED:20240405T172214Z
UID:4266-1714212000-1714217400@fiaeastbay.org
SUMMARY:Community Action on Sex-Trafficking
DESCRIPTION:
URL:https://fiaeastbay.org/event/community-action-on-sex-trafficking/
ATTACH;FMTTYPE=image/png:https://fiaeastbay.org/wp-content/uploads/2024/04/April-27th-Community-Action.png
END:VEVENT
BEGIN:VEVENT
DTSTART;TZID=America/Los_Angeles:20240427T090000
DTEND;TZID=America/Los_Angeles:20240427T130000
DTSTAMP:20260425T094828
CREATED:20231208T183304Z
LAST-MODIFIED:20240320T234848Z
UID:3866-1714208400-1714222800@fiaeastbay.org
SUMMARY:Bulky Block Party
DESCRIPTION:Attend a Bulky Block Party event for free large-item disposal\nJoin us on the last Saturday of every month for a Bulky Block Party to dispose of your large unwanted items — the right way\, and for free! Residents only. Please bring proof of residency\, such as a utility bill. \n\n\n\n\n\n\n\n\n\nBulky Block Party events are typically held the last Saturday of every month (except during holiday weekends) from 9am to 1pm at 7101 Edgewater Drive\, Oakland\, CA. Oakland residents may drop off items that don’t fit in their trash cart at home for free! \nLocation: 7101 Edgewater Drive \nTime: 9 a.m. to 1 p.m. \n\nLearn more at the City of Oakland website.  \n\nUpcoming 2024 Bulky Block Party Dates: \n\nSaturday April 27th\, 2024\nSaturday May 25th\, 2024\nSaturday June 22nd\, 2024\nSaturday July 27th\, 2024\nSaturday August 24th\, 2024\nSaturday September 28th\, 2024\nSaturday October 26th\, 2024\nNovember 2024 – none\nDecember 2024 – none
URL:https://fiaeastbay.org/event/bulky-block-party-16/
ATTACH;FMTTYPE=image/png:https://fiaeastbay.org/wp-content/uploads/2022/05/free-trash-icon-347-thumb-e1686701159620.png
END:VEVENT
BEGIN:VEVENT
DTSTART;TZID=America/Los_Angeles:20240426T180000
DTEND;TZID=America/Los_Angeles:20240426T200000
DTSTAMP:20260425T094828
CREATED:20240330T010913Z
LAST-MODIFIED:20240330T010913Z
UID:4235-1714154400-1714161600@fiaeastbay.org
SUMMARY:Ceasefire Night Walk
DESCRIPTION:Location: St. Benedict’s Church\, 2245 82nd Ave.\n\nNight walks:\n6pm: Gathering for pre-walk/corners process\n6:30pm: walk or stand on corners\n7:30pm: returned back to starting location or completed from the corners\nBy 7:45pm\, walk process completed\nFor more information\, please contact Chris Moreno at chris@fiaeastbay.org
URL:https://fiaeastbay.org/event/ceasefire-night-walk-68/
ATTACH;FMTTYPE=image/png:https://fiaeastbay.org/wp-content/uploads/2021/12/OaklandCeasefire_cal.png
END:VEVENT
BEGIN:VEVENT
DTSTART;TZID=America/Los_Angeles:20240419T180000
DTEND;TZID=America/Los_Angeles:20240419T200000
DTSTAMP:20260425T094828
CREATED:20240330T010708Z
LAST-MODIFIED:20240330T010708Z
UID:4233-1713549600-1713556800@fiaeastbay.org
SUMMARY:Ceasefire Night Walk
DESCRIPTION:Location: St. Patrick’s Church at St. Mary’s Center\, 925 Brockhurst St. (San Pablo Ave. at 32nd St.)\n\nNight walks:\n6pm: Gathering for pre-walk/corners process\n6:30pm: walk or stand on corners\n7:30pm: returned back to starting location or completed from the corners\nBy 7:45pm\, walk process completed\nFor more information\, please contact Chris Moreno at chris@fiaeastbay.org
URL:https://fiaeastbay.org/event/ceasefire-night-walk-67/
ATTACH;FMTTYPE=image/png:https://fiaeastbay.org/wp-content/uploads/2021/12/OaklandCeasefire_cal.png
END:VEVENT
BEGIN:VEVENT
DTSTART;TZID=America/Los_Angeles:20240419T180000
DTEND;TZID=America/Los_Angeles:20240419T193000
DTSTAMP:20260425T094828
CREATED:20240304T032323Z
LAST-MODIFIED:20240304T032323Z
UID:4150-1713549600-1713555000@fiaeastbay.org
SUMMARY:Richmond Peace Walk
DESCRIPTION:
URL:https://fiaeastbay.org/event/richmond-peace-walk-12/
ATTACH;FMTTYPE=image/png:https://fiaeastbay.org/wp-content/uploads/2024/03/RichmondPWApril2024.png
END:VEVENT
BEGIN:VEVENT
DTSTART;TZID=America/Los_Angeles:20240418T130000
DTEND;TZID=America/Los_Angeles:20240418T140000
DTSTAMP:20260425T094828
CREATED:20240120T043929Z
LAST-MODIFIED:20240415T235944Z
UID:3957-1713445200-1713448800@fiaeastbay.org
SUMMARY:Voter Engagement Faith Leader Cohort
DESCRIPTION:REGISTER\nFor more information about Faith Leader Cohorts contact Director of Clergy Organizing Rev. Rob Newells-Newton: rob@fiaeastbay.org
URL:https://fiaeastbay.org/event/voter-engagement-faith-leader-cohort-3/
ATTACH;FMTTYPE=image/png:https://fiaeastbay.org/wp-content/uploads/2024/01/VEC.png
END:VEVENT
BEGIN:VEVENT
DTSTART;TZID=America/Los_Angeles:20240412T180000
DTEND;TZID=America/Los_Angeles:20240412T200000
DTSTAMP:20260425T094828
CREATED:20240330T010510Z
LAST-MODIFIED:20240330T010524Z
UID:4230-1712944800-1712952000@fiaeastbay.org
SUMMARY:Ceasefire Night Walk
DESCRIPTION:Location: East Bay Church of Religious Science\, 4130 Telegraph Ave.\, Oakland\n\nNight walks:\n6pm: Gathering for pre-walk/corners process\n6:30pm: walk or stand on corners\n7:30pm: returned back to starting location or completed from the corners\nBy 7:45pm\, walk process completed\nFor more information\, please contact Chris Moreno at chris@fiaeastbay.org
URL:https://fiaeastbay.org/event/ceasefire-night-walk-66/
ATTACH;FMTTYPE=image/png:https://fiaeastbay.org/wp-content/uploads/2021/12/OaklandCeasefire_cal.png
END:VEVENT
BEGIN:VEVENT
DTSTART;TZID=America/Los_Angeles:20240409T183000
DTEND;TZID=America/Los_Angeles:20240409T200000
DTSTAMP:20260425T094828
CREATED:20240326T220938Z
LAST-MODIFIED:20240405T162550Z
UID:4196-1712687400-1712692800@fiaeastbay.org
SUMMARY:Leadership Development Training
DESCRIPTION:REGISTER
URL:https://fiaeastbay.org/event/leadership-development-training-15/
ATTACH;FMTTYPE=image/png:https://fiaeastbay.org/wp-content/uploads/2024/03/LDTart.png
END:VEVENT
BEGIN:VEVENT
DTSTART;TZID=America/Los_Angeles:20240406T123000
DTEND;TZID=America/Los_Angeles:20240406T133000
DTSTAMP:20260425T094828
CREATED:20240320T003045Z
LAST-MODIFIED:20240328T183903Z
UID:4184-1712406600-1712410200@fiaeastbay.org
SUMMARY:Voter Engagement
DESCRIPTION:LEARN MORE AND REGISTER
URL:https://fiaeastbay.org/event/voter-engagement/
END:VEVENT
BEGIN:VEVENT
DTSTART;TZID=America/Los_Angeles:20240404T130000
DTEND;TZID=America/Los_Angeles:20240404T140000
DTSTAMP:20260425T094828
CREATED:20240120T045458Z
LAST-MODIFIED:20240308T021306Z
UID:3976-1712235600-1712239200@fiaeastbay.org
SUMMARY:Black Faith Leaders Cohort
DESCRIPTION:REGISTER\nFor more information about Faith Leader Cohorts contact Director of Clergy Organizing Rev. Rob Newells-Newton: rob@fiaeastbay.org
URL:https://fiaeastbay.org/event/black-faith-leaders-cohort-2/
ATTACH;FMTTYPE=image/png:https://fiaeastbay.org/wp-content/uploads/2024/01/FLC4-1.png
END:VEVENT
BEGIN:VEVENT
DTSTART;TZID=America/Los_Angeles:20240329T180000
DTEND;TZID=America/Los_Angeles:20240329T200000
DTSTAMP:20260425T094828
CREATED:20231218T203928Z
LAST-MODIFIED:20240329T163557Z
UID:3898-1711735200-1711742400@fiaeastbay.org
SUMMARY:*cancelled* Ceasefire Night Walk
DESCRIPTION:*Tonight’s Ceasefire Night Walk is cancelled due to weather.*\n\nLocation: East Bay Church of Religious Science\, 4130 Telegraph Ave.\n\nNight walks:\n6pm: Gathering for pre-walk/corners process\n6:30pm: walk or stand on corners\n7:30pm: returned back to starting location or completed from the corners\nBy 7:45pm\, walk process completed\nFor more information\, please contact Chris Moreno at chris@fiaeastbay.org
URL:https://fiaeastbay.org/event/ceasefire-night-walk-65/
ATTACH;FMTTYPE=image/png:https://fiaeastbay.org/wp-content/uploads/2021/12/OaklandCeasefire_cal.png
END:VEVENT
BEGIN:VEVENT
DTSTART;TZID=America/Los_Angeles:20240323T090000
DTEND;TZID=America/Los_Angeles:20240323T130000
DTSTAMP:20260425T094828
CREATED:20231208T183141Z
LAST-MODIFIED:20240320T234804Z
UID:3864-1711184400-1711198800@fiaeastbay.org
SUMMARY:Bulky Block Party
DESCRIPTION:Attend a Bulky Block Party event for free large-item disposal\nJoin us on the last Saturday of every month for a Bulky Block Party to dispose of your large unwanted items — the right way\, and for free! Residents only. Please bring proof of residency\, such as a utility bill. \n\n\n\n\n\n\n\n\n\nBulky Block Party events are typically held the last Saturday of every month (except during holiday weekends) from 9am to 1pm at 7101 Edgewater Drive\, Oakland\, CA. Oakland residents may drop off items that don’t fit in their trash cart at home for free! \nLocation: 7101 Edgewater Drive \nTime: 9 a.m. to 1 p.m. \n\nLearn more at the City of Oakland website.  \n\nUpcoming 2024 Bulky Block Party Dates: \n\nSaturday March 23rd\, 2024\nSaturday April 27th\, 2024\nSaturday May 25th\, 2024\nSaturday June 22nd\, 2024\nSaturday July 27th\, 2024\nSaturday August 24th\, 2024\nSaturday September 28th\, 2024\nSaturday October 26th\, 2024\nNovember 2024 – none\nDecember 2024 – none
URL:https://fiaeastbay.org/event/bulky-block-party-15/
ATTACH;FMTTYPE=image/png:https://fiaeastbay.org/wp-content/uploads/2022/05/free-trash-icon-347-thumb-e1686701159620.png
END:VEVENT
BEGIN:VEVENT
DTSTART;TZID=America/Los_Angeles:20240322T180000
DTEND;TZID=America/Los_Angeles:20240322T200000
DTSTAMP:20260425T094828
CREATED:20231218T203757Z
LAST-MODIFIED:20240322T214017Z
UID:3896-1711130400-1711137600@fiaeastbay.org
SUMMARY:*Cancelled* Ceasefire Night Walk
DESCRIPTION:THIS EVENT IS CANCELLED DUE TO RAIN\n\nLocation: Tabernacle Missionary Baptist Church\, 10115 Edes Ave.\n\nNight walks:\n6pm: Gathering for pre-walk/corners process\n6:30pm: walk or stand on corners\n7:30pm: returned back to starting location or completed from the corners\nBy 7:45pm\, walk process completed\nFor more information\, please contact Chris Moreno at chris@fiaeastbay.org
URL:https://fiaeastbay.org/event/ceasefire-night-walk-64/
ATTACH;FMTTYPE=image/png:https://fiaeastbay.org/wp-content/uploads/2021/12/OaklandCeasefire_cal.png
END:VEVENT
BEGIN:VEVENT
DTSTART;TZID=America/Los_Angeles:20240321T130000
DTEND;TZID=America/Los_Angeles:20240321T140000
DTSTAMP:20260425T094828
CREATED:20240120T043833Z
LAST-MODIFIED:20240307T235522Z
UID:3955-1711026000-1711029600@fiaeastbay.org
SUMMARY:Voter Engagement Faith Leader Cohort
DESCRIPTION:REGISTER\nFor more information about Faith Leader Cohorts contact Director of Clergy Organizing Rev. Rob Newells-Newton: rob@fiaeastbay.org
URL:https://fiaeastbay.org/event/voter-engagement-faith-leader-cohort-2/
ATTACH;FMTTYPE=image/png:https://fiaeastbay.org/wp-content/uploads/2024/01/VEC.png
END:VEVENT
BEGIN:VEVENT
DTSTART;TZID=America/Los_Angeles:20240319T180000
DTEND;TZID=America/Los_Angeles:20240319T193000
DTSTAMP:20260425T094828
CREATED:20240307T033509Z
LAST-MODIFIED:20240308T015513Z
UID:4159-1710871200-1710876600@fiaeastbay.org
SUMMARY:Tenant Know Your Rights Training
DESCRIPTION:
URL:https://fiaeastbay.org/event/tenant-know-your-rights-training/
ATTACH;FMTTYPE=image/png:https://fiaeastbay.org/wp-content/uploads/2024/03/TenantKYRmarch12a.png
END:VEVENT
BEGIN:VEVENT
DTSTART;TZID=America/Los_Angeles:20240318T183000
DTEND;TZID=America/Los_Angeles:20240318T200000
DTSTAMP:20260425T094828
CREATED:20240306T234531Z
LAST-MODIFIED:20240306T234531Z
UID:4156-1710786600-1710792000@fiaeastbay.org
SUMMARY:Regional Leadership Assembly
DESCRIPTION:REGISTER
URL:https://fiaeastbay.org/event/regional-leadership-assembly-4/
ATTACH;FMTTYPE=image/png:https://fiaeastbay.org/wp-content/uploads/2024/03/RLA3_18_24.png
END:VEVENT
BEGIN:VEVENT
DTSTART;TZID=America/Los_Angeles:20240317T100000
DTEND;TZID=America/Los_Angeles:20240317T150000
DTSTAMP:20260425T094828
CREATED:20240227T044409Z
LAST-MODIFIED:20240229T173750Z
UID:4110-1710669600-1710687600@fiaeastbay.org
SUMMARY:Immigration Forum
DESCRIPTION:
URL:https://fiaeastbay.org/event/immigration-forum-8/
ATTACH;FMTTYPE=image/png:https://fiaeastbay.org/wp-content/uploads/2024/02/IFMarch17_post.png
END:VEVENT
BEGIN:VEVENT
DTSTART;TZID=America/Los_Angeles:20240315T180000
DTEND;TZID=America/Los_Angeles:20240315T200000
DTSTAMP:20260425T094828
CREATED:20231218T203639Z
LAST-MODIFIED:20231218T203639Z
UID:3894-1710525600-1710532800@fiaeastbay.org
SUMMARY:Ceasefire Night Walk
DESCRIPTION:Location: St. Columba\, 6401 San Pablo Ave.\n\nNight walks:\n6pm: Gathering for pre-walk/corners process\n6:30pm: walk or stand on corners\n7:30pm: returned back to starting location or completed from the corners\nBy 7:45pm\, walk process completed\nFor more information\, please contact Chris Moreno at chris@fiaeastbay.org
URL:https://fiaeastbay.org/event/ceasefire-night-walk-63/
ATTACH;FMTTYPE=image/png:https://fiaeastbay.org/wp-content/uploads/2021/12/OaklandCeasefire_cal.png
END:VEVENT
BEGIN:VEVENT
DTSTART;TZID=America/Los_Angeles:20240315T180000
DTEND;TZID=America/Los_Angeles:20240315T193000
DTSTAMP:20260425T094828
CREATED:20240304T031948Z
LAST-MODIFIED:20240304T031948Z
UID:4147-1710525600-1710531000@fiaeastbay.org
SUMMARY:Richmond Peace Walk
DESCRIPTION:
URL:https://fiaeastbay.org/event/richmond-peace-walk-11/
ATTACH;FMTTYPE=image/png:https://fiaeastbay.org/wp-content/uploads/2024/03/RichmondPWMarchApril2024.png
END:VEVENT
BEGIN:VEVENT
DTSTART;TZID=America/Los_Angeles:20240314T183000
DTEND;TZID=America/Los_Angeles:20240314T203000
DTSTAMP:20260425T094828
CREATED:20240303T031915Z
LAST-MODIFIED:20240314T164723Z
UID:4143-1710441000-1710448200@fiaeastbay.org
SUMMARY:*Postponed* Illegal Dumping Education Forum
DESCRIPTION:This event has been postponed. More info to come.
URL:https://fiaeastbay.org/event/illegal-dumping-education-forum/
END:VEVENT
BEGIN:VEVENT
DTSTART;TZID=America/Los_Angeles:20240312T183000
DTEND;TZID=America/Los_Angeles:20240312T200000
DTSTAMP:20260425T094828
CREATED:20240307T232727Z
LAST-MODIFIED:20240307T232745Z
UID:4162-1710268200-1710273600@fiaeastbay.org
SUMMARY:Leadership Development Training
DESCRIPTION:REGISTER
URL:https://fiaeastbay.org/event/4162/
ATTACH;FMTTYPE=image/png:https://fiaeastbay.org/wp-content/uploads/2024/03/LDTmarch12.png
END:VEVENT
BEGIN:VEVENT
DTSTART;TZID=America/Los_Angeles:20240310T100000
DTEND;TZID=America/Los_Angeles:20240310T150000
DTSTAMP:20260425T094828
CREATED:20240210T185845Z
LAST-MODIFIED:20240229T181527Z
UID:4085-1710064800-1710082800@fiaeastbay.org
SUMMARY:Immigration Forum
DESCRIPTION:
URL:https://fiaeastbay.org/event/immigration-forum-6/
ATTACH;FMTTYPE=image/png:https://fiaeastbay.org/wp-content/uploads/2024/02/ImForumMarch10_post.png
END:VEVENT
BEGIN:VEVENT
DTSTART;TZID=America/Los_Angeles:20240308T180000
DTEND;TZID=America/Los_Angeles:20240308T200000
DTSTAMP:20260425T094828
CREATED:20231218T203523Z
LAST-MODIFIED:20231218T203523Z
UID:3892-1709920800-1709928000@fiaeastbay.org
SUMMARY:Ceasefire Night Walk
DESCRIPTION:Location: First Mt. Sinai\, 1970 86th Ave\n\n\nNight walks:\n6pm: Gathering for pre-walk/corners process\n6:30pm: walk or stand on corners\n7:30pm: returned back to starting location or completed from the corners\nBy 7:45pm\, walk process completed\nFor more information\, please contact Chris Moreno at chris@fiaeastbay.org
URL:https://fiaeastbay.org/event/ceasefire-night-walk-62/
ATTACH;FMTTYPE=image/png:https://fiaeastbay.org/wp-content/uploads/2021/12/OaklandCeasefire_cal.png
END:VEVENT
BEGIN:VEVENT
DTSTART;TZID=America/Los_Angeles:20240304T173000
DTEND;TZID=America/Los_Angeles:20240304T183000
DTSTAMP:20260425T094828
CREATED:20240206T025218Z
LAST-MODIFIED:20240206T025218Z
UID:4071-1709573400-1709577000@fiaeastbay.org
SUMMARY:Training: Inclusive Faith Reflections
DESCRIPTION:REGISTER
URL:https://fiaeastbay.org/event/training-inclusive-faith-reflections/
ATTACH;FMTTYPE=image/png:https://fiaeastbay.org/wp-content/uploads/2024/02/FaithReflectMarch4.png
END:VEVENT
BEGIN:VEVENT
DTSTART;TZID=America/Los_Angeles:20240301T130000
DTEND;TZID=America/Los_Angeles:20240301T143000
DTSTAMP:20260425T094828
CREATED:20240223T151942Z
LAST-MODIFIED:20240223T151942Z
UID:4106-1709298000-1709303400@fiaeastbay.org
SUMMARY:Richmond Sponsoring Committee
DESCRIPTION:
URL:https://fiaeastbay.org/event/richmond-sponsoring-committee/
ATTACH;FMTTYPE=image/png:https://fiaeastbay.org/wp-content/uploads/2024/02/RSCMarch1_post.png
END:VEVENT
BEGIN:VEVENT
DTSTART;TZID=America/Los_Angeles:20240227T183000
DTEND;TZID=America/Los_Angeles:20240227T200000
DTSTAMP:20260425T094828
CREATED:20240222T003449Z
LAST-MODIFIED:20240222T003545Z
UID:4101-1709058600-1709064000@fiaeastbay.org
SUMMARY:Leadership Development Training
DESCRIPTION:REGISTER
URL:https://fiaeastbay.org/event/leadership-development-training-14/
ATTACH;FMTTYPE=image/png:https://fiaeastbay.org/wp-content/uploads/2024/02/LDTfeb27.png
END:VEVENT
BEGIN:VEVENT
DTSTART;TZID=America/Los_Angeles:20240225T170000
DTEND;TZID=America/Los_Angeles:20240225T183000
DTSTAMP:20260425T094828
CREATED:20240220T173618Z
LAST-MODIFIED:20240220T173618Z
UID:4098-1708880400-1708885800@fiaeastbay.org
SUMMARY:Candidate Forum: AC Supervisor District 4
DESCRIPTION:REGISTER
URL:https://fiaeastbay.org/event/candidate-forum-ac-supervisor-district-4/
ATTACH;FMTTYPE=image/png:https://fiaeastbay.org/wp-content/uploads/2024/02/CandidateForumFlyerD4-1.png
END:VEVENT
BEGIN:VEVENT
DTSTART;TZID=America/Los_Angeles:20240224T090000
DTEND;TZID=America/Los_Angeles:20240224T130000
DTSTAMP:20260425T094828
CREATED:20231208T183012Z
LAST-MODIFIED:20231208T183012Z
UID:3862-1708765200-1708779600@fiaeastbay.org
SUMMARY:Bulky Block Party
DESCRIPTION:Attend a Bulky Block Party event for free large-item disposal\nJoin us on the last Saturday of every month for a Bulky Block Party to dispose of your large unwanted items — the right way\, and for free! Residents only. Please bring proof of residency\, such as a utility bill. \n\n\n\n\n\n\n\n\n\nBulky Block Party events are typically held the last Saturday of every month (except during holiday weekends) from 9am to 1pm at 7101 Edgewater Drive\, Oakland\, CA. Oakland residents may drop off items that don’t fit in their trash cart at home for free! \nLocation: 7101 Edgewater Drive \nTime: 9 a.m. to 1 p.m. \n\nLearn more at the City of Oakland website.  \n\nUpcoming 2023 Bulky Block Party Dates: \n\nSaturday February 24th\, 2024\nSaturday March 30th\, 2024\nSaturday April 27th\, 2024\nSaturday May 18th\, 2024 (One week early\, as 5/25 is Memorial Day weekend)\nSaturday June 29th\, 2024\nSaturday July 27th\, 2024\nSaturday August 31st\, 2024\nSaturday September 28th\, 2024\nSaturday October 26th\, 2024\nNovember 2024 – none\nDecember 2024 – none
URL:https://fiaeastbay.org/event/bulky-block-party-14/
ATTACH;FMTTYPE=image/png:https://fiaeastbay.org/wp-content/uploads/2022/05/free-trash-icon-347-thumb-e1686701159620.png
END:VEVENT
END:VCALENDAR