BEGIN:VCALENDAR
VERSION:2.0
PRODID:-//Faith in  Action East Bay - ECPv6.15.20//NONSGML v1.0//EN
CALSCALE:GREGORIAN
METHOD:PUBLISH
X-WR-CALNAME:Faith in  Action East Bay
X-ORIGINAL-URL:https://fiaeastbay.org
X-WR-CALDESC:Events for Faith in  Action East Bay
REFRESH-INTERVAL;VALUE=DURATION:PT1H
X-Robots-Tag:noindex
X-PUBLISHED-TTL:PT1H
BEGIN:VTIMEZONE
TZID:America/Los_Angeles
BEGIN:DAYLIGHT
TZOFFSETFROM:-0800
TZOFFSETTO:-0700
TZNAME:PDT
DTSTART:20220313T100000
END:DAYLIGHT
BEGIN:STANDARD
TZOFFSETFROM:-0700
TZOFFSETTO:-0800
TZNAME:PST
DTSTART:20221106T090000
END:STANDARD
BEGIN:DAYLIGHT
TZOFFSETFROM:-0800
TZOFFSETTO:-0700
TZNAME:PDT
DTSTART:20230312T100000
END:DAYLIGHT
BEGIN:STANDARD
TZOFFSETFROM:-0700
TZOFFSETTO:-0800
TZNAME:PST
DTSTART:20231105T090000
END:STANDARD
BEGIN:DAYLIGHT
TZOFFSETFROM:-0800
TZOFFSETTO:-0700
TZNAME:PDT
DTSTART:20240310T100000
END:DAYLIGHT
BEGIN:STANDARD
TZOFFSETFROM:-0700
TZOFFSETTO:-0800
TZNAME:PST
DTSTART:20241103T090000
END:STANDARD
BEGIN:DAYLIGHT
TZOFFSETFROM:-0800
TZOFFSETTO:-0700
TZNAME:PDT
DTSTART:20250309T100000
END:DAYLIGHT
BEGIN:STANDARD
TZOFFSETFROM:-0700
TZOFFSETTO:-0800
TZNAME:PST
DTSTART:20251102T090000
END:STANDARD
END:VTIMEZONE
BEGIN:VEVENT
DTSTART;TZID=America/Los_Angeles:20240216T180000
DTEND;TZID=America/Los_Angeles:20240216T193000
DTSTAMP:20260425T041243
CREATED:20240207T194200Z
LAST-MODIFIED:20240207T194200Z
UID:4075-1708106400-1708111800@fiaeastbay.org
SUMMARY:Richmond Peace Walk
DESCRIPTION:
URL:https://fiaeastbay.org/event/richmond-peace-walk-10/
ATTACH;FMTTYPE=image/png:https://fiaeastbay.org/wp-content/uploads/2024/02/RichmondPWFeb2024.png
END:VEVENT
BEGIN:VEVENT
DTSTART;TZID=America/Los_Angeles:20240215T183000
DTEND;TZID=America/Los_Angeles:20240215T200000
DTSTAMP:20260425T041243
CREATED:20240124T005345Z
LAST-MODIFIED:20240124T190223Z
UID:4015-1708021800-1708027200@fiaeastbay.org
SUMMARY:Public Safety Conversation with Chesa Boudin
DESCRIPTION:Register and submit your questions here: bit.ly/boudin-event-registration \nAttend virtually (link to be provided after registration) OR\nIn person: Montclair Presbyterian Church\, 5701 Thornhill Drive\, Oakland\n~~~\nEveryone deserves to feel and be safe in their community. \nWhat is the role of the District Attorney in public safety\, and which approaches by district attorneys work best for our communities?  Join us in a conversation with Chesa Boudin\, Executive Director\, UC Berkeley Criminal Law & Justice Center and former San Francisco District Attorney. When you register\, you can also propose questions to ask our speaker.\n~~~ \n\n\n\n\nCosponsors include the Interfaith Coalition for Justice in our Jails\, Congregation Beth El\, Kehilla Community Synagogue\, Lakeshore Ave Baptist Church\, Montclair Presbyterian Church\, Plymouth UCC-The Jazz & Justice Church\, Skyline Community Church\, St. Columba Catholic Church\, the Temple Sinai Criminal Justice Workgroup\, NorCal Bend the Arc Jewish Action\, and Faith in Action East Bay.
URL:https://fiaeastbay.org/event/public-safety-conversation-with-chesa-boudin/
ATTACH;FMTTYPE=image/png:https://fiaeastbay.org/wp-content/uploads/2024/01/Boudinpost.png
END:VEVENT
BEGIN:VEVENT
DTSTART;TZID=America/Los_Angeles:20240215T130000
DTEND;TZID=America/Los_Angeles:20240215T140000
DTSTAMP:20260425T041243
CREATED:20240120T043711Z
LAST-MODIFIED:20240201T235342Z
UID:3952-1708002000-1708005600@fiaeastbay.org
SUMMARY:Voter Engagement Faith Leader Cohort
DESCRIPTION:REGISTER \nFor more information about Faith Leader Cohorts contact Director of Clergy Organizing Rev. Rob Newells-Newton: rob@fiaeastbay.org
URL:https://fiaeastbay.org/event/voter-engagement-faith-leader-cohort/
ATTACH;FMTTYPE=image/png:https://fiaeastbay.org/wp-content/uploads/2024/01/VEC.png
END:VEVENT
BEGIN:VEVENT
DTSTART;TZID=America/Los_Angeles:20240213T183000
DTEND;TZID=America/Los_Angeles:20240213T200000
DTSTAMP:20260425T041243
CREATED:20240206T020304Z
LAST-MODIFIED:20240207T015517Z
UID:4066-1707849000-1707854400@fiaeastbay.org
SUMMARY:Leadership Development Training
DESCRIPTION:Leadership Development Training: 6:30 p.m.\, Zoom \nYou are invited to learn more about Faith in Action East Bay and how we organize to improve our communities. The goal is to introduce our methodology and organizing structures. The invitation is open to everyone who would like to know about our work. All are welcome! \nRegister/ Regístrese \n~~~ \nFormación para el desarrollo del liderazgo: 6:30 p.m.\, Zoom\nEstás invitado a aprender más sobre Fe en Acción del Este de la Bahía y cómo nos organizamos para mejorar nuestras comunidades. El objetivo es presentar nuestra metodología y estructuras organizativas. La invitación está abierta a todos los que deseen conocer nuestro trabajo. ¡Todos son bienvenidos! \nRegister/ Regístrese
URL:https://fiaeastbay.org/event/leadership-development-training-13/
ATTACH;FMTTYPE=image/png:https://fiaeastbay.org/wp-content/uploads/2024/02/LDT.png
END:VEVENT
BEGIN:VEVENT
DTSTART;TZID=America/Los_Angeles:20240210T100000
DTEND;TZID=America/Los_Angeles:20240210T150000
DTSTAMP:20260425T041243
CREATED:20240120T040024Z
LAST-MODIFIED:20240120T052646Z
UID:3939-1707559200-1707577200@fiaeastbay.org
SUMMARY:Immigration Forum
DESCRIPTION:
URL:https://fiaeastbay.org/event/immigration-forum-5/
END:VEVENT
BEGIN:VEVENT
DTSTART;TZID=America/Los_Angeles:20240209T180000
DTEND;TZID=America/Los_Angeles:20240209T200000
DTSTAMP:20260425T041243
CREATED:20231218T203041Z
LAST-MODIFIED:20240206T004602Z
UID:3886-1707501600-1707508800@fiaeastbay.org
SUMMARY:Ceasefire Night Walk
DESCRIPTION:Location: St. Patrick’s Church at St. Mary’s Center\, 925 Brockhurst St. (San Pablo Ave. at 32nd St.)\n\nNight walks:\n6pm: Gathering for pre-walk/corners process\n6:30pm: walk or stand on corners\n7:30pm: returned back to starting location or completed from the corners\nBy 7:45pm\, walk process completed\nFor more information\, please contact Chris Moreno at chris@fiaeastbay.org
URL:https://fiaeastbay.org/event/ceasefire-night-walk-59/
ATTACH;FMTTYPE=image/png:https://fiaeastbay.org/wp-content/uploads/2021/12/OaklandCeasefire_cal.png
END:VEVENT
BEGIN:VEVENT
DTSTART;TZID=America/Los_Angeles:20240208T130000
DTEND;TZID=America/Los_Angeles:20240208T140000
DTSTAMP:20260425T041243
CREATED:20240120T050921Z
LAST-MODIFIED:20240120T053213Z
UID:3990-1707397200-1707400800@fiaeastbay.org
SUMMARY:Contra Costa County Faith Leader Gathering
DESCRIPTION:REGISTER \nFor more information about Quarterly County-Wide Faith Leader Gatherings contact Director of Clergy Organizing Rev. Rob Newells-Newton: rob@fiaeastbay.org
URL:https://fiaeastbay.org/event/contra-costa-county-faith-leader-gathering/
ATTACH;FMTTYPE=image/png:https://fiaeastbay.org/wp-content/uploads/2024/01/FLClaunch.png
END:VEVENT
BEGIN:VEVENT
DTSTART;TZID=America/Los_Angeles:20240204T110000
DTEND;TZID=America/Los_Angeles:20240204T140000
DTSTAMP:20260425T041243
CREATED:20240129T194445Z
LAST-MODIFIED:20240129T194445Z
UID:4029-1707044400-1707055200@fiaeastbay.org
SUMMARY:Reparations Church
DESCRIPTION:
URL:https://fiaeastbay.org/event/reparations-church/
ATTACH;FMTTYPE=image/png:https://fiaeastbay.org/wp-content/uploads/2024/01/Reparations-flyer.png
END:VEVENT
BEGIN:VEVENT
DTSTART;TZID=America/Los_Angeles:20240201T130000
DTEND;TZID=America/Los_Angeles:20240201T140000
DTSTAMP:20260425T041243
CREATED:20240120T045403Z
LAST-MODIFIED:20240125T180300Z
UID:3973-1706792400-1706796000@fiaeastbay.org
SUMMARY:Black Faith Leaders Cohort
DESCRIPTION:REGISTER \nFor more information about Faith Leader Cohorts contact Director of Clergy Organizing Rev. Rob Newells-Newton: rob@fiaeastbay.org
URL:https://fiaeastbay.org/event/black-faith-leaders-cohort/
ATTACH;FMTTYPE=image/png:https://fiaeastbay.org/wp-content/uploads/2024/01/FLC4-1.png
END:VEVENT
BEGIN:VEVENT
DTSTART;TZID=America/Los_Angeles:20240128T130000
DTEND;TZID=America/Los_Angeles:20240128T140000
DTSTAMP:20260425T041243
CREATED:20240120T040239Z
LAST-MODIFIED:20240120T040257Z
UID:3942-1706446800-1706450400@fiaeastbay.org
SUMMARY:Tenant Know-Your-Rights Training
DESCRIPTION:
URL:https://fiaeastbay.org/event/tenants-know-your-rights-training/
ATTACH;FMTTYPE=image/png:https://fiaeastbay.org/wp-content/uploads/2024/01/BethLuthTenantsKYR.png
END:VEVENT
BEGIN:VEVENT
DTSTART;TZID=America/Los_Angeles:20240127T100000
DTEND;TZID=America/Los_Angeles:20240127T160000
DTSTAMP:20260425T041243
CREATED:20240111T230159Z
LAST-MODIFIED:20240116T213051Z
UID:3932-1706349600-1706371200@fiaeastbay.org
SUMMARY:PICO California January Leadership Assembly
DESCRIPTION:REGISTER\nJoin us for a PICO California New Year Leadership Assembly. \nWe will gather across our faith and spiritual traditions to bless our federations and network in 2024\, proclaim our shared vision for a moral economy in California\, and launch our organizing campaigns. \nJoin us as we build relationships\, sing\, pray\, strategize\, and move ourselves into collective action in the New Year. \nDate: January 27th\, 2023. \nLocation: Hilton Oakland Airport (One Hegenberger Rd\, Oakland\, CA 94621) \nStart Date & Time: Jan 27th\, at 10:00 am (Lunch will be provided) \nEnd Date & Time: Jan 27th\, at 4:00 pm \nTravel: Attendees are responsible for transportation (ground and air). \nRegistration Deadline: 5 pm January 18th \nCOVID-19 Protocols \nIt is our current requirement that everyone who attends PICO CA events is vaccinated (unless a health exemption is requested)\, in an effort to ensure the safety of all of those who are in attendance. We also request that everyone take a COVID-19 test prior to attending the event and be individual stewards of our collective health by staying at home if the test results come back positive. \nFace masks are available throughout the event for attendees to wear. \nRegistration or event logistics questions should be directed to registration@picocalifornia.org \n\n\n\n\n\n\n\n\n\n\n\n\n\n\nREGISTRATION DEADLINE:\nJANUARY 18\, 2024\n5PM \nREGISTER
URL:https://fiaeastbay.org/event/pico-california-january-leadership-assembly/
ATTACH;FMTTYPE=image/png:https://fiaeastbay.org/wp-content/uploads/2024/01/PICOart.png
END:VEVENT
BEGIN:VEVENT
DTSTART;TZID=America/Los_Angeles:20240127T090000
DTEND;TZID=America/Los_Angeles:20240127T130000
DTSTAMP:20260425T041243
CREATED:20231208T182843Z
LAST-MODIFIED:20231208T182843Z
UID:3860-1706346000-1706360400@fiaeastbay.org
SUMMARY:Bulky Block Party
DESCRIPTION:Attend a Bulky Block Party event for free large-item disposal\nJoin us on the last Saturday of every month for a Bulky Block Party to dispose of your large unwanted items — the right way\, and for free! Residents only. Please bring proof of residency\, such as a utility bill. \n\n\n\n\n\n\n\n\n\nBulky Block Party events are typically held the last Saturday of every month (except during holiday weekends) from 9am to 1pm at 7101 Edgewater Drive\, Oakland\, CA. Oakland residents may drop off items that don’t fit in their trash cart at home for free! \nLocation: 7101 Edgewater Drive \nTime: 9 a.m. to 1 p.m. \n\nLearn more at the City of Oakland website.  \n\nUpcoming 2023 Bulky Block Party Dates: \n\nSaturday January 27th\, 2024\nSaturday February 24th\, 2024\nSaturday March 30th\, 2024\nSaturday April 27th\, 2024\nSaturday May 18th\, 2024 (One week early\, as 5/25 is Memorial Day weekend)\nSaturday June 29th\, 2024\nSaturday July 27th\, 2024\nSaturday August 31st\, 2024\nSaturday September 28th\, 2024\nSaturday October 26th\, 2024\nNovember 2024 – none\nDecember 2024 – none
URL:https://fiaeastbay.org/event/bulky-block-party-13/
ATTACH;FMTTYPE=image/png:https://fiaeastbay.org/wp-content/uploads/2022/05/free-trash-icon-347-thumb-e1686701159620.png
END:VEVENT
BEGIN:VEVENT
DTSTART;TZID=America/Los_Angeles:20240126T180000
DTEND;TZID=America/Los_Angeles:20240126T200000
DTSTAMP:20260425T041243
CREATED:20231218T202901Z
LAST-MODIFIED:20231218T202901Z
UID:3884-1706292000-1706299200@fiaeastbay.org
SUMMARY:Ceasefire Night Walk
DESCRIPTION:Location: St. Benedict’s Church\, 2245 82nd Ave.\n\nNight walks:\n6pm: Gathering for pre-walk/corners process\n6:30pm: walk or stand on corners\n7:30pm: returned back to starting location or completed from the corners\nBy 7:45pm\, walk process completed\nFor more information\, please contact Chris Moreno at chris@fiaeastbay.org
URL:https://fiaeastbay.org/event/ceasefire-night-walk-58/
ATTACH;FMTTYPE=image/png:https://fiaeastbay.org/wp-content/uploads/2021/12/OaklandCeasefire_cal.png
END:VEVENT
BEGIN:VEVENT
DTSTART;TZID=America/Los_Angeles:20240119T180000
DTEND;TZID=America/Los_Angeles:20240119T200000
DTSTAMP:20260425T041243
CREATED:20231221T234904Z
LAST-MODIFIED:20231221T234904Z
UID:3911-1705687200-1705694400@fiaeastbay.org
SUMMARY:Richmond Peace Walk
DESCRIPTION:
URL:https://fiaeastbay.org/event/richmond-peace-walk-9/
ATTACH;FMTTYPE=image/png:https://fiaeastbay.org/wp-content/uploads/2023/12/RichmondPWJan2024.png
END:VEVENT
BEGIN:VEVENT
DTSTART;TZID=America/Los_Angeles:20240119T180000
DTEND;TZID=America/Los_Angeles:20240119T200000
DTSTAMP:20260425T041243
CREATED:20231218T202706Z
LAST-MODIFIED:20231218T202706Z
UID:3882-1705687200-1705694400@fiaeastbay.org
SUMMARY:Ceasefire Night Walk
DESCRIPTION:Location: St. Patrick’s Church at St. Mary’s Center\, 925 Brockhurst St. (San Pablo Ave. at 32nd St.)\n\nNight walks:\n6pm: Gathering for pre-walk/corners process\n6:30pm: walk or stand on corners\n7:30pm: returned back to starting location or completed from the corners\nBy 7:45pm\, walk process completed\nFor more information\, please contact Chris Moreno at chris@fiaeastbay.org
URL:https://fiaeastbay.org/event/ceasefire-night-walk-57/
ATTACH;FMTTYPE=image/png:https://fiaeastbay.org/wp-content/uploads/2021/12/OaklandCeasefire_cal.png
END:VEVENT
BEGIN:VEVENT
DTSTART;TZID=America/Los_Angeles:20240117T183000
DTEND;TZID=America/Los_Angeles:20240117T193000
DTSTAMP:20260425T041243
CREATED:20240104T182114Z
LAST-MODIFIED:20240104T182208Z
UID:3923-1705516200-1705519800@fiaeastbay.org
SUMMARY:Zoom Workshop: How to Write Letters to the Editor
DESCRIPTION:How to Write Letters to the Editor \nA free 1-hour Zoom Workshop\, Wednesday\, January 17\,  6:30-7:30 p.m. \nPre-registration Link \nLearn to write letters to the editor that are likely to be published. Policymakers\, and many others\, read opinion letters\, and the effort is well worth your time.  \nYou’ll find out what editors are looking for; how to submit letters; and successful writing formulas. \nWe’ll encourage you to write about progressive reforms to the Alameda County criminal system; however\, you may choose to write about any topic.  \nHeld by the Economic Justice Committee of Kehilla Community Synagogue\, and the Interfaith Coalition for Justice in our Jails (www.icjjalamedacounty.org). Questions? Contact lizkatznow@gmail.com \nPre-registration Link
URL:https://fiaeastbay.org/event/zoom-workshop-how-to-write-letters-to-the-editor/
ATTACH;FMTTYPE=image/png:https://fiaeastbay.org/wp-content/uploads/2024/01/YOMpost.png
END:VEVENT
BEGIN:VEVENT
DTSTART;TZID=America/Los_Angeles:20240112T180000
DTEND;TZID=America/Los_Angeles:20240112T200000
DTSTAMP:20260425T041243
CREATED:20231218T202529Z
LAST-MODIFIED:20231218T202529Z
UID:3880-1705082400-1705089600@fiaeastbay.org
SUMMARY:Ceasefire Night Walk
DESCRIPTION:Location: First Mt. Sinai\, 1970 86th Ave.\n\nNight walks:\n6pm: Gathering for pre-walk/corners process\n6:30pm: walk or stand on corners\n7:30pm: returned back to starting location or completed from the corners\nBy 7:45pm\, walk process completed\nFor more information\, please contact Chris Moreno at chris@fiaeastbay.org
URL:https://fiaeastbay.org/event/ceasefire-night-walk-56/
ATTACH;FMTTYPE=image/png:https://fiaeastbay.org/wp-content/uploads/2021/12/OaklandCeasefire_cal.png
END:VEVENT
BEGIN:VEVENT
DTSTART;TZID=America/Los_Angeles:20240111T130000
DTEND;TZID=America/Los_Angeles:20240111T140000
DTSTAMP:20260425T041243
CREATED:20231218T231828Z
LAST-MODIFIED:20231218T231945Z
UID:3904-1704978000-1704981600@fiaeastbay.org
SUMMARY:East Bay Faith Leaders 2024 Organizing Campaign Launch
DESCRIPTION:
URL:https://fiaeastbay.org/event/east-bay-faith-leaders-2024-organizing-campaign-launch/
END:VEVENT
BEGIN:VEVENT
DTSTART;TZID=America/Los_Angeles:20240110T183000
DTEND;TZID=America/Los_Angeles:20240110T200000
DTSTAMP:20260425T041243
CREATED:20231218T205226Z
LAST-MODIFIED:20231218T205226Z
UID:3900-1704911400-1704916800@fiaeastbay.org
SUMMARY:Town Hall for Sheriff Oversight
DESCRIPTION:REGISTER\n \n  \n  \n  \n  \n  \n  \n  \n  \n  \n  \n  \n  \n  \n  \n  \n  \n  \n  \nREGISTER\n  \n 
URL:https://fiaeastbay.org/event/town-hall-for-sheriff-oversight/
END:VEVENT
BEGIN:VEVENT
DTSTART;TZID=America/Los_Angeles:20240107T130000
DTEND;TZID=America/Los_Angeles:20240107T140000
DTSTAMP:20260425T041243
CREATED:20231220T223345Z
LAST-MODIFIED:20231230T031633Z
UID:3908-1704632400-1704636000@fiaeastbay.org
SUMMARY:Discussion on Neighborhood Safety
DESCRIPTION:
URL:https://fiaeastbay.org/event/discussion-on-neighborhood-safety/
ATTACH;FMTTYPE=image/png:https://fiaeastbay.org/wp-content/uploads/2023/12/BethLuthComSafetyJan2024_post.png
END:VEVENT
BEGIN:VEVENT
DTSTART;TZID=America/Los_Angeles:20231231T150000
DTEND;TZID=America/Los_Angeles:20231231T163000
DTSTAMP:20260425T041243
CREATED:20231115T004537Z
LAST-MODIFIED:20231115T004537Z
UID:3807-1704034800-1704040200@fiaeastbay.org
SUMMARY:Ceremony of the Crosses
DESCRIPTION:
URL:https://fiaeastbay.org/event/ceremony-of-the-crosses-2/
ATTACH;FMTTYPE=image/png:https://fiaeastbay.org/wp-content/uploads/2023/11/CrossesDec2023.png
END:VEVENT
BEGIN:VEVENT
DTSTART;TZID=America/Los_Angeles:20231215T180000
DTEND;TZID=America/Los_Angeles:20231215T200000
DTSTAMP:20260425T041243
CREATED:20230924T160022Z
LAST-MODIFIED:20230924T160022Z
UID:3696-1702663200-1702670400@fiaeastbay.org
SUMMARY:Ceasefire Night Walk
DESCRIPTION:Location: At Thy Word\, 8915 International Blvd\, Oakland \n\nNight walks:\n6pm: Gathering for pre-walk/corners process\n6:30pm: walk or stand on corners\n7:30pm: returned back to starting location or completed from the corners\nBy 7:45pm\, walk process completed\nFor more information\, please contact Chris Moreno at chris@fiaeastbay.org
URL:https://fiaeastbay.org/event/ceasefire-night-walk-54/
ATTACH;FMTTYPE=image/png:https://fiaeastbay.org/wp-content/uploads/2021/12/OaklandCeasefire_cal.png
END:VEVENT
BEGIN:VEVENT
DTSTART;TZID=America/Los_Angeles:20231208T180000
DTEND;TZID=America/Los_Angeles:20231208T200000
DTSTAMP:20260425T041243
CREATED:20230924T160129Z
LAST-MODIFIED:20230924T160129Z
UID:3698-1702058400-1702065600@fiaeastbay.org
SUMMARY:Ceasefire Night Walk
DESCRIPTION:Location: First Mt. Sinai 1970 86th Ave\, Oakland\n\nNight walks:\n6pm: Gathering for pre-walk/corners process\n6:30pm: walk or stand on corners\n7:30pm: returned back to starting location or completed from the corners\nBy 7:45pm\, walk process completed\nFor more information\, please contact Chris Moreno at chris@fiaeastbay.org
URL:https://fiaeastbay.org/event/ceasefire-night-walk-55/
ATTACH;FMTTYPE=image/png:https://fiaeastbay.org/wp-content/uploads/2021/12/OaklandCeasefire_cal.png
END:VEVENT
BEGIN:VEVENT
DTSTART;TZID=America/Los_Angeles:20231207T180000
DTEND;TZID=America/Los_Angeles:20231207T193000
DTSTAMP:20260425T041243
CREATED:20231115T181050Z
LAST-MODIFIED:20231128T030138Z
UID:3811-1701972000-1701977400@fiaeastbay.org
SUMMARY:Action on Illegal Dumping
DESCRIPTION:REGISTER\n\n  \n  \n 
URL:https://fiaeastbay.org/event/action-on-illegal-dumping/
ATTACH;FMTTYPE=image/png:https://fiaeastbay.org/wp-content/uploads/2023/11/IDactionDec2023-1.png
END:VEVENT
BEGIN:VEVENT
DTSTART;TZID=America/Los_Angeles:20231205T183000
DTEND;TZID=America/Los_Angeles:20231205T193000
DTSTAMP:20260425T041243
CREATED:20231114T195658Z
LAST-MODIFIED:20231114T195658Z
UID:3804-1701801000-1701804600@fiaeastbay.org
SUMMARY:Leadership Development Training
DESCRIPTION:  \n  \n 
URL:https://fiaeastbay.org/event/leadership-development-training-12/
END:VEVENT
BEGIN:VEVENT
DTSTART;TZID=America/Los_Angeles:20231204T183000
DTEND;TZID=America/Los_Angeles:20231204T193000
DTSTAMP:20260425T041243
CREATED:20231128T012822Z
LAST-MODIFIED:20231128T013059Z
UID:3814-1701714600-1701718200@fiaeastbay.org
SUMMARY:Illegal Dumping Research Meeting with Janani Ramachandran
DESCRIPTION:REGISTER
URL:https://fiaeastbay.org/event/illegal-dumping-research-meeting-8/
ATTACH;FMTTYPE=image/png:https://fiaeastbay.org/wp-content/uploads/2023/11/IDresearchDec4.png
END:VEVENT
BEGIN:VEVENT
DTSTART;TZID=America/Los_Angeles:20231203T180000
DTEND;TZID=America/Los_Angeles:20231203T193000
DTSTAMP:20260425T041243
CREATED:20231114T011616Z
LAST-MODIFIED:20231114T011616Z
UID:3800-1701626400-1701631800@fiaeastbay.org
SUMMARY:End-of-Year Celebration Assembly
DESCRIPTION:REGISTER // REGÍSTRESE
URL:https://fiaeastbay.org/event/end-of-year-celebration-assembly/
ATTACH;FMTTYPE=image/png:https://fiaeastbay.org/wp-content/uploads/2023/11/RLAdec23.png
END:VEVENT
BEGIN:VEVENT
DTSTART;TZID=America/Los_Angeles:20231118T120000
DTEND;TZID=America/Los_Angeles:20231118T160000
DTSTAMP:20260425T041243
CREATED:20230904T173344Z
LAST-MODIFIED:20230926T141957Z
UID:3668-1700308800-1700323200@fiaeastbay.org
SUMMARY:Guns to Gardens
DESCRIPTION:
URL:https://fiaeastbay.org/event/guns-to-gardens-2/
LOCATION:Mt. Zion Missionary Baptist Church\, 1203 Willow Street\, Oakland\, CA\, 94607\, United States
ATTACH;FMTTYPE=image/png:https://fiaeastbay.org/wp-content/uploads/2023/09/GG2023Eng.png
END:VEVENT
BEGIN:VEVENT
DTSTART;TZID=America/Los_Angeles:20231117T180000
DTEND;TZID=America/Los_Angeles:20231117T200000
DTSTAMP:20260425T041243
CREATED:20230924T155912Z
LAST-MODIFIED:20230924T155912Z
UID:3694-1700244000-1700251200@fiaeastbay.org
SUMMARY:Ceasefire Night Walk
DESCRIPTION:Location: At Thy Word\, 8915 International Blvd\, Oakland \n\nNight walks:\n6pm: Gathering for pre-walk/corners process\n6:30pm: walk or stand on corners\n7:30pm: returned back to starting location or completed from the corners\nBy 7:45pm\, walk process completed\nFor more information\, please contact Chris Moreno at chris@fiaeastbay.org
URL:https://fiaeastbay.org/event/ceasefire-night-walk-53/
ATTACH;FMTTYPE=image/png:https://fiaeastbay.org/wp-content/uploads/2021/12/OaklandCeasefire_cal.png
END:VEVENT
BEGIN:VEVENT
DTSTART;TZID=America/Los_Angeles:20231116T120000
DTEND;TZID=America/Los_Angeles:20231116T130000
DTSTAMP:20260425T041243
CREATED:20230818T174752Z
LAST-MODIFIED:20230818T174752Z
UID:3628-1700136000-1700139600@fiaeastbay.org
SUMMARY:Rise Up for Justice ~ Fundraising Gala
DESCRIPTION:
URL:https://fiaeastbay.org/event/rise-up-for-justice-fundraising-gala/
ATTACH;FMTTYPE=image/png:https://fiaeastbay.org/wp-content/uploads/2023/08/RUFJ2023.png
END:VEVENT
END:VCALENDAR