BEGIN:VCALENDAR
VERSION:2.0
PRODID:-//Faith in  Action East Bay - ECPv6.15.20//NONSGML v1.0//EN
CALSCALE:GREGORIAN
METHOD:PUBLISH
X-WR-CALNAME:Faith in  Action East Bay
X-ORIGINAL-URL:https://fiaeastbay.org
X-WR-CALDESC:Events for Faith in  Action East Bay
REFRESH-INTERVAL;VALUE=DURATION:PT1H
X-Robots-Tag:noindex
X-PUBLISHED-TTL:PT1H
BEGIN:VTIMEZONE
TZID:America/Los_Angeles
BEGIN:DAYLIGHT
TZOFFSETFROM:-0800
TZOFFSETTO:-0700
TZNAME:PDT
DTSTART:20220313T100000
END:DAYLIGHT
BEGIN:STANDARD
TZOFFSETFROM:-0700
TZOFFSETTO:-0800
TZNAME:PST
DTSTART:20221106T090000
END:STANDARD
BEGIN:DAYLIGHT
TZOFFSETFROM:-0800
TZOFFSETTO:-0700
TZNAME:PDT
DTSTART:20230312T100000
END:DAYLIGHT
BEGIN:STANDARD
TZOFFSETFROM:-0700
TZOFFSETTO:-0800
TZNAME:PST
DTSTART:20231105T090000
END:STANDARD
BEGIN:DAYLIGHT
TZOFFSETFROM:-0800
TZOFFSETTO:-0700
TZNAME:PDT
DTSTART:20240310T100000
END:DAYLIGHT
BEGIN:STANDARD
TZOFFSETFROM:-0700
TZOFFSETTO:-0800
TZNAME:PST
DTSTART:20241103T090000
END:STANDARD
END:VTIMEZONE
BEGIN:VEVENT
DTSTART;TZID=America/Los_Angeles:20231104T140000
DTEND;TZID=America/Los_Angeles:20231104T160000
DTSTAMP:20260425T071045
CREATED:20231103T000237Z
LAST-MODIFIED:20231103T000312Z
UID:3783-1699106400-1699113600@fiaeastbay.org
SUMMARY:Meet Public Safety Officers
DESCRIPTION:
URL:https://fiaeastbay.org/event/meet-public-safety-officers/
ATTACH;FMTTYPE=image/jpeg:https://fiaeastbay.org/wp-content/uploads/2023/11/DE2D251713E747B2AA5C5A5E1B780DFB.jpg
END:VEVENT
BEGIN:VEVENT
DTSTART;TZID=America/Los_Angeles:20231028T090000
DTEND;TZID=America/Los_Angeles:20231028T130000
DTSTAMP:20260425T071045
CREATED:20230614T001200Z
LAST-MODIFIED:20230614T001200Z
UID:3484-1698483600-1698498000@fiaeastbay.org
SUMMARY:Bulky Block Party
DESCRIPTION:Attend a Bulky Block Party event for free large-item disposal\nJoin us on the last Saturday of every month for a Bulky Block Party to dispose of your large unwanted items — the right way\, and for free! Residents only. Please bring proof of residency\, such as a utility bill. \n\n\n\n\n\n\n\n\n\nBulky Block Party events are typically held the last Saturday of every month (except during holiday weekends) from 9am to 1pm at 7101 Edgewater Drive\, Oakland\, CA. Oakland residents may drop off items that don’t fit in their trash cart at home for free! \nLocation: 7101 Edgewater Drive \nTime: 9 a.m. to 1 p.m. \n\nLearn more at the City of Oakland website.  \n\n 
URL:https://fiaeastbay.org/event/bulky-block-party-12/
ATTACH;FMTTYPE=image/png:https://fiaeastbay.org/wp-content/uploads/2022/05/free-trash-icon-347-thumb-e1686701159620.png
END:VEVENT
BEGIN:VEVENT
DTSTART;TZID=America/Los_Angeles:20231027T180000
DTEND;TZID=America/Los_Angeles:20231027T200000
DTSTAMP:20260425T071045
CREATED:20230924T155702Z
LAST-MODIFIED:20231012T200455Z
UID:3690-1698429600-1698436800@fiaeastbay.org
SUMMARY:Ceasefire Night Walk
DESCRIPTION:Location: St. Benedict 2245 82nd Ave\, Oakland\n\nNight walks:\n6pm: Gathering for pre-walk/corners process\n6:30pm: walk or stand on corners\n7:30pm: returned back to starting location or completed from the corners\nBy 7:45pm\, walk process completed\nFor more information\, please contact Chris Moreno at chris@fiaeastbay.org
URL:https://fiaeastbay.org/event/ceasefire-night-walk-51/
ATTACH;FMTTYPE=image/png:https://fiaeastbay.org/wp-content/uploads/2023/09/CeasefireOct27post.png
END:VEVENT
BEGIN:VEVENT
DTSTART;TZID=America/Los_Angeles:20231023T180000
DTEND;TZID=America/Los_Angeles:20231023T193000
DTSTAMP:20260425T071045
CREATED:20231017T002943Z
LAST-MODIFIED:20231017T002943Z
UID:3747-1698084000-1698089400@fiaeastbay.org
SUMMARY:Illegal Dumping Research Meeting
DESCRIPTION:
URL:https://fiaeastbay.org/event/illegal-dumping-research-meeting-7/
END:VEVENT
BEGIN:VEVENT
DTSTART;TZID=America/Los_Angeles:20231020T183000
DTEND;TZID=America/Los_Angeles:20231020T200000
DTSTAMP:20260425T071045
CREATED:20231010T124638Z
LAST-MODIFIED:20231010T124638Z
UID:3730-1697826600-1697832000@fiaeastbay.org
SUMMARY:Richmond Peace Walk
DESCRIPTION:
URL:https://fiaeastbay.org/event/richmond-peace-walk-8/
ATTACH;FMTTYPE=image/png:https://fiaeastbay.org/wp-content/uploads/2023/10/RichmondPWOct2023_post.png
END:VEVENT
BEGIN:VEVENT
DTSTART;TZID=America/Los_Angeles:20231020T180000
DTEND;TZID=America/Los_Angeles:20231020T200000
DTSTAMP:20260425T071045
CREATED:20230924T155543Z
LAST-MODIFIED:20231012T200348Z
UID:3688-1697824800-1697832000@fiaeastbay.org
SUMMARY:Ceasefire Night Walk
DESCRIPTION:Location:  Tabernacle Missionary Baptist\, 10115 Edes Ave\, Oakland\n\nNight walks:\n6pm: Gathering for pre-walk/corners process\n6:30pm: walk or stand on corners\n7:30pm: returned back to starting location or completed from the corners\nBy 7:45pm\, walk process completed\nFor more information\, please contact Chris Moreno at chris@fiaeastbay.org
URL:https://fiaeastbay.org/event/ceasefire-night-walk-50/
ATTACH;FMTTYPE=image/png:https://fiaeastbay.org/wp-content/uploads/2023/09/CeasefireOct20post.png
END:VEVENT
BEGIN:VEVENT
DTSTART;TZID=America/Los_Angeles:20231017T183000
DTEND;TZID=America/Los_Angeles:20231017T200000
DTSTAMP:20260425T071045
CREATED:20231010T120959Z
LAST-MODIFIED:20231010T121119Z
UID:3725-1697567400-1697572800@fiaeastbay.org
SUMMARY:Leadership Development Training
DESCRIPTION:  \nREGISTER\n\n\nREGISTER
URL:https://fiaeastbay.org/event/leadership-development-training-11/
END:VEVENT
BEGIN:VEVENT
DTSTART;TZID=America/Los_Angeles:20231013T180000
DTEND;TZID=America/Los_Angeles:20231013T200000
DTSTAMP:20260425T071045
CREATED:20230924T155423Z
LAST-MODIFIED:20230924T155423Z
UID:3686-1697220000-1697227200@fiaeastbay.org
SUMMARY:Ceasefire Night Walk
DESCRIPTION:Location: First Mt. Sinai 1970 86th Ave\, Oakland\n\nNight walks:\n6pm: Gathering for pre-walk/corners process\n6:30pm: walk or stand on corners\n7:30pm: returned back to starting location or completed from the corners\nBy 7:45pm\, walk process completed\nFor more information\, please contact Chris Moreno at chris@fiaeastbay.org
URL:https://fiaeastbay.org/event/ceasefire-night-walk-49/
ATTACH;FMTTYPE=image/png:https://fiaeastbay.org/wp-content/uploads/2021/12/OaklandCeasefire_cal.png
END:VEVENT
BEGIN:VEVENT
DTSTART;TZID=America/Los_Angeles:20231008T133000
DTEND;TZID=America/Los_Angeles:20231008T153000
DTSTAMP:20260425T071045
CREATED:20230929T123747Z
LAST-MODIFIED:20230929T123747Z
UID:3704-1696771800-1696779000@fiaeastbay.org
SUMMARY:Emeryville Peace Walk
DESCRIPTION:
URL:https://fiaeastbay.org/event/emeryville-peace-walk/
ATTACH;FMTTYPE=image/png:https://fiaeastbay.org/wp-content/uploads/2023/09/EmeryvillePW1023.png
END:VEVENT
BEGIN:VEVENT
DTSTART;TZID=America/Los_Angeles:20231006T183000
DTEND;TZID=America/Los_Angeles:20231006T203000
DTSTAMP:20260425T071045
CREATED:20230929T124413Z
LAST-MODIFIED:20230929T124413Z
UID:3707-1696617000-1696624200@fiaeastbay.org
SUMMARY:Laurel Peace Walk
DESCRIPTION:
URL:https://fiaeastbay.org/event/laurel-peace-walk/
ATTACH;FMTTYPE=image/png:https://fiaeastbay.org/wp-content/uploads/2023/09/Laurel-Walk-2023-10-06-Eng.png
END:VEVENT
BEGIN:VEVENT
DTSTART;TZID=America/Los_Angeles:20230930T100000
DTEND;TZID=America/Los_Angeles:20230930T140000
DTSTAMP:20260425T071045
CREATED:20230918T175235Z
LAST-MODIFIED:20230926T142042Z
UID:3683-1696068000-1696082400@fiaeastbay.org
SUMMARY:Community Safety Forward: Forum with Councilmember Carroll Fife
DESCRIPTION:REGISTER
URL:https://fiaeastbay.org/event/community-safety-forward-forum-with-councilmember-carroll-fife/
LOCATION:Mt. Zion Missionary Baptist Church\, 1203 Willow Street\, Oakland\, CA\, 94607\, United States
END:VEVENT
BEGIN:VEVENT
DTSTART;TZID=America/Los_Angeles:20230930T090000
DTEND;TZID=America/Los_Angeles:20230930T130000
DTSTAMP:20260425T071045
CREATED:20230614T001047Z
LAST-MODIFIED:20230614T001047Z
UID:3482-1696064400-1696078800@fiaeastbay.org
SUMMARY:Bulky Block Party
DESCRIPTION:Attend a Bulky Block Party event for free large-item disposal\nJoin us on the last Saturday of every month for a Bulky Block Party to dispose of your large unwanted items — the right way\, and for free! Residents only. Please bring proof of residency\, such as a utility bill. \n\n\n\n\n\n\n\n\n\nBulky Block Party events are typically held the last Saturday of every month (except during holiday weekends) from 9am to 1pm at 7101 Edgewater Drive\, Oakland\, CA. Oakland residents may drop off items that don’t fit in their trash cart at home for free! \nLocation: 7101 Edgewater Drive \nTime: 9 a.m. to 1 p.m. \n\nLearn more at the City of Oakland website.  \n\nUpcoming 2023 Bulky Block Party Dates \n\nSaturday September 30th\nSaturday October 28th
URL:https://fiaeastbay.org/event/bulky-block-party-11/
ATTACH;FMTTYPE=image/png:https://fiaeastbay.org/wp-content/uploads/2022/05/free-trash-icon-347-thumb-e1686701159620.png
END:VEVENT
BEGIN:VEVENT
DTSTART;TZID=America/Los_Angeles:20230929T180000
DTEND;TZID=America/Los_Angeles:20230929T200000
DTSTAMP:20260425T071045
CREATED:20230709T203751Z
LAST-MODIFIED:20230711T121005Z
UID:3559-1696010400-1696017600@fiaeastbay.org
SUMMARY:Ceasefire Night Walk
DESCRIPTION:Location: St. Patrick’s/St. Mary’s\, 925 Brockhurst St\, Oakland\n\nNight walks:\n6pm: Gathering for pre-walk/corners process\n6:30pm: walk or stand on corners\n7:30pm: returned back to starting location or completed from the corners\nBy 7:45pm\, walk process completed\nFor more information\, please contact Chris Moreno at chris@fiaeastbay.org
URL:https://fiaeastbay.org/event/ceasefire-night-walk-48/
ATTACH;FMTTYPE=image/png:https://fiaeastbay.org/wp-content/uploads/2021/12/OaklandCeasefire_cal.png
END:VEVENT
BEGIN:VEVENT
DTSTART;TZID=America/Los_Angeles:20230923T100000
DTEND;TZID=America/Los_Angeles:20230923T113000
DTSTAMP:20260425T071045
CREATED:20230825T180851Z
LAST-MODIFIED:20230825T180851Z
UID:3661-1695463200-1695468600@fiaeastbay.org
SUMMARY:Immigration Forum
DESCRIPTION:
URL:https://fiaeastbay.org/event/immigration-forum-4/
ATTACH;FMTTYPE=image/png:https://fiaeastbay.org/wp-content/uploads/2023/08/FINAL_Immigration-Forum_Parkside_2023span.png
END:VEVENT
BEGIN:VEVENT
DTSTART;TZID=America/Los_Angeles:20230922T180000
DTEND;TZID=America/Los_Angeles:20230922T200000
DTSTAMP:20260425T071045
CREATED:20230709T203618Z
LAST-MODIFIED:20230709T203618Z
UID:3557-1695405600-1695412800@fiaeastbay.org
SUMMARY:Ceasefire Night Walk
DESCRIPTION:Location: St. Anthony Church\, 1535 16th Ave\, Oakland\n\nNight walks:\n6pm: Gathering for pre-walk/corners process\n6:30pm: walk or stand on corners\n7:30pm: returned back to starting location or completed from the corners\nBy 7:45pm\, walk process completed\nFor more information\, please contact Chris Moreno at chris@fiaeastbay.org
URL:https://fiaeastbay.org/event/ceasefire-night-walk-47/
ATTACH;FMTTYPE=image/png:https://fiaeastbay.org/wp-content/uploads/2021/12/OaklandCeasefire_cal.png
END:VEVENT
BEGIN:VEVENT
DTSTART;TZID=America/Los_Angeles:20230919T183000
DTEND;TZID=America/Los_Angeles:20230919T193000
DTSTAMP:20260425T071045
CREATED:20230906T120208Z
LAST-MODIFIED:20230906T120251Z
UID:3679-1695148200-1695151800@fiaeastbay.org
SUMMARY:Leadership Development Training
DESCRIPTION:
URL:https://fiaeastbay.org/event/leadership-development-training-10/
ATTACH;FMTTYPE=image/png:https://fiaeastbay.org/wp-content/uploads/2022/02/leadership.png
END:VEVENT
BEGIN:VEVENT
DTSTART;TZID=America/Los_Angeles:20230915T183000
DTEND;TZID=America/Los_Angeles:20230915T200000
DTSTAMP:20260425T071045
CREATED:20230808T210128Z
LAST-MODIFIED:20230905T184434Z
UID:3612-1694802600-1694808000@fiaeastbay.org
SUMMARY:Richmond Peace Walk
DESCRIPTION:
URL:https://fiaeastbay.org/event/richmond-peace-walk-7/
ATTACH;FMTTYPE=image/png:https://fiaeastbay.org/wp-content/uploads/2023/08/RichmondPWSept2023_post_Eng.png
END:VEVENT
BEGIN:VEVENT
DTSTART;TZID=America/Los_Angeles:20230915T180000
DTEND;TZID=America/Los_Angeles:20230915T200000
DTSTAMP:20260425T071045
CREATED:20230709T203449Z
LAST-MODIFIED:20230828T004034Z
UID:3555-1694800800-1694808000@fiaeastbay.org
SUMMARY:Ceasefire Night Walk
DESCRIPTION:Location: At Thy Word\, 8915 International Blvd\, Oakland \n\nNight walks:\n6pm: Gathering for pre-walk/corners process\n6:30pm: walk or stand on corners\n7:30pm: returned back to starting location or completed from the corners\nBy 7:45pm\, walk process completed\nFor more information\, please contact Chris Moreno at chris@fiaeastbay.org
URL:https://fiaeastbay.org/event/ceasefire-night-walk-46/
ATTACH;FMTTYPE=image/png:https://fiaeastbay.org/wp-content/uploads/2021/12/OaklandCeasefire_cal.png
END:VEVENT
BEGIN:VEVENT
DTSTART;TZID=America/Los_Angeles:20230914T180000
DTEND;TZID=America/Los_Angeles:20230914T190000
DTSTAMP:20260425T071045
CREATED:20230823T001505Z
LAST-MODIFIED:20230823T002630Z
UID:3651-1694714400-1694718000@fiaeastbay.org
SUMMARY:Immigration Know Your Rights Training
DESCRIPTION:
URL:https://fiaeastbay.org/event/immigration-know-your-rights-training/
ATTACH;FMTTYPE=image/png:https://fiaeastbay.org/wp-content/uploads/2023/08/ParksideForumKYR.png
END:VEVENT
BEGIN:VEVENT
DTSTART;TZID=America/Los_Angeles:20230913T183000
DTEND;TZID=America/Los_Angeles:20230913T200000
DTSTAMP:20260425T071045
CREATED:20230818T180537Z
LAST-MODIFIED:20230825T175339Z
UID:3631-1694629800-1694635200@fiaeastbay.org
SUMMARY:Meet Your District Attorney
DESCRIPTION:REGISTER\nA Hybrid Town Hall with District Attorney Pamela Price\n\n\n\n\nThe voters of Alameda County elected Pamela Price for District Attorney on a reform platform to oversee the prosecution of criminal violations and the protection of victims’ rights. Now\, after her first seven months in office\, let’s talk together about her successes and challenges. \nSponsored by Interfaith Coalition for Justice in Our Jails and Faith in Action East Bay. Moderated by Yoel Haile\, Director of the Criminal Justice Program\nat the ACLU of Northern California \nREGISTER
URL:https://fiaeastbay.org/event/meet-your-district-attorney/
END:VEVENT
BEGIN:VEVENT
DTSTART;TZID=America/Los_Angeles:20230908T180000
DTEND;TZID=America/Los_Angeles:20230908T200000
DTSTAMP:20260425T071045
CREATED:20230709T203248Z
LAST-MODIFIED:20230828T004023Z
UID:3553-1694196000-1694203200@fiaeastbay.org
SUMMARY:Ceasefire Night Walk
DESCRIPTION:Location: St. Columba\, 6401 San Pablo Ave\, Oakland\n\nNight walks:\n6pm: Gathering for pre-walk/corners process\n6:30pm: walk or stand on corners\n7:30pm: returned back to starting location or completed from the corners\nBy 7:45pm\, walk process completed\nFor more information\, please contact Chris Moreno at chris@fiaeastbay.org
URL:https://fiaeastbay.org/event/ceasefire-night-walk-45/
ATTACH;FMTTYPE=image/png:https://fiaeastbay.org/wp-content/uploads/2021/12/OaklandCeasefire_cal.png
END:VEVENT
BEGIN:VEVENT
DTSTART;TZID=America/Los_Angeles:20230907T183000
DTEND;TZID=America/Los_Angeles:20230907T193000
DTSTAMP:20260425T071045
CREATED:20230906T111557Z
LAST-MODIFIED:20230906T112939Z
UID:3674-1694111400-1694115000@fiaeastbay.org
SUMMARY:Illegal Dumping Research Meeting
DESCRIPTION:Join us this Thursday 7th September for an Illegal Dumping Research Meeting with Council Member Noel Gallo. We will delve into his role in the fight against illegal dumping as chair of the Public Works and Transportation Committee in Oakland. Together we will learn about Oakland’s current and potential strategies to reduce and address the ongoing illegal dumping on our streets. The meeting will be held via Zoom from 6:30 to 7:30 p.m. Please register.\n\n~~~\nÚnase a nosotros este jueves 7 de septiembre para una reunión de investigación sobre vertidos ilegales con el concejal Noel Gallo. Profundizaremos en su papel en la lucha contra los vertidos ilegales como presidente del Comité de Obras Públicas y Transporte de Oakland. Juntos aprenderemos sobre las estrategias actuales y potenciales de Oakland para reducir y abordar los continuos vertidos ilegales en nuestras calles. La reunión se realizará vía zoom de 6:30 a 7:30 p.m. Por favor regístrese.
URL:https://fiaeastbay.org/event/illegal-dumping-research-meeting-6/
ATTACH;FMTTYPE=image/png:https://fiaeastbay.org/wp-content/uploads/2023/09/ID.png
END:VEVENT
BEGIN:VEVENT
DTSTART;TZID=America/Los_Angeles:20230903T130000
DTEND;TZID=America/Los_Angeles:20230903T150000
DTSTAMP:20260425T071045
CREATED:20230817T153820Z
LAST-MODIFIED:20230817T153820Z
UID:3624-1693746000-1693753200@fiaeastbay.org
SUMMARY:Diaper Giveaway
DESCRIPTION:
URL:https://fiaeastbay.org/event/diaper-giveaway/
ATTACH;FMTTYPE=image/png:https://fiaeastbay.org/wp-content/uploads/2023/08/SeptDiaperGive.png
END:VEVENT
BEGIN:VEVENT
DTSTART;TZID=America/Los_Angeles:20230826T090000
DTEND;TZID=America/Los_Angeles:20230826T130000
DTSTAMP:20260425T071045
CREATED:20230614T000910Z
LAST-MODIFIED:20230614T000910Z
UID:3480-1693040400-1693054800@fiaeastbay.org
SUMMARY:Bulky Block Party
DESCRIPTION:Attend a Bulky Block Party event for free large-item disposal\nJoin us on the last Saturday of every month for a Bulky Block Party to dispose of your large unwanted items — the right way\, and for free! Residents only. Please bring proof of residency\, such as a utility bill. \n\n\n\n\n\n\n\n\n\nBulky Block Party events are typically held the last Saturday of every month (except during holiday weekends) from 9am to 1pm at 7101 Edgewater Drive\, Oakland\, CA. Oakland residents may drop off items that don’t fit in their trash cart at home for free! \nLocation: 7101 Edgewater Drive \nTime: 9 a.m. to 1 p.m. \n\nLearn more at the City of Oakland website.  \n\nUpcoming 2023 Bulky Block Party Dates \n\nSaturday August 26th\nSaturday September 30th\nSaturday October 28th
URL:https://fiaeastbay.org/event/bulky-block-party-10/
ATTACH;FMTTYPE=image/png:https://fiaeastbay.org/wp-content/uploads/2022/05/free-trash-icon-347-thumb-e1686701159620.png
END:VEVENT
BEGIN:VEVENT
DTSTART;TZID=America/Los_Angeles:20230825T180000
DTEND;TZID=America/Los_Angeles:20230825T200000
DTSTAMP:20260425T071045
CREATED:20230709T203043Z
LAST-MODIFIED:20230711T120844Z
UID:3551-1692986400-1692993600@fiaeastbay.org
SUMMARY:Ceasefire Night Walk
DESCRIPTION:Location: St. Patrick’s/St. Mary’s\, 925 Brockhurst St\, Oakland\n\nNight walks:\n6pm: Gathering for pre-walk/corners process\n6:30pm: walk or stand on corners\n7:30pm: returned back to starting location or completed from the corners\nBy 7:45pm\, walk process completed\nFor more information\, please contact Chris Moreno at chris@fiaeastbay.org
URL:https://fiaeastbay.org/event/ceasefire-night-walk-44/
ATTACH;FMTTYPE=image/png:https://fiaeastbay.org/wp-content/uploads/2021/12/OaklandCeasefire_cal.png
END:VEVENT
BEGIN:VEVENT
DTSTART;TZID=America/Los_Angeles:20230822T183000
DTEND;TZID=America/Los_Angeles:20230822T183000
DTSTAMP:20260425T071045
CREATED:20230804T181213Z
LAST-MODIFIED:20230804T181633Z
UID:3595-1692729000-1692729000@fiaeastbay.org
SUMMARY:Leadership Development Training
DESCRIPTION:REGISTER
URL:https://fiaeastbay.org/event/leadership-development-training-9/
ATTACH;FMTTYPE=image/png:https://fiaeastbay.org/wp-content/uploads/2023/08/LDTAugust2023_flyer.png
END:VEVENT
BEGIN:VEVENT
DTSTART;TZID=America/Los_Angeles:20230819T120000
DTEND;TZID=America/Los_Angeles:20230819T130000
DTSTAMP:20260425T071045
CREATED:20230817T152931Z
LAST-MODIFIED:20230817T153024Z
UID:3619-1692446400-1692450000@fiaeastbay.org
SUMMARY:Prayer Vigil
DESCRIPTION:
URL:https://fiaeastbay.org/event/oakland-pastors-prayer-vigil/
ATTACH;FMTTYPE=image/png:https://fiaeastbay.org/wp-content/uploads/2023/08/prayervigil.png
END:VEVENT
BEGIN:VEVENT
DTSTART;TZID=America/Los_Angeles:20230819T100000
DTEND;TZID=America/Los_Angeles:20230819T110000
DTSTAMP:20260425T071045
CREATED:20230811T122748Z
LAST-MODIFIED:20230811T122748Z
UID:3616-1692439200-1692442800@fiaeastbay.org
SUMMARY:Rally for Housing! Contra Costa County
DESCRIPTION:
URL:https://fiaeastbay.org/event/rally-for-housing-contra-costa-county/
ATTACH;FMTTYPE=image/png:https://fiaeastbay.org/wp-content/uploads/2023/08/Rally4HousingCCC_post.png
END:VEVENT
BEGIN:VEVENT
DTSTART;TZID=America/Los_Angeles:20230818T183000
DTEND;TZID=America/Los_Angeles:20230818T200000
DTSTAMP:20260425T071045
CREATED:20230808T210013Z
LAST-MODIFIED:20230808T210013Z
UID:3608-1692383400-1692388800@fiaeastbay.org
SUMMARY:Richmond Peace Walk
DESCRIPTION:
URL:https://fiaeastbay.org/event/richmond-peace-walk-6/
ATTACH;FMTTYPE=image/png:https://fiaeastbay.org/wp-content/uploads/2023/08/RPWAugSept2023_eng.png
END:VEVENT
BEGIN:VEVENT
DTSTART;TZID=America/Los_Angeles:20230818T180000
DTEND;TZID=America/Los_Angeles:20230818T200000
DTSTAMP:20260425T071045
CREATED:20230709T202906Z
LAST-MODIFIED:20230709T202906Z
UID:3549-1692381600-1692388800@fiaeastbay.org
SUMMARY:Ceasefire Night Walk
DESCRIPTION:Location: St. Benedict’s Church ~ 2245 82nd Avenue\, Oakland\n\nNight walks:\n6pm: Gathering for pre-walk/corners process\n6:30pm: walk or stand on corners\n7:30pm: returned back to starting location or completed from the corners\nBy 7:45pm\, walk process completed\nFor more information\, please contact Chris Moreno at chris@fiaeastbay.org
URL:https://fiaeastbay.org/event/ceasefire-night-walk-43/
ATTACH;FMTTYPE=image/png:https://fiaeastbay.org/wp-content/uploads/2021/12/OaklandCeasefire_cal.png
END:VEVENT
END:VCALENDAR