BEGIN:VCALENDAR
VERSION:2.0
PRODID:-//Faith in  Action East Bay - ECPv6.15.20//NONSGML v1.0//EN
CALSCALE:GREGORIAN
METHOD:PUBLISH
X-WR-CALNAME:Faith in  Action East Bay
X-ORIGINAL-URL:https://fiaeastbay.org
X-WR-CALDESC:Events for Faith in  Action East Bay
REFRESH-INTERVAL;VALUE=DURATION:PT1H
X-Robots-Tag:noindex
X-PUBLISHED-TTL:PT1H
BEGIN:VTIMEZONE
TZID:America/Los_Angeles
BEGIN:DAYLIGHT
TZOFFSETFROM:-0800
TZOFFSETTO:-0700
TZNAME:PDT
DTSTART:20220313T100000
END:DAYLIGHT
BEGIN:STANDARD
TZOFFSETFROM:-0700
TZOFFSETTO:-0800
TZNAME:PST
DTSTART:20221106T090000
END:STANDARD
BEGIN:DAYLIGHT
TZOFFSETFROM:-0800
TZOFFSETTO:-0700
TZNAME:PDT
DTSTART:20230312T100000
END:DAYLIGHT
BEGIN:STANDARD
TZOFFSETFROM:-0700
TZOFFSETTO:-0800
TZNAME:PST
DTSTART:20231105T090000
END:STANDARD
BEGIN:DAYLIGHT
TZOFFSETFROM:-0800
TZOFFSETTO:-0700
TZNAME:PDT
DTSTART:20240310T100000
END:DAYLIGHT
BEGIN:STANDARD
TZOFFSETFROM:-0700
TZOFFSETTO:-0800
TZNAME:PST
DTSTART:20241103T090000
END:STANDARD
END:VTIMEZONE
BEGIN:VEVENT
DTSTART;TZID=America/Los_Angeles:20230908T180000
DTEND;TZID=America/Los_Angeles:20230908T200000
DTSTAMP:20260425T041253
CREATED:20230709T203248Z
LAST-MODIFIED:20230828T004023Z
UID:3553-1694196000-1694203200@fiaeastbay.org
SUMMARY:Ceasefire Night Walk
DESCRIPTION:Location: St. Columba\, 6401 San Pablo Ave\, Oakland\n\nNight walks:\n6pm: Gathering for pre-walk/corners process\n6:30pm: walk or stand on corners\n7:30pm: returned back to starting location or completed from the corners\nBy 7:45pm\, walk process completed\nFor more information\, please contact Chris Moreno at chris@fiaeastbay.org
URL:https://fiaeastbay.org/event/ceasefire-night-walk-45/
ATTACH;FMTTYPE=image/png:https://fiaeastbay.org/wp-content/uploads/2021/12/OaklandCeasefire_cal.png
END:VEVENT
BEGIN:VEVENT
DTSTART;TZID=America/Los_Angeles:20230907T183000
DTEND;TZID=America/Los_Angeles:20230907T193000
DTSTAMP:20260425T041253
CREATED:20230906T111557Z
LAST-MODIFIED:20230906T112939Z
UID:3674-1694111400-1694115000@fiaeastbay.org
SUMMARY:Illegal Dumping Research Meeting
DESCRIPTION:Join us this Thursday 7th September for an Illegal Dumping Research Meeting with Council Member Noel Gallo. We will delve into his role in the fight against illegal dumping as chair of the Public Works and Transportation Committee in Oakland. Together we will learn about Oakland’s current and potential strategies to reduce and address the ongoing illegal dumping on our streets. The meeting will be held via Zoom from 6:30 to 7:30 p.m. Please register.\n\n~~~\nÚnase a nosotros este jueves 7 de septiembre para una reunión de investigación sobre vertidos ilegales con el concejal Noel Gallo. Profundizaremos en su papel en la lucha contra los vertidos ilegales como presidente del Comité de Obras Públicas y Transporte de Oakland. Juntos aprenderemos sobre las estrategias actuales y potenciales de Oakland para reducir y abordar los continuos vertidos ilegales en nuestras calles. La reunión se realizará vía zoom de 6:30 a 7:30 p.m. Por favor regístrese.
URL:https://fiaeastbay.org/event/illegal-dumping-research-meeting-6/
ATTACH;FMTTYPE=image/png:https://fiaeastbay.org/wp-content/uploads/2023/09/ID.png
END:VEVENT
BEGIN:VEVENT
DTSTART;TZID=America/Los_Angeles:20230903T130000
DTEND;TZID=America/Los_Angeles:20230903T150000
DTSTAMP:20260425T041253
CREATED:20230817T153820Z
LAST-MODIFIED:20230817T153820Z
UID:3624-1693746000-1693753200@fiaeastbay.org
SUMMARY:Diaper Giveaway
DESCRIPTION:
URL:https://fiaeastbay.org/event/diaper-giveaway/
ATTACH;FMTTYPE=image/png:https://fiaeastbay.org/wp-content/uploads/2023/08/SeptDiaperGive.png
END:VEVENT
BEGIN:VEVENT
DTSTART;TZID=America/Los_Angeles:20230826T090000
DTEND;TZID=America/Los_Angeles:20230826T130000
DTSTAMP:20260425T041253
CREATED:20230614T000910Z
LAST-MODIFIED:20230614T000910Z
UID:3480-1693040400-1693054800@fiaeastbay.org
SUMMARY:Bulky Block Party
DESCRIPTION:Attend a Bulky Block Party event for free large-item disposal\nJoin us on the last Saturday of every month for a Bulky Block Party to dispose of your large unwanted items — the right way\, and for free! Residents only. Please bring proof of residency\, such as a utility bill. \n\n\n\n\n\n\n\n\n\nBulky Block Party events are typically held the last Saturday of every month (except during holiday weekends) from 9am to 1pm at 7101 Edgewater Drive\, Oakland\, CA. Oakland residents may drop off items that don’t fit in their trash cart at home for free! \nLocation: 7101 Edgewater Drive \nTime: 9 a.m. to 1 p.m. \n\nLearn more at the City of Oakland website.  \n\nUpcoming 2023 Bulky Block Party Dates \n\nSaturday August 26th\nSaturday September 30th\nSaturday October 28th
URL:https://fiaeastbay.org/event/bulky-block-party-10/
ATTACH;FMTTYPE=image/png:https://fiaeastbay.org/wp-content/uploads/2022/05/free-trash-icon-347-thumb-e1686701159620.png
END:VEVENT
BEGIN:VEVENT
DTSTART;TZID=America/Los_Angeles:20230825T180000
DTEND;TZID=America/Los_Angeles:20230825T200000
DTSTAMP:20260425T041253
CREATED:20230709T203043Z
LAST-MODIFIED:20230711T120844Z
UID:3551-1692986400-1692993600@fiaeastbay.org
SUMMARY:Ceasefire Night Walk
DESCRIPTION:Location: St. Patrick’s/St. Mary’s\, 925 Brockhurst St\, Oakland\n\nNight walks:\n6pm: Gathering for pre-walk/corners process\n6:30pm: walk or stand on corners\n7:30pm: returned back to starting location or completed from the corners\nBy 7:45pm\, walk process completed\nFor more information\, please contact Chris Moreno at chris@fiaeastbay.org
URL:https://fiaeastbay.org/event/ceasefire-night-walk-44/
ATTACH;FMTTYPE=image/png:https://fiaeastbay.org/wp-content/uploads/2021/12/OaklandCeasefire_cal.png
END:VEVENT
BEGIN:VEVENT
DTSTART;TZID=America/Los_Angeles:20230822T183000
DTEND;TZID=America/Los_Angeles:20230822T183000
DTSTAMP:20260425T041253
CREATED:20230804T181213Z
LAST-MODIFIED:20230804T181633Z
UID:3595-1692729000-1692729000@fiaeastbay.org
SUMMARY:Leadership Development Training
DESCRIPTION:REGISTER
URL:https://fiaeastbay.org/event/leadership-development-training-9/
ATTACH;FMTTYPE=image/png:https://fiaeastbay.org/wp-content/uploads/2023/08/LDTAugust2023_flyer.png
END:VEVENT
BEGIN:VEVENT
DTSTART;TZID=America/Los_Angeles:20230819T120000
DTEND;TZID=America/Los_Angeles:20230819T130000
DTSTAMP:20260425T041253
CREATED:20230817T152931Z
LAST-MODIFIED:20230817T153024Z
UID:3619-1692446400-1692450000@fiaeastbay.org
SUMMARY:Prayer Vigil
DESCRIPTION:
URL:https://fiaeastbay.org/event/oakland-pastors-prayer-vigil/
ATTACH;FMTTYPE=image/png:https://fiaeastbay.org/wp-content/uploads/2023/08/prayervigil.png
END:VEVENT
BEGIN:VEVENT
DTSTART;TZID=America/Los_Angeles:20230819T100000
DTEND;TZID=America/Los_Angeles:20230819T110000
DTSTAMP:20260425T041253
CREATED:20230811T122748Z
LAST-MODIFIED:20230811T122748Z
UID:3616-1692439200-1692442800@fiaeastbay.org
SUMMARY:Rally for Housing! Contra Costa County
DESCRIPTION:
URL:https://fiaeastbay.org/event/rally-for-housing-contra-costa-county/
ATTACH;FMTTYPE=image/png:https://fiaeastbay.org/wp-content/uploads/2023/08/Rally4HousingCCC_post.png
END:VEVENT
BEGIN:VEVENT
DTSTART;TZID=America/Los_Angeles:20230818T183000
DTEND;TZID=America/Los_Angeles:20230818T200000
DTSTAMP:20260425T041253
CREATED:20230808T210013Z
LAST-MODIFIED:20230808T210013Z
UID:3608-1692383400-1692388800@fiaeastbay.org
SUMMARY:Richmond Peace Walk
DESCRIPTION:
URL:https://fiaeastbay.org/event/richmond-peace-walk-6/
ATTACH;FMTTYPE=image/png:https://fiaeastbay.org/wp-content/uploads/2023/08/RPWAugSept2023_eng.png
END:VEVENT
BEGIN:VEVENT
DTSTART;TZID=America/Los_Angeles:20230818T180000
DTEND;TZID=America/Los_Angeles:20230818T200000
DTSTAMP:20260425T041253
CREATED:20230709T202906Z
LAST-MODIFIED:20230709T202906Z
UID:3549-1692381600-1692388800@fiaeastbay.org
SUMMARY:Ceasefire Night Walk
DESCRIPTION:Location: St. Benedict’s Church ~ 2245 82nd Avenue\, Oakland\n\nNight walks:\n6pm: Gathering for pre-walk/corners process\n6:30pm: walk or stand on corners\n7:30pm: returned back to starting location or completed from the corners\nBy 7:45pm\, walk process completed\nFor more information\, please contact Chris Moreno at chris@fiaeastbay.org
URL:https://fiaeastbay.org/event/ceasefire-night-walk-43/
ATTACH;FMTTYPE=image/png:https://fiaeastbay.org/wp-content/uploads/2021/12/OaklandCeasefire_cal.png
END:VEVENT
BEGIN:VEVENT
DTSTART;TZID=America/Los_Angeles:20230812T100000
DTEND;TZID=America/Los_Angeles:20230812T110000
DTSTAMP:20260425T041253
CREATED:20230804T215850Z
LAST-MODIFIED:20230809T153559Z
UID:3599-1691834400-1691838000@fiaeastbay.org
SUMMARY:Rally for Housing!
DESCRIPTION:
URL:https://fiaeastbay.org/event/rally-for-housing/
ATTACH;FMTTYPE=image/png:https://fiaeastbay.org/wp-content/uploads/2023/08/Rally4Housing_post.png
END:VEVENT
BEGIN:VEVENT
DTSTART;TZID=America/Los_Angeles:20230811T180000
DTEND;TZID=America/Los_Angeles:20230811T200000
DTSTAMP:20260425T041253
CREATED:20230709T202725Z
LAST-MODIFIED:20230709T202725Z
UID:3547-1691776800-1691784000@fiaeastbay.org
SUMMARY:Ceasefire Night Walk
DESCRIPTION:Location: First Mount Sinai\, 1970 86th Ave\, Oakland\n\nNight walks:\n6pm: Gathering for pre-walk/corners process\n6:30pm: walk or stand on corners\n7:30pm: returned back to starting location or completed from the corners\nBy 7:45pm\, walk process completed\nFor more information\, please contact Chris Moreno at chris@fiaeastbay.org
URL:https://fiaeastbay.org/event/ceasefire-night-walk-42/
ATTACH;FMTTYPE=image/png:https://fiaeastbay.org/wp-content/uploads/2021/12/OaklandCeasefire_cal.png
END:VEVENT
BEGIN:VEVENT
DTSTART;TZID=America/Los_Angeles:20230810T190000
DTEND;TZID=America/Los_Angeles:20230810T200000
DTSTAMP:20260425T041253
CREATED:20230806T183337Z
LAST-MODIFIED:20230806T183337Z
UID:3606-1691694000-1691697600@fiaeastbay.org
SUMMARY:Rockridge MACRO Presentation
DESCRIPTION:On Thursday\, Aug 10\, at 7pm\, Rockridge Neighborhood Crime Prevention Council will host a presentation on MACRO (Mobile Assistance Community Responders of Oakland) featuring MACRO program manager\, Elliot Jones. This is a hybrid meeting: in-person at Rockridge Library (5366 College Ave\, Oakland). or on zoom\, via this link:   https://us06web.zoom.us/j/82709204888?pwd=Y3pFQTlWQ3ZiLzd3d3EyK3dPYmxLdz09.\n\nThis seems like a good opportunity to hear the latest on the MACRO pilot that FIAEB was instrumental in bringing to Oakland.
URL:https://fiaeastbay.org/event/rockridge-macro-presentation/
ATTACH;FMTTYPE=image/png:https://fiaeastbay.org/wp-content/uploads/2023/03/safe-happy-family-vector-icon-260nw-1479344378.png
END:VEVENT
BEGIN:VEVENT
DTSTART;TZID=America/Los_Angeles:20230810T180000
DTEND;TZID=America/Los_Angeles:20230810T193000
DTSTAMP:20260425T041253
CREATED:20230725T140459Z
LAST-MODIFIED:20230725T140545Z
UID:3589-1691690400-1691695800@fiaeastbay.org
SUMMARY:Illegal Dumping Research Meeting
DESCRIPTION:A Research meeting with Waste Management:  \nWaste Management will do a presentation on the root causes of illegal dumping\, Single Family Services\, Multi-Family Services\, and Business Services. It will also be a chance to engage our LOC to ask questions about resources based on the needs of our community.  \nUna reunión de investigación con Gestión de Residuos:\nGestión de Residuos hará una presentación sobre las causas fundamentales de los vertederos ilegales\, Servicios unifamiliares\, servicios multifamiliares y servicios empresariales. También será una oportunidad para involucrar a nuestro LOC para hacer preguntas acerca de los recursos basados en la necesidades de nuestra comunidad.  \nREGISTER/REGÍSTRESE
URL:https://fiaeastbay.org/event/illegal-dumping-research-meeting-5/
ATTACH;FMTTYPE=image/png:https://fiaeastbay.org/wp-content/uploads/2023/07/IDResearchAug10_2023_post.png
END:VEVENT
BEGIN:VEVENT
DTSTART;TZID=America/Los_Angeles:20230731T190000
DTEND;TZID=America/Los_Angeles:20230731T200000
DTSTAMP:20260425T041253
CREATED:20230728T115259Z
LAST-MODIFIED:20230728T121542Z
UID:3592-1690830000-1690833600@fiaeastbay.org
SUMMARY:On Ceasefire with Rev. Damita Howard Davis
DESCRIPTION:REGISTER
URL:https://fiaeastbay.org/event/on-ceasefire-with-rev-damita-howard-davis/
ATTACH;FMTTYPE=image/png:https://fiaeastbay.org/wp-content/uploads/2023/07/RevDamitaEvent.png
END:VEVENT
BEGIN:VEVENT
DTSTART;TZID=America/Los_Angeles:20230729T100000
DTEND;TZID=America/Los_Angeles:20230729T120000
DTSTAMP:20260425T041253
CREATED:20230717T202242Z
LAST-MODIFIED:20230717T202242Z
UID:3582-1690624800-1690632000@fiaeastbay.org
SUMMARY:Zoom Training in Richmond
DESCRIPTION:
URL:https://fiaeastbay.org/event/zoom-training-in-richmond/
ATTACH;FMTTYPE=image/png:https://fiaeastbay.org/wp-content/uploads/2023/07/ZoomTrainingJuly2023_Richmond.png
END:VEVENT
BEGIN:VEVENT
DTSTART;TZID=America/Los_Angeles:20230729T090000
DTEND;TZID=America/Los_Angeles:20230729T130000
DTSTAMP:20260425T041253
CREATED:20230614T000754Z
LAST-MODIFIED:20230614T000754Z
UID:3478-1690621200-1690635600@fiaeastbay.org
SUMMARY:Bulky Block Party
DESCRIPTION:Attend a Bulky Block Party event for free large-item disposal\nJoin us on the last Saturday of every month for a Bulky Block Party to dispose of your large unwanted items — the right way\, and for free! Residents only. Please bring proof of residency\, such as a utility bill. \n\n\n\n\n\n\n\n\n\nBulky Block Party events are typically held the last Saturday of every month (except during holiday weekends) from 9am to 1pm at 7101 Edgewater Drive\, Oakland\, CA. Oakland residents may drop off items that don’t fit in their trash cart at home for free! \nLocation: 7101 Edgewater Drive \nTime: 9 a.m. to 1 p.m. \n\nLearn more at the City of Oakland website.  \n\nUpcoming 2023 Bulky Block Party Dates \n\nSaturday July 29th\nSaturday August 26th\nSaturday September 30th\nSaturday October 28th
URL:https://fiaeastbay.org/event/bulky-block-party-9/
ATTACH;FMTTYPE=image/png:https://fiaeastbay.org/wp-content/uploads/2022/05/free-trash-icon-347-thumb-e1686701159620.png
END:VEVENT
BEGIN:VEVENT
DTSTART;TZID=America/Los_Angeles:20230728T180000
DTEND;TZID=America/Los_Angeles:20230728T200000
DTSTAMP:20260425T041253
CREATED:20230709T202520Z
LAST-MODIFIED:20230709T202520Z
UID:3545-1690567200-1690574400@fiaeastbay.org
SUMMARY:Ceasefire Night Walk
DESCRIPTION:Location:  Williams Chapel Baptist Church\, 1410 10th Ave\, Oakland\n\nNight walks:\n6pm: Gathering for pre-walk/corners process\n6:30pm: walk or stand on corners\n7:30pm: returned back to starting location or completed from the corners\nBy 7:45pm\, walk process completed\nFor more information\, please contact Chris Moreno at chris@fiaeastbay.org
URL:https://fiaeastbay.org/event/ceasefire-night-walk-41/
ATTACH;FMTTYPE=image/png:https://fiaeastbay.org/wp-content/uploads/2021/12/OaklandCeasefire_cal.png
END:VEVENT
BEGIN:VEVENT
DTSTART;TZID=America/Los_Angeles:20230722T080000
DTEND;TZID=America/Los_Angeles:20230722T090000
DTSTAMP:20260425T041253
CREATED:20230702T184527Z
LAST-MODIFIED:20230702T184527Z
UID:3534-1690012800-1690016400@fiaeastbay.org
SUMMARY:Power in El Salvador
DESCRIPTION:REGISTER
URL:https://fiaeastbay.org/event/power-in-el-salvador/
ATTACH;FMTTYPE=image/png:https://fiaeastbay.org/wp-content/uploads/2023/07/COFOA_July2023_web.png
END:VEVENT
BEGIN:VEVENT
DTSTART;TZID=America/Los_Angeles:20230721T183000
DTEND;TZID=America/Los_Angeles:20230721T193000
DTSTAMP:20260425T041253
CREATED:20230606T013322Z
LAST-MODIFIED:20230606T013322Z
UID:3467-1689964200-1689967800@fiaeastbay.org
SUMMARY:Richmond Peace Walk
DESCRIPTION:
URL:https://fiaeastbay.org/event/richmond-peace-walk-5/
ATTACH;FMTTYPE=image/png:https://fiaeastbay.org/wp-content/uploads/2023/06/RichmondPWJuneJuly2023_eng.png
END:VEVENT
BEGIN:VEVENT
DTSTART;TZID=America/Los_Angeles:20230721T180000
DTEND;TZID=America/Los_Angeles:20230721T200000
DTSTAMP:20260425T041253
CREATED:20230709T202343Z
LAST-MODIFIED:20230709T202343Z
UID:3543-1689962400-1689969600@fiaeastbay.org
SUMMARY:Ceasefire Night Walk
DESCRIPTION:Location: At Thy Word Ministries\, 8915 International Blvd\, Oakland\n\nNight walks:\n6pm: Gathering for pre-walk/corners process\n6:30pm: walk or stand on corners\n7:30pm: returned back to starting location or completed from the corners\nBy 7:45pm\, walk process completed\nFor more information\, please contact Chris Moreno at chris@fiaeastbay.org
URL:https://fiaeastbay.org/event/ceasefire-night-walk-40/
ATTACH;FMTTYPE=image/png:https://fiaeastbay.org/wp-content/uploads/2021/12/OaklandCeasefire_cal.png
END:VEVENT
BEGIN:VEVENT
DTSTART;TZID=America/Los_Angeles:20230720T173000
DTEND;TZID=America/Los_Angeles:20230720T183000
DTSTAMP:20260425T041253
CREATED:20230718T200305Z
LAST-MODIFIED:20230718T200305Z
UID:3586-1689874200-1689877800@fiaeastbay.org
SUMMARY:Housing Research Meeting
DESCRIPTION:REGISTER
URL:https://fiaeastbay.org/event/housing-research-meeting-3/
ATTACH;FMTTYPE=image/png:https://fiaeastbay.org/wp-content/uploads/2023/07/HousingResearchJuly20_2023_flyer.png
END:VEVENT
BEGIN:VEVENT
DTSTART;TZID=America/Los_Angeles:20230718T183000
DTEND;TZID=America/Los_Angeles:20230718T193000
DTSTAMP:20260425T041253
CREATED:20230709T204039Z
LAST-MODIFIED:20230710T213614Z
UID:3561-1689705000-1689708600@fiaeastbay.org
SUMMARY:Leadership Development Training
DESCRIPTION:Leadership Development Training:  \nYou are invited to learn more about Faith in Action East Bay and how we organize to improve our communities. The goal is to introduce our methodology and organizing structures. The invitation is open to everyone who would like to know about our work. All are welcome! \nFormación para el desarrollo del liderazgo:\nEstás invitado a aprender más sobre Fe en Acción del Este de la Bahía y cómo nos organizamos para mejorar nuestras comunidades. El objetivo es presentar nuestra metodología y estructuras organizativas. La invitación está abierta a todos los que deseen conocer nuestro trabajo. ¡Todos son bienvenidos! \nRegister/ Regístrese: tinyurl.com/LeadersFIAEB
URL:https://fiaeastbay.org/event/leadership-development-training-8/
ATTACH;FMTTYPE=image/png:https://fiaeastbay.org/wp-content/uploads/2023/07/LDTJuly2023_flyer.png
END:VEVENT
BEGIN:VEVENT
DTSTART;TZID=America/Los_Angeles:20230715T100000
DTEND;TZID=America/Los_Angeles:20230715T120000
DTSTAMP:20260425T041253
CREATED:20230623T205134Z
LAST-MODIFIED:20230623T205134Z
UID:3516-1689415200-1689422400@fiaeastbay.org
SUMMARY:Zoom Training
DESCRIPTION:
URL:https://fiaeastbay.org/event/zoom-training-3/
ATTACH;FMTTYPE=image/png:https://fiaeastbay.org/wp-content/uploads/2023/06/ZoomTrainingJuly2023.png
END:VEVENT
BEGIN:VEVENT
DTSTART;TZID=America/Los_Angeles:20230714T180000
DTEND;TZID=America/Los_Angeles:20230714T200000
DTSTAMP:20260425T041253
CREATED:20230709T202146Z
LAST-MODIFIED:20230709T202146Z
UID:3541-1689357600-1689364800@fiaeastbay.org
SUMMARY:Ceasefire Night Walk
DESCRIPTION:Location: First Mount Sinai\, 1970 86th Ave\, Oakland\n\nNight walks:\n6pm: Gathering for pre-walk/corners process\n6:30pm: walk or stand on corners\n7:30pm: returned back to starting location or completed from the corners\nBy 7:45pm\, walk process completed\nFor more information\, please contact Chris Moreno at chris@fiaeastbay.org
URL:https://fiaeastbay.org/event/ceasefire-night-walk-39/
ATTACH;FMTTYPE=image/png:https://fiaeastbay.org/wp-content/uploads/2021/12/OaklandCeasefire_cal.png
END:VEVENT
BEGIN:VEVENT
DTSTART;TZID=America/Los_Angeles:20230630T180000
DTEND;TZID=America/Los_Angeles:20230630T200000
DTSTAMP:20260425T041253
CREATED:20230323T214133Z
LAST-MODIFIED:20230323T214133Z
UID:3320-1688148000-1688155200@fiaeastbay.org
SUMMARY:Ceasefire Night Walk
DESCRIPTION:Location: St. Benedict’s Church ~ 2245 82nd Avenue\n\nNight walks:\n6pm: Gathering for pre-walk/corners process\n6:30pm: walk or stand on corners\n7:30pm: returned back to starting location or completed from the corners\nBy 7:45pm\, walk process completed\nFor more information\, please contact Chris Moreno at chris@fiaeastbay.org
URL:https://fiaeastbay.org/event/ceasefire-night-walk-38/
ATTACH;FMTTYPE=image/png:https://fiaeastbay.org/wp-content/uploads/2021/12/OaklandCeasefire_cal.png
END:VEVENT
BEGIN:VEVENT
DTSTART;TZID=America/Los_Angeles:20230626T180000
DTEND;TZID=America/Los_Angeles:20230626T193000
DTSTAMP:20260425T041253
CREATED:20230618T165943Z
LAST-MODIFIED:20230618T170019Z
UID:3512-1687802400-1687807800@fiaeastbay.org
SUMMARY:PICO Virtual Leadership Assembly
DESCRIPTION:PICO California is hosting a virtual Home is Sacred Leadership Assembly on Monday\, June 26th from 6-7:30 pm. Please invite your federation leadership and members of your larger federation teams that are doing local work on the Home is Sacred platform. \nIf we win our Home Is Sacred campaign (SB 567\, SB 4\, SB 225\, AB 1418\, ACA 10) this year\, we will help hundreds of thousands of families (nearly 50% of families are seriously burdened by the cost of housing) stay in their homes and help produce deeply affordable housing for families who need it most. \nThe purpose of our time together will be to: \n\nProvide an update and an analysis about our Home is Sacred platform and where it stands in the State Legislature;\nBuild a coordinated strategy to move our platform through the Assembly and Senate;\nPrepare to make commitments to each other for a season of Home is Sacred local actions across our state to push our legislation through to the Governor’s desk!\n\nPlease click here to register for the event. \nContact Eddie Carmona or Stephanie Gut with any questions. \nREGISTER\n 
URL:https://fiaeastbay.org/event/pico-virtual-leadership-assembly/
ATTACH;FMTTYPE=image/png:https://fiaeastbay.org/wp-content/uploads/2023/06/HiSAssembly.png
END:VEVENT
BEGIN:VEVENT
DTSTART;TZID=America/Los_Angeles:20230625T130000
DTEND;TZID=America/Los_Angeles:20230625T160000
DTSTAMP:20260425T041253
CREATED:20230601T151131Z
LAST-MODIFIED:20230618T164037Z
UID:3453-1687698000-1687708800@fiaeastbay.org
SUMMARY:Diaper Giveaway
DESCRIPTION:
URL:https://fiaeastbay.org/event/diaper-giveaway-and-bingo/
ATTACH;FMTTYPE=image/png:https://fiaeastbay.org/wp-content/uploads/2023/06/BLCdiapergive_June2023_2.png
END:VEVENT
BEGIN:VEVENT
DTSTART;TZID=America/Los_Angeles:20230624T120000
DTEND;TZID=America/Los_Angeles:20230624T150000
DTSTAMP:20260425T041253
CREATED:20230607T161829Z
LAST-MODIFIED:20230607T161829Z
UID:3469-1687608000-1687618800@fiaeastbay.org
SUMMARY:Interfaith in the Park
DESCRIPTION:
URL:https://fiaeastbay.org/event/interfaith-in-the-park/
ATTACH;FMTTYPE=image/png:https://fiaeastbay.org/wp-content/uploads/2023/06/Interfaith_eng.png
END:VEVENT
BEGIN:VEVENT
DTSTART;TZID=America/Los_Angeles:20230624T090000
DTEND;TZID=America/Los_Angeles:20230624T130000
DTSTAMP:20260425T041253
CREATED:20230614T000128Z
LAST-MODIFIED:20230614T000618Z
UID:3475-1687597200-1687611600@fiaeastbay.org
SUMMARY:Bulky Block Party
DESCRIPTION:Attend a Bulky Block Party event for free large-item disposal\nJoin us on the last Saturday of every month for a Bulky Block Party to dispose of your large unwanted items — the right way\, and for free! Residents only. Please bring proof of residency\, such as a utility bill. \n\n\n\n\n\n\n\n\n\nBulky Block Party events are typically held the last Saturday of every month (except during holiday weekends) from 9am to 1pm at 7101 Edgewater Drive\, Oakland\, CA. Oakland residents may drop off items that don’t fit in their trash cart at home for free! \nLocation: 7101 Edgewater Drive \nTime: 9 a.m. to 1 p.m. \n\nLearn more at the City of Oakland website.  \n\nUpcoming 2023 Bulky Block Party Dates \n\nSaturday June 24th\nSaturday July 29th\nSaturday August 26th\nSaturday September 30th\nSaturday October 28th
URL:https://fiaeastbay.org/event/bulky-block-party-8/
ATTACH;FMTTYPE=image/png:https://fiaeastbay.org/wp-content/uploads/2022/05/free-trash-icon-347-thumb-e1686701159620.png
END:VEVENT
END:VCALENDAR