BEGIN:VCALENDAR
VERSION:2.0
PRODID:-//Faith in  Action East Bay - ECPv6.15.20//NONSGML v1.0//EN
CALSCALE:GREGORIAN
METHOD:PUBLISH
X-WR-CALNAME:Faith in  Action East Bay
X-ORIGINAL-URL:https://fiaeastbay.org
X-WR-CALDESC:Events for Faith in  Action East Bay
REFRESH-INTERVAL;VALUE=DURATION:PT1H
X-Robots-Tag:noindex
X-PUBLISHED-TTL:PT1H
BEGIN:VTIMEZONE
TZID:America/Los_Angeles
BEGIN:DAYLIGHT
TZOFFSETFROM:-0800
TZOFFSETTO:-0700
TZNAME:PDT
DTSTART:20220313T100000
END:DAYLIGHT
BEGIN:STANDARD
TZOFFSETFROM:-0700
TZOFFSETTO:-0800
TZNAME:PST
DTSTART:20221106T090000
END:STANDARD
BEGIN:DAYLIGHT
TZOFFSETFROM:-0800
TZOFFSETTO:-0700
TZNAME:PDT
DTSTART:20230312T100000
END:DAYLIGHT
BEGIN:STANDARD
TZOFFSETFROM:-0700
TZOFFSETTO:-0800
TZNAME:PST
DTSTART:20231105T090000
END:STANDARD
BEGIN:DAYLIGHT
TZOFFSETFROM:-0800
TZOFFSETTO:-0700
TZNAME:PDT
DTSTART:20240310T100000
END:DAYLIGHT
BEGIN:STANDARD
TZOFFSETFROM:-0700
TZOFFSETTO:-0800
TZNAME:PST
DTSTART:20241103T090000
END:STANDARD
END:VTIMEZONE
BEGIN:VEVENT
DTSTART;TZID=America/Los_Angeles:20230625T130000
DTEND;TZID=America/Los_Angeles:20230625T160000
DTSTAMP:20260425T070902
CREATED:20230601T151131Z
LAST-MODIFIED:20230618T164037Z
UID:3453-1687698000-1687708800@fiaeastbay.org
SUMMARY:Diaper Giveaway
DESCRIPTION:
URL:https://fiaeastbay.org/event/diaper-giveaway-and-bingo/
ATTACH;FMTTYPE=image/png:https://fiaeastbay.org/wp-content/uploads/2023/06/BLCdiapergive_June2023_2.png
END:VEVENT
BEGIN:VEVENT
DTSTART;TZID=America/Los_Angeles:20230624T120000
DTEND;TZID=America/Los_Angeles:20230624T150000
DTSTAMP:20260425T070902
CREATED:20230607T161829Z
LAST-MODIFIED:20230607T161829Z
UID:3469-1687608000-1687618800@fiaeastbay.org
SUMMARY:Interfaith in the Park
DESCRIPTION:
URL:https://fiaeastbay.org/event/interfaith-in-the-park/
ATTACH;FMTTYPE=image/png:https://fiaeastbay.org/wp-content/uploads/2023/06/Interfaith_eng.png
END:VEVENT
BEGIN:VEVENT
DTSTART;TZID=America/Los_Angeles:20230624T090000
DTEND;TZID=America/Los_Angeles:20230624T130000
DTSTAMP:20260425T070902
CREATED:20230614T000128Z
LAST-MODIFIED:20230614T000618Z
UID:3475-1687597200-1687611600@fiaeastbay.org
SUMMARY:Bulky Block Party
DESCRIPTION:Attend a Bulky Block Party event for free large-item disposal\nJoin us on the last Saturday of every month for a Bulky Block Party to dispose of your large unwanted items — the right way\, and for free! Residents only. Please bring proof of residency\, such as a utility bill. \n\n\n\n\n\n\n\n\n\nBulky Block Party events are typically held the last Saturday of every month (except during holiday weekends) from 9am to 1pm at 7101 Edgewater Drive\, Oakland\, CA. Oakland residents may drop off items that don’t fit in their trash cart at home for free! \nLocation: 7101 Edgewater Drive \nTime: 9 a.m. to 1 p.m. \n\nLearn more at the City of Oakland website.  \n\nUpcoming 2023 Bulky Block Party Dates \n\nSaturday June 24th\nSaturday July 29th\nSaturday August 26th\nSaturday September 30th\nSaturday October 28th
URL:https://fiaeastbay.org/event/bulky-block-party-8/
ATTACH;FMTTYPE=image/png:https://fiaeastbay.org/wp-content/uploads/2022/05/free-trash-icon-347-thumb-e1686701159620.png
END:VEVENT
BEGIN:VEVENT
DTSTART;TZID=America/Los_Angeles:20230623T180000
DTEND;TZID=America/Los_Angeles:20230623T200000
DTSTAMP:20260425T070902
CREATED:20230323T213958Z
LAST-MODIFIED:20230618T183815Z
UID:3318-1687543200-1687550400@fiaeastbay.org
SUMMARY:Ceasefire Night Walk
DESCRIPTION:Location: St. Anthony’s Church ~ 1535 16th Avenue\, Oakland\n\nTHIS EVENT HAS BEEN CANCELED\n\nNight walks:\n6pm: Gathering for pre-walk/corners process\n6:30pm: walk or stand on corners\n7:30pm: returned back to starting location or completed from the corners\nBy 7:45pm\, walk process completed\nFor more information\, please contact Chris Moreno at chris@fiaeastbay.org
URL:https://fiaeastbay.org/event/ceasefire-night-walk-37/
ATTACH;FMTTYPE=image/png:https://fiaeastbay.org/wp-content/uploads/2021/12/OaklandCeasefire_cal.png
END:VEVENT
BEGIN:VEVENT
DTSTART;TZID=America/Los_Angeles:20230620T183000
DTEND;TZID=America/Los_Angeles:20230620T193000
DTSTAMP:20260425T070902
CREATED:20230614T222039Z
LAST-MODIFIED:20230618T164229Z
UID:3490-1687285800-1687289400@fiaeastbay.org
SUMMARY:Leadership Development Training
DESCRIPTION:REGISTER
URL:https://fiaeastbay.org/event/leadership-development-training-7/
ATTACH;FMTTYPE=image/png:https://fiaeastbay.org/wp-content/uploads/2023/06/LDTJune2023_post.png
END:VEVENT
BEGIN:VEVENT
DTSTART;TZID=America/Los_Angeles:20230619T120000
DTEND;TZID=America/Los_Angeles:20230619T130000
DTSTAMP:20260425T070902
CREATED:20230618T164916Z
LAST-MODIFIED:20230618T165053Z
UID:3507-1687176000-1687179600@fiaeastbay.org
SUMMARY:Juneteenth Faith and Liberation Podcast
DESCRIPTION:TUNE IN
URL:https://fiaeastbay.org/event/juneteenth-faith-and-liberation-podcast/
ATTACH;FMTTYPE=image/jpeg:https://fiaeastbay.org/wp-content/uploads/2023/06/Juneteenth2023.jpg
END:VEVENT
BEGIN:VEVENT
DTSTART;TZID=America/Los_Angeles:20230617T100000
DTEND;TZID=America/Los_Angeles:20230617T120000
DTSTAMP:20260425T070902
CREATED:20230601T023622Z
LAST-MODIFIED:20230601T023622Z
UID:3447-1686996000-1687003200@fiaeastbay.org
SUMMARY:Zoom Training
DESCRIPTION:
URL:https://fiaeastbay.org/event/zoom-training/
ATTACH;FMTTYPE=image/png:https://fiaeastbay.org/wp-content/uploads/2022/02/leadership.png
END:VEVENT
BEGIN:VEVENT
DTSTART;TZID=America/Los_Angeles:20230616T183000
DTEND;TZID=America/Los_Angeles:20230616T193000
DTSTAMP:20260425T070902
CREATED:20230606T013125Z
LAST-MODIFIED:20230606T013159Z
UID:3462-1686940200-1686943800@fiaeastbay.org
SUMMARY:Richmond Peace Walk
DESCRIPTION:
URL:https://fiaeastbay.org/event/richmond-peace-walk-4/
ATTACH;FMTTYPE=image/png:https://fiaeastbay.org/wp-content/uploads/2023/06/RichmondPWJuneJuly2023_eng.png
END:VEVENT
BEGIN:VEVENT
DTSTART;TZID=America/Los_Angeles:20230616T180000
DTEND;TZID=America/Los_Angeles:20230616T200000
DTSTAMP:20260425T070902
CREATED:20230323T213807Z
LAST-MODIFIED:20230323T213807Z
UID:3316-1686938400-1686945600@fiaeastbay.org
SUMMARY:Ceasefire Night Walk
DESCRIPTION:Location: At Thy Word Church ~ 8915 International Blvd\, Oakland\n\nNight walks:\n6pm: Gathering for pre-walk/corners process\n6:30pm: walk or stand on corners\n7:30pm: returned back to starting location or completed from the corners\nBy 7:45pm\, walk process completed\nFor more information\, please contact Chris Moreno at chris@fiaeastbay.org
URL:https://fiaeastbay.org/event/ceasefire-night-walk-36/
ATTACH;FMTTYPE=image/png:https://fiaeastbay.org/wp-content/uploads/2021/12/OaklandCeasefire_cal.png
END:VEVENT
BEGIN:VEVENT
DTSTART;TZID=America/Los_Angeles:20230610T100000
DTEND;TZID=America/Los_Angeles:20230610T140000
DTSTAMP:20260425T070902
CREATED:20230412T184301Z
LAST-MODIFIED:20230510T224244Z
UID:3359-1686391200-1686405600@fiaeastbay.org
SUMMARY:Guns to Gardens
DESCRIPTION:Guns to Gardens is happening again in Oakland on June 10th! A movement between various faith-based and peacemaking organizations\, alongside the Oakland Police Department\, individuals in Oakland and beyond can turn in a gun and get a garden tool forged from guns\, as well as A’s tickets and up to $300 in gift cards\, depending on gun value.\n\nIf you’re interested in helping get the word out about the event\, please connect with us on Instagram (@gunstogardensOAK) or email Cara Meredith (caramac54@gmail.com). If you want to volunteer the day of or help distribute flyers\, sign up here or email Vanessa Smart (Vanessa.smart@gmail.com). And if you want to give a financial donation to see more Guns to Gardens events happens so we can get more guns off our streets\, give generously today. For any other questions\, email Paula Hawthorn (paula.hawthorn@gmail.com).\n\nLet’s disarm hearts\, forge peace\, and cultivate justice together!\n\n\n\n  \n 
URL:https://fiaeastbay.org/event/guns-to-gardens/
ATTACH;FMTTYPE=image/png:https://fiaeastbay.org/wp-content/uploads/2023/04/GunstoGardens.png
END:VEVENT
BEGIN:VEVENT
DTSTART;TZID=America/Los_Angeles:20230609T180000
DTEND;TZID=America/Los_Angeles:20230609T200000
DTSTAMP:20260425T070902
CREATED:20230323T213631Z
LAST-MODIFIED:20230323T213631Z
UID:3314-1686333600-1686340800@fiaeastbay.org
SUMMARY:Ceasefire Night Walk
DESCRIPTION:Location: First Mount Sinai\, 1970 86th Avenue\, Oakland\n\nNight walks:\n6pm: Gathering for pre-walk/corners process\n6:30pm: walk or stand on corners\n7:30pm: returned back to starting location or completed from the corners\nBy 7:45pm\, walk process completed\nFor more information\, please contact Chris Moreno at chris@fiaeastbay.org
URL:https://fiaeastbay.org/event/ceasefire-night-walk-35/
ATTACH;FMTTYPE=image/png:https://fiaeastbay.org/wp-content/uploads/2021/12/OaklandCeasefire_cal.png
END:VEVENT
BEGIN:VEVENT
DTSTART;TZID=America/Los_Angeles:20230608T143000
DTEND;TZID=America/Los_Angeles:20230608T153000
DTSTAMP:20260425T070902
CREATED:20230605T215121Z
LAST-MODIFIED:20230606T004050Z
UID:3456-1686234600-1686238200@fiaeastbay.org
SUMMARY:Housing Research Meeting
DESCRIPTION:REGISTER
URL:https://fiaeastbay.org/event/housing-research-meeting-2/
ATTACH;FMTTYPE=image/png:https://fiaeastbay.org/wp-content/uploads/2023/06/JoshWrightResearchMeeting1.png
END:VEVENT
BEGIN:VEVENT
DTSTART;TZID=America/Los_Angeles:20230531T183000
DTEND;TZID=America/Los_Angeles:20230531T193000
DTSTAMP:20260425T070902
CREATED:20230510T224009Z
LAST-MODIFIED:20230510T224009Z
UID:3428-1685557800-1685561400@fiaeastbay.org
SUMMARY:Leadership Development Training
DESCRIPTION:REGISTER
URL:https://fiaeastbay.org/event/leadership-development-training-6/
ATTACH;FMTTYPE=image/png:https://fiaeastbay.org/wp-content/uploads/2023/05/LDTMay2023_flyer.png
END:VEVENT
BEGIN:VEVENT
DTSTART;TZID=America/Los_Angeles:20230526T180000
DTEND;TZID=America/Los_Angeles:20230526T200000
DTSTAMP:20260425T070902
CREATED:20230323T213333Z
LAST-MODIFIED:20230323T213333Z
UID:3312-1685124000-1685131200@fiaeastbay.org
SUMMARY:Ceasefire Night Walk
DESCRIPTION:Location: St. Columba Church ~ 6401 San Pablo Avenue\, Oakland\n\nNight walks:\n6pm: Gathering for pre-walk/corners process\n6:30pm: walk or stand on corners\n7:30pm: returned back to starting location or completed from the corners\nBy 7:45pm\, walk process completed\nFor more information\, please contact Chris Moreno at chris@fiaeastbay.org
URL:https://fiaeastbay.org/event/ceasefire-night-walk-34/
ATTACH;FMTTYPE=image/png:https://fiaeastbay.org/wp-content/uploads/2021/12/OaklandCeasefire_cal.png
END:VEVENT
BEGIN:VEVENT
DTSTART;TZID=America/Los_Angeles:20230522T130000
DTEND;TZID=America/Los_Angeles:20230522T133000
DTSTAMP:20260425T070902
CREATED:20230516T223232Z
LAST-MODIFIED:20230516T234318Z
UID:3443-1684760400-1684762200@fiaeastbay.org
SUMMARY:Meeting with the Mayor on Illegal Dumping
DESCRIPTION:Join us on Monday\, May 22nd at 1 pm to meet with Oakland’s Mayor\, Sheng Thao\, to speak and discuss the ongoing Illegal Dumping crisis negatively affecting communities in the City of Oakland. This meeting will be held on Zoom\n Register in advance for this meeting:\nhttps://us02web.zoom.us/meeting/register/tZItfu-oqj4uHNQ-ZvWaRXtfeKCMRSyGB8dU \nAfter registering\, you will receive a confirmation email containing information about joining the meeting. \n\n\n \nÚnase a nosotros el lunes 22 de mayo a la 1 pm para reunirse con la alcaldeza de Oakland\, Sheng Thao\, para hablar y analizar la crisis actual de vertidos ilegales que afecta negativamente a las comunidades de la ciudad de Oakland. La reunion sera por zoom.\n\n\nRegístrese con anticipación para esta reunión:\nhttps://us02web.zoom.us/meeting/register/tZItfu-oqj4uHNQ-ZvWaRXtfeKCMRSyGB8dUDespués de registrarse\, recibirá un correo electrónico de confirmación con información sobre cómo unirse a la reunión.
URL:https://fiaeastbay.org/event/meeting-with-the-mayor-on-illegal-dumping/
ATTACH;FMTTYPE=image/png:https://fiaeastbay.org/wp-content/uploads/2023/05/Emergency.png
END:VEVENT
BEGIN:VEVENT
DTSTART;TZID=America/Los_Angeles:20230520T103000
DTEND;TZID=America/Los_Angeles:20230520T120000
DTSTAMP:20260425T070902
CREATED:20230427T230515Z
LAST-MODIFIED:20230516T024255Z
UID:3371-1684578600-1684584000@fiaeastbay.org
SUMMARY:Reimagining Beloved Community
DESCRIPTION:REGISTER\nThe recent years have been charged with political\, racial\, socio-economic tensions. Now with the 2024 presidential campaign ahead and our democracy under assault\, we must be proactive in nurturing the shared values and bonds of our communities. Join a conversation on what it means to reimagine the Beloved Community for the nation in this new era. Rev. Adam Russell Taylor\, president of Sojourners and author of A More Perfect Union: A New Vision for Building the Beloved Community\, will lead a panel of local faith leaders: Rev. Leslie Takahashi\, Pastor Michael Wallace\, Rabbi Julie Saxe-Taller. \nBIOS \nRev. Adam Russell Taylor is president of Sojourners and author of A More Perfect Union: A New Vision for Building the Beloved Community. Taylor previously led the Faith Initiative at the World Bank Group\, served as the vice president in charge of Advocacy at World Vision U.S.\, and co-founded Global Justice. He was selected for the 2009/2010 class of White House Fellows. Taylor is a graduate of Emory University\, the Harvard U. Kennedy School of Government\, and the Proctor School of Theology. Taylor is on the Independent Sector Board and serves in ministry at the Alfred Street Baptist Church. \n~~~~~~~~~~~~~~~~~~~~~ \nLeslie Takahashi serves as lead minister at the Mt. Diablo Unitarian Universalist Church in Walnut Creek\, CA and has served as faculty at both the Unitarian Unviersalist theological schools. She has led within Unitarian Universalism in the areas of anti-oppression\, justice and trauma integration. Prior to entering the ministry\, she worked professionally in the area of leadership development\, sustainable economic development and education policy and was the Assistant Vice President for Policy for the North Carolina Community College System. She is the co-author\, with Chip Roush and Leon Spencer\, of The Arc of The Universe is Long: Anti-racism and the Unitarian Universalist Association (Skinner House 2008)and a contributor to a number of professional publications and meditation collections. Her children\, Garner and Liam–and now grandson\, OT\, offer on-going inspiration. \n  \n  \n~~~~~~~~~~~~~~~~~~~~~ \nRabbi Julie Saxe-Taller is the Lead Organizer for the California Religious Action Center of Reform Judaism (RAC-CA)\, where she builds the network of congregations who are harnessing their statewide voice for justice as Jews. Previously\, she served Congregation Sherith Israel in San Francisco from 2004 to 2017. Rabbi Saxe-Taller is passionate about bringing the spiritual\, creative and justice-seeking elements of Judaism together\, as they are meant to be. \n~~~~~~~~~~~~~~~~~~~~~\nPastor Michael Wallace is the Board Co-Chair and Faith in Action East Bay and Senior Pastor-Teacher at Mount Zion Missionary Baptist Church.\n  \nREGISTER
URL:https://fiaeastbay.org/event/reimagining-the-beloved-community/
LOCATION:Faith in Action East Bay\, 8400 Enterprise Way\, Oakland\, CA\, 94621\, United States
ATTACH;FMTTYPE=image/png:https://fiaeastbay.org/wp-content/uploads/2023/04/BelComAdamRTaylor_May2023_post1.png
END:VEVENT
BEGIN:VEVENT
DTSTART;TZID=America/Los_Angeles:20230519T183000
DTEND;TZID=America/Los_Angeles:20230519T200000
DTSTAMP:20260425T070902
CREATED:20230509T145957Z
LAST-MODIFIED:20230509T145957Z
UID:3421-1684521000-1684526400@fiaeastbay.org
SUMMARY:Richmond Peace Walk
DESCRIPTION:
URL:https://fiaeastbay.org/event/richmond-peace-walk-3/
ATTACH;FMTTYPE=image/png:https://fiaeastbay.org/wp-content/uploads/2023/05/RichmondPWMay2023post_eng.png
END:VEVENT
BEGIN:VEVENT
DTSTART;TZID=America/Los_Angeles:20230519T180000
DTEND;TZID=America/Los_Angeles:20230519T200000
DTSTAMP:20260425T070902
CREATED:20230323T212556Z
LAST-MODIFIED:20230323T212556Z
UID:3309-1684519200-1684526400@fiaeastbay.org
SUMMARY:Ceasefire Night Walk
DESCRIPTION:Location: At Thy Word Church ~ 8915 International Blvd\n\nNight walks:\n6pm: Gathering for pre-walk/corners process\n6:30pm: walk or stand on corners\n7:30pm: returned back to starting location or completed from the corners\nBy 7:45pm\, walk process completed\nFor more information\, please contact Chris Moreno at chris@fiaeastbay.org
URL:https://fiaeastbay.org/event/ceasefire-night-walk-33/
ATTACH;FMTTYPE=image/png:https://fiaeastbay.org/wp-content/uploads/2021/12/OaklandCeasefire_cal.png
END:VEVENT
BEGIN:VEVENT
DTSTART;TZID=America/Los_Angeles:20230512T180000
DTEND;TZID=America/Los_Angeles:20230512T200000
DTSTAMP:20260425T070902
CREATED:20230323T212255Z
LAST-MODIFIED:20230323T212255Z
UID:3307-1683914400-1683921600@fiaeastbay.org
SUMMARY:Ceasefire Night Walk
DESCRIPTION:Location: First Mount Sinai ~ 1970 86th Avenue\n\nNight walks:\n6pm: Gathering for pre-walk/corners process\n6:30pm: walk or stand on corners\n7:30pm: returned back to starting location or completed from the corners\nBy 7:45pm\, walk process completed\nFor more information\, please contact Chris Moreno at chris@fiaeastbay.org
URL:https://fiaeastbay.org/event/ceasefire-night-walk-32/
ATTACH;FMTTYPE=image/png:https://fiaeastbay.org/wp-content/uploads/2021/12/OaklandCeasefire_cal.png
END:VEVENT
BEGIN:VEVENT
DTSTART;TZID=America/Los_Angeles:20230503T130000
DTEND;TZID=America/Los_Angeles:20230503T140000
DTSTAMP:20260425T070902
CREATED:20230429T000333Z
LAST-MODIFIED:20230429T011718Z
UID:3382-1683118800-1683122400@fiaeastbay.org
SUMMARY:Housing Meeting with Senator Aisha Wahab
DESCRIPTION:Join us as we meet with Senator Aisha Wahab who represents CA Sen District 10 in a discussion around the housing crisis and the legislation coming from Sacramento that concerns all of our communities.\n\nDate: May 3rd\nTime: 1pm\n\nREGISTER
URL:https://fiaeastbay.org/event/housing-meeting-with-senator-aisha-wahab/
ATTACH;FMTTYPE=image/png:https://fiaeastbay.org/wp-content/uploads/2022/03/homelessness_sm.png
END:VEVENT
BEGIN:VEVENT
DTSTART;TZID=America/Los_Angeles:20230429T110000
DTEND;TZID=America/Los_Angeles:20230429T120000
DTSTAMP:20260425T070902
CREATED:20230426T223323Z
LAST-MODIFIED:20230426T223323Z
UID:3368-1682766000-1682769600@fiaeastbay.org
SUMMARY:Community Townhall on MACRO
DESCRIPTION:REGISTER
URL:https://fiaeastbay.org/event/community-townhall-on-macro/
ATTACH;FMTTYPE=image/png:https://fiaeastbay.org/wp-content/uploads/2023/04/MACRO.png
END:VEVENT
BEGIN:VEVENT
DTSTART;TZID=America/Los_Angeles:20230429T100000
DTEND;TZID=America/Los_Angeles:20230429T140000
DTSTAMP:20260425T070902
CREATED:20230320T220923Z
LAST-MODIFIED:20230327T223626Z
UID:3283-1682762400-1682776800@fiaeastbay.org
SUMMARY:St. Augustine's Earth Month Celebration
DESCRIPTION:
URL:https://fiaeastbay.org/event/st-augustines-earth-month-celebration/
END:VEVENT
BEGIN:VEVENT
DTSTART;TZID=America/Los_Angeles:20230428T180000
DTEND;TZID=America/Los_Angeles:20230428T200000
DTSTAMP:20260425T070902
CREATED:20230323T212117Z
LAST-MODIFIED:20230323T212117Z
UID:3305-1682704800-1682712000@fiaeastbay.org
SUMMARY:Ceasefire Night Walk
DESCRIPTION:Location: St. Patrick’s Church ~ 1023 Peralta Street\, Oakland\n\nNight walks:\n6pm: Gathering for pre-walk/corners process\n6:30pm: walk or stand on corners\n7:30pm: returned back to starting location or completed from the corners\nBy 7:45pm\, walk process completed\nFor more information\, please contact Chris Moreno at chris@fiaeastbay.org
URL:https://fiaeastbay.org/event/ceasefire-night-walk-31/
END:VEVENT
BEGIN:VEVENT
DTSTART;TZID=America/Los_Angeles:20230421T183000
DTEND;TZID=America/Los_Angeles:20230421T193000
DTSTAMP:20260425T070902
CREATED:20230405T161709Z
LAST-MODIFIED:20230405T161709Z
UID:3343-1682101800-1682105400@fiaeastbay.org
SUMMARY:Richmond Peace Walk
DESCRIPTION:
URL:https://fiaeastbay.org/event/richmond-peace-walk-2/
ATTACH;FMTTYPE=image/png:https://fiaeastbay.org/wp-content/uploads/2023/03/safe-happy-family-vector-icon-260nw-1479344378.png
END:VEVENT
BEGIN:VEVENT
DTSTART;TZID=America/Los_Angeles:20230421T180000
DTEND;TZID=America/Los_Angeles:20230421T200000
DTSTAMP:20260425T070902
CREATED:20230323T211953Z
LAST-MODIFIED:20230323T211953Z
UID:3303-1682100000-1682107200@fiaeastbay.org
SUMMARY:Ceasefire Night Walk
DESCRIPTION:Location: At Thy Word Church ~ 8915 International Blvd\n\nNight walks:\n6pm: Gathering for pre-walk/corners process\n6:30pm: walk or stand on corners\n7:30pm: returned back to starting location or completed from the corners\nBy 7:45pm\, walk process completed\nFor more information\, please contact Chris Moreno at chris@fiaeastbay.org
URL:https://fiaeastbay.org/event/ceasefire-night-walk-30/
ATTACH;FMTTYPE=image/png:https://fiaeastbay.org/wp-content/uploads/2021/12/OaklandCeasefire_cal.png
END:VEVENT
BEGIN:VEVENT
DTSTART;TZID=America/Los_Angeles:20230420T100000
DTEND;TZID=America/Los_Angeles:20230420T150000
DTSTAMP:20260425T070902
CREATED:20230305T231242Z
LAST-MODIFIED:20230328T220134Z
UID:3223-1681984800-1682002800@fiaeastbay.org
SUMMARY:PICO California Home is Sacred Action Day
DESCRIPTION:State Capitol Park – West Steps\, 1315 10th Street\, Sacramento\, CA 95814 \n\nWe will gather with hundreds of people from the PICO California Network on Thursday\, April 20th\, 2023 in Sacramento\, as we act on our collective vision for a California that prioritizes people\, creating a moral economy where everyone can thrive.\n\n\n\n\n\n\n\n\nTogether we will: \n\nInspire and learn from one another about the work we are doing across the state\nHold a public action with key state officials\nFlood the State Capitol with research actions on our Home is Sacred legislative platform\nBuild and deepen our relationships with our legislators and their staff\nDeepen our power credential as a statewide network committed to transforming systems to improve the lives of our families.\n\nTogether to act with our collective voice.
URL:https://fiaeastbay.org/event/housing-action/
ATTACH;FMTTYPE=image/png:https://fiaeastbay.org/wp-content/uploads/2022/03/homelessness_sm.png
END:VEVENT
BEGIN:VEVENT
DTSTART;TZID=America/Los_Angeles:20230416T130000
DTEND;TZID=America/Los_Angeles:20230416T160000
DTSTAMP:20260425T070902
CREATED:20230411T150720Z
LAST-MODIFIED:20230411T150752Z
UID:3349-1681650000-1681660800@fiaeastbay.org
SUMMARY:Community Fair
DESCRIPTION:
URL:https://fiaeastbay.org/event/community-fair/
ATTACH;FMTTYPE=image/png:https://fiaeastbay.org/wp-content/uploads/2023/04/BethLCommunityFair.png
END:VEVENT
BEGIN:VEVENT
DTSTART;TZID=America/Los_Angeles:20230414T180000
DTEND;TZID=America/Los_Angeles:20230414T200000
DTSTAMP:20260425T070902
CREATED:20230323T211642Z
LAST-MODIFIED:20230411T172203Z
UID:3301-1681495200-1681502400@fiaeastbay.org
SUMMARY:Ceasefire Night Walk
DESCRIPTION:Location: First Mount Sinai\, 1970 86th Avenue\, Oakland\n\nNight walks:\n6pm: Gathering for pre-walk/corners process\n6:30pm: walk or stand on corners\n7:30pm: returned back to starting location or completed from the corners\nBy 7:45pm\, walk process completed\nFor more information\, please contact Chris Moreno at chris@fiaeastbay.org
URL:https://fiaeastbay.org/event/ceasefire-night-walk-29/
ATTACH;FMTTYPE=image/png:https://fiaeastbay.org/wp-content/uploads/2021/12/OaklandCeasefire_cal.png
END:VEVENT
BEGIN:VEVENT
DTSTART;TZID=America/Los_Angeles:20230412T183000
DTEND;TZID=America/Los_Angeles:20230412T193000
DTSTAMP:20260425T070902
CREATED:20230405T191615Z
LAST-MODIFIED:20230405T191615Z
UID:3346-1681324200-1681327800@fiaeastbay.org
SUMMARY:Listening Session for Small Landlords
DESCRIPTION:REGISTER
URL:https://fiaeastbay.org/event/listening-session-for-small-landlords/
ATTACH;FMTTYPE=image/png:https://fiaeastbay.org/wp-content/uploads/2023/04/SmLandlordListeningSession.png
END:VEVENT
BEGIN:VEVENT
DTSTART;TZID=America/Los_Angeles:20230412T170000
DTEND;TZID=America/Los_Angeles:20230412T190000
DTSTAMP:20260425T070902
CREATED:20230411T184642Z
LAST-MODIFIED:20230411T184642Z
UID:3355-1681318800-1681326000@fiaeastbay.org
SUMMARY:Sheriff's Community Input Meeting
DESCRIPTION:Input session to gather feedback and input for newly elected Sheriff Yesenia Sanchez’s Office \nOnline Community Meeting for Unincorporated Areas: Next Wednesday\, April 12\, 5-7pm we will hold an online community meeting for folks who live or work in unincorporated areas or areas served by the Sheriff’s Office (i.e. Ashland\, Castro Valley\, Cherryland\, Fairview\, San Lorenzo\, Sunol\, Hayward Acres\, Unincorporated Areas of Livermore\, City of Dublin). Register to attend here: English Speakers\, Spanish Speakers
URL:https://fiaeastbay.org/event/sheriffs-community-input-meeting/
ATTACH;FMTTYPE=image/png:https://fiaeastbay.org/wp-content/uploads/2023/04/sheriffAC.png
END:VEVENT
END:VCALENDAR