BEGIN:VCALENDAR
VERSION:2.0
PRODID:-//Faith in  Action East Bay - ECPv6.15.20//NONSGML v1.0//EN
CALSCALE:GREGORIAN
METHOD:PUBLISH
X-WR-CALNAME:Faith in  Action East Bay
X-ORIGINAL-URL:https://fiaeastbay.org
X-WR-CALDESC:Events for Faith in  Action East Bay
REFRESH-INTERVAL;VALUE=DURATION:PT1H
X-Robots-Tag:noindex
X-PUBLISHED-TTL:PT1H
BEGIN:VTIMEZONE
TZID:America/Los_Angeles
BEGIN:DAYLIGHT
TZOFFSETFROM:-0800
TZOFFSETTO:-0700
TZNAME:PDT
DTSTART:20210314T100000
END:DAYLIGHT
BEGIN:STANDARD
TZOFFSETFROM:-0700
TZOFFSETTO:-0800
TZNAME:PST
DTSTART:20211107T090000
END:STANDARD
BEGIN:DAYLIGHT
TZOFFSETFROM:-0800
TZOFFSETTO:-0700
TZNAME:PDT
DTSTART:20220313T100000
END:DAYLIGHT
BEGIN:STANDARD
TZOFFSETFROM:-0700
TZOFFSETTO:-0800
TZNAME:PST
DTSTART:20221106T090000
END:STANDARD
BEGIN:DAYLIGHT
TZOFFSETFROM:-0800
TZOFFSETTO:-0700
TZNAME:PDT
DTSTART:20230312T100000
END:DAYLIGHT
BEGIN:STANDARD
TZOFFSETFROM:-0700
TZOFFSETTO:-0800
TZNAME:PST
DTSTART:20231105T090000
END:STANDARD
BEGIN:DAYLIGHT
TZOFFSETFROM:-0800
TZOFFSETTO:-0700
TZNAME:PDT
DTSTART:20240310T100000
END:DAYLIGHT
BEGIN:STANDARD
TZOFFSETFROM:-0700
TZOFFSETTO:-0800
TZNAME:PST
DTSTART:20241103T090000
END:STANDARD
END:VTIMEZONE
BEGIN:VEVENT
DTSTART;TZID=America/Los_Angeles:20230317T180000
DTEND;TZID=America/Los_Angeles:20230317T193000
DTSTAMP:20260425T192044
CREATED:20221219T185859Z
LAST-MODIFIED:20221219T185859Z
UID:3086-1679076000-1679081400@fiaeastbay.org
SUMMARY:Ceasefire Night Walk
DESCRIPTION:Location: At Thy Word Church ~ 8915 International Blvd\n\nNight walks:\n6pm: Gathering for pre-walk/corners process\n6:30pm: walk or stand on corners\n7:30pm: returned back to starting location or completed from the corners\nBy 7:45pm\, walk process completed\nFor more information\, please contact Chris Moreno at chris@fiaeastbay.org
URL:https://fiaeastbay.org/event/ceasefire-night-walk-26/
ATTACH;FMTTYPE=image/png:https://fiaeastbay.org/wp-content/uploads/2021/12/OaklandCeasefire_cal.png
END:VEVENT
BEGIN:VEVENT
DTSTART;TZID=America/Los_Angeles:20230316T120000
DTEND;TZID=America/Los_Angeles:20230316T150000
DTSTAMP:20260425T192044
CREATED:20230313T223611Z
LAST-MODIFIED:20230313T223611Z
UID:3259-1678968000-1678978800@fiaeastbay.org
SUMMARY:How to Overcome Toxic Polarization Lunch & Learn
DESCRIPTION:Calling all faith leaders and congregants! Join author and professor Peter Coleman and The One America Movement to learn insights from leading research on polarization. Discover how deeply divided societies can and do change\, as well as how our faith can make a difference in bridging those divides. Learn the science\, actions\, skills\, and competencies to navigate these times most effectively\, as well as what to look for in groups and organizations in your community that are already working to make our United States more functional again. \nREGISTER
URL:https://fiaeastbay.org/event/how-to-overcome-toxic-polarization-lunch-learn/
ATTACH;FMTTYPE=image/png:https://fiaeastbay.org/wp-content/uploads/2023/03/Oakland-Polarization-lunch-and-learn-with-Peter-Coleman-at-12noon.png
END:VEVENT
BEGIN:VEVENT
DTSTART;TZID=America/Los_Angeles:20230314T173000
DTEND;TZID=America/Los_Angeles:20230314T183000
DTSTAMP:20260425T192044
CREATED:20230314T011117Z
LAST-MODIFIED:20230314T011325Z
UID:3263-1678815000-1678818600@fiaeastbay.org
SUMMARY:Housing Research Meeting
DESCRIPTION:Come Join us for our Faith in Action East Bay Research Meeting around housing with California Senator Aisha Wahab’s Policy Analyst. We will be inquiring about AB460 the Fair Chance Housing Bill and other key pieces of legislation relevant to addressing the housing crisis in California and the East Bay. \nREGISTER
URL:https://fiaeastbay.org/event/housing-research-meeting/
ATTACH;FMTTYPE=image/png:https://fiaeastbay.org/wp-content/uploads/2023/03/safe-happy-family-vector-icon-260nw-1479344378.png
END:VEVENT
BEGIN:VEVENT
DTSTART;TZID=America/Los_Angeles:20230311T100000
DTEND;TZID=America/Los_Angeles:20230311T140000
DTSTAMP:20260425T192044
CREATED:20230305T231439Z
LAST-MODIFIED:20230306T033019Z
UID:3225-1678528800-1678543200@fiaeastbay.org
SUMMARY:Sisters in Solidarity Women's Day Event
DESCRIPTION:LEARN MORE AND REGISTER
URL:https://fiaeastbay.org/event/sisters-in-solidarity-womens-day-event/
ATTACH;FMTTYPE=image/png:https://fiaeastbay.org/wp-content/uploads/2023/03/RichmondWomen.png
END:VEVENT
BEGIN:VEVENT
DTSTART;TZID=America/Los_Angeles:20230310T180000
DTEND;TZID=America/Los_Angeles:20230310T193000
DTSTAMP:20260425T192044
CREATED:20221219T185656Z
LAST-MODIFIED:20221219T185656Z
UID:3084-1678471200-1678476600@fiaeastbay.org
SUMMARY:Ceasefire Night Walk
DESCRIPTION:Location: St. Columba Catholic Church ~ 6401 San Pablo Ave\, Oakland\n\nNight walks:\n6pm: Gathering for pre-walk/corners process\n6:30pm: walk or stand on corners\n7:30pm: returned back to starting location or completed from the corners\nBy 7:45pm\, walk process completed\nFor more information\, please contact Chris Moreno at chris@fiaeastbay.org
URL:https://fiaeastbay.org/event/ceasefire-night-walk-25/
ATTACH;FMTTYPE=image/png:https://fiaeastbay.org/wp-content/uploads/2021/12/OaklandCeasefire_cal.png
END:VEVENT
BEGIN:VEVENT
DTSTART;TZID=America/Los_Angeles:20230225T103000
DTEND;TZID=America/Los_Angeles:20230225T113000
DTSTAMP:20260425T192044
CREATED:20230214T235815Z
LAST-MODIFIED:20230215T013817Z
UID:3192-1677321000-1677324600@fiaeastbay.org
SUMMARY:San Antonio Neighborhood Meeting with Mayor Sheng Thao
DESCRIPTION:
URL:https://fiaeastbay.org/event/san-antonio-neighborhood-meeting-with-mayor-shen-thao/
ATTACH;FMTTYPE=image/png:https://fiaeastbay.org/wp-content/uploads/2023/02/Feb25MayorEng.png
END:VEVENT
BEGIN:VEVENT
DTSTART;TZID=America/Los_Angeles:20230224T180000
DTEND;TZID=America/Los_Angeles:20230224T193000
DTSTAMP:20260425T192044
CREATED:20221219T185301Z
LAST-MODIFIED:20230209T212307Z
UID:3082-1677261600-1677267000@fiaeastbay.org
SUMMARY:Ceasefire Night Walk
DESCRIPTION:Location: St. Patrick’s Catholic Church\, 1023 Peralta St.\, Oakland \nNight walks:\n6pm: Gathering for pre-walk/corners process\n6:30pm: walk or stand on corners\n7:30pm: returned back to starting location or completed from the corners\nBy 7:45pm\, walk process completed\nFor more information\, please contact Chris Moreno at chris@fiaeastbay.org
URL:https://fiaeastbay.org/event/ceasefire-night-walk-24/
ATTACH;FMTTYPE=image/png:https://fiaeastbay.org/wp-content/uploads/2021/12/OaklandCeasefire_cal.png
END:VEVENT
BEGIN:VEVENT
DTSTART;TZID=America/Los_Angeles:20230223T183000
DTEND;TZID=America/Los_Angeles:20230223T194500
DTSTAMP:20260425T192044
CREATED:20230210T015852Z
LAST-MODIFIED:20230210T022309Z
UID:3185-1677177000-1677181500@fiaeastbay.org
SUMMARY:Housing Meeting: Preparing for Action
DESCRIPTION:Please join us as we begin our planning for a statewide action on housing in April. REGISTER \n~~~~~~~~~~~~  \nÚnase a nosotros para empezar a planificar una acción estatal sobre la vivienda en abril. Regístrese
URL:https://fiaeastbay.org/event/housing-meeting-preparing-for-action/
ATTACH;FMTTYPE=image/png:https://fiaeastbay.org/wp-content/uploads/2023/02/Feb23HousingMeeting.png
END:VEVENT
BEGIN:VEVENT
DTSTART;TZID=America/Los_Angeles:20230223T120000
DTEND;TZID=America/Los_Angeles:20230223T130000
DTSTAMP:20260425T192044
CREATED:20230203T233649Z
LAST-MODIFIED:20230203T233649Z
UID:3171-1677153600-1677157200@fiaeastbay.org
SUMMARY:Vigil and Remembrance for Victims of Internment
DESCRIPTION:February 20\, 1942\, is the day FDR signed Executive Order 9066 in WWII\, which imprisoned 120\,000 Japanese and Japanese Americans into US Concentration camps as well as over 5\,000 Japanese Latin & Central Americans who were separated from their families and sent to the US for hostage exchange during WWII.
URL:https://fiaeastbay.org/event/vigil-and-remembrance-for-victims-of-internment/
ATTACH;FMTTYPE=image/png:https://fiaeastbay.org/wp-content/uploads/2023/02/Feb20Vigil.png
END:VEVENT
BEGIN:VEVENT
DTSTART;TZID=America/Los_Angeles:20230221T180000
DTEND;TZID=America/Los_Angeles:20230221T200000
DTSTAMP:20260425T192044
CREATED:20230126T195430Z
LAST-MODIFIED:20230126T232011Z
UID:3135-1677002400-1677009600@fiaeastbay.org
SUMMARY:Growing Power in Rwanda: An Evening with Pastor John Rutsindintwarane
DESCRIPTION:Join us in person at the Faith in Action East Bay offices to learn about the transformative work of grassroots leaders in Mumeya\, Nyange\, Rusumo\, Nyarubuye and other Rwandan communities who are organizing their communities to build clinics\, schools\, and roads and how this work is now being launched in Ghana\, Kenya\, Tanzania and other countries in Africa. Pastor John learned the Faith in Action method of organizing during his internship with OCO/Faith in Action East Bay more than ten years ago. For Pastor John\, the devastating effects of the 1994 genocide and the overwhelming barriers faced by the survivors fueled his search for tools to rebuild his country\, combining faith with action\, and building from the ground up. \nINFO:  Ron Snyder at (510) 205-5555 or Barbara Lafitte-Oluwole at  (510) 382-1687 x301 \nMasks required. This is a free presentation and reception. To help us plan\, please RSVP. \nRSVP Now
URL:https://fiaeastbay.org/event/growing-power-an-evening-with-pastor-john-rutsindintwarane/
LOCATION:Faith in Action East Bay\, 8400 Enterprise Way\, Oakland\, CA\, 94621\, United States
ATTACH;FMTTYPE=image/png:https://fiaeastbay.org/wp-content/uploads/2023/01/PastorJohn_web.png
END:VEVENT
BEGIN:VEVENT
DTSTART;TZID=America/Los_Angeles:20230217T180000
DTEND;TZID=America/Los_Angeles:20230217T193000
DTSTAMP:20260425T192044
CREATED:20221219T185106Z
LAST-MODIFIED:20221219T185106Z
UID:3080-1676656800-1676662200@fiaeastbay.org
SUMMARY:Ceasefire Night Walk
DESCRIPTION:Location: Williams Chapel Baptist Church\, 1410 10th Ave\, Oakland CA 94606\n\nNight walks:\n6pm: Gathering for pre-walk/corners process\n6:30pm: walk or stand on corners\n7:30pm: returned back to starting location or completed from the corners\nBy 7:45pm\, walk process completed\nFor more information\, please contact Chris Moreno at chris@fiaeastbay.org
URL:https://fiaeastbay.org/event/ceasefire-night-walk-23/
ATTACH;FMTTYPE=image/png:https://fiaeastbay.org/wp-content/uploads/2021/12/OaklandCeasefire_cal.png
END:VEVENT
BEGIN:VEVENT
DTSTART;TZID=America/Los_Angeles:20230210T180000
DTEND;TZID=America/Los_Angeles:20230210T193000
DTSTAMP:20260425T192044
CREATED:20221219T184741Z
LAST-MODIFIED:20221219T184741Z
UID:3078-1676052000-1676057400@fiaeastbay.org
SUMMARY:Ceasefire Night Walk
DESCRIPTION:Location: First Mount Sinai\, 1970 86th Ave\, Oakland\n\nNight walks:\n6pm: Gathering for pre-walk/corners process\n6:30pm: walk or stand on corners\n7:30pm: returned back to starting location or completed from the corners\nBy 7:45pm\, walk process completed\nFor more information\, please contact Chris Moreno at chris@fiaeastbay.org
URL:https://fiaeastbay.org/event/ceasefire-night-walk-22/
ATTACH;FMTTYPE=image/png:https://fiaeastbay.org/wp-content/uploads/2021/12/OaklandCeasefire_cal.png
END:VEVENT
BEGIN:VEVENT
DTSTART;TZID=America/Los_Angeles:20230207T173000
DTEND;TZID=America/Los_Angeles:20230207T183000
DTSTAMP:20260425T192044
CREATED:20230206T174205Z
LAST-MODIFIED:20230206T174245Z
UID:3174-1675791000-1675794600@fiaeastbay.org
SUMMARY:Prayer Vigil Against Human Trafficking
DESCRIPTION:Join Bishop Barber\, Father Ghebriel and the St. Anthony Parish community for a prayer vigil in support of the International Day of Prayer and Awareness Against Human Trafficking.\n\n\n\n\n\nFebruary 7\, 2023\, 5:30 to 6:30 pm\, St. Anthony-Mary Help of Christians Parish\n1610 E. 15th Street\, Oakland\, CA \n\n\n\n\n\nSt. Anthony’s community is faced with increasing crimes targeting victims caught in the cycle of human trafficking. Together we will gather\, pray\, and raise awareness of the impact of this vicious cycle and its effect on our community. \nPlease share these details within your networks as all are invited and welcomed. We have also invited local officials\, community leaders and members of the Oakland Police Department.  Please encourage all faithful to attend and lend their prayers. The prayer vigil will be outdoors\, weather permitting. \nJesus looked at them and said\, “For human beings this is impossible\, but for God all things are possible.” – Matthew 19:26
URL:https://fiaeastbay.org/event/3174/
LOCATION:St. Anthony’s Parish\, 1610 E. 15th Stree\, Oakland\, CA\, United States
ATTACH;FMTTYPE=image/png:https://fiaeastbay.org/wp-content/uploads/2023/02/SAFebPrayerVigil.png
END:VEVENT
BEGIN:VEVENT
DTSTART;TZID=America/Los_Angeles:20230127T180000
DTEND;TZID=America/Los_Angeles:20230127T193000
DTSTAMP:20260425T192044
CREATED:20221219T184345Z
LAST-MODIFIED:20221219T184345Z
UID:3076-1674842400-1674847800@fiaeastbay.org
SUMMARY:Ceasefire Night Walk
DESCRIPTION:Location: St. Columba Catholic Church ~ 6401 San Pablo Ave\, Oakland\n\nNight walks:\n6pm: Gathering for pre-walk/corners process\n6:30pm: walk or stand on corners\n7:30pm: returned back to starting location or completed from the corners\nBy 7:45pm\, walk process completed\nFor more information\, please contact Chris Moreno at chris@fiaeastbay.org
URL:https://fiaeastbay.org/event/ceasefire-night-walk-21/
ATTACH;FMTTYPE=image/png:https://fiaeastbay.org/wp-content/uploads/2021/12/OaklandCeasefire_cal.png
END:VEVENT
BEGIN:VEVENT
DTSTART;TZID=America/Los_Angeles:20230120T180000
DTEND;TZID=America/Los_Angeles:20230120T193000
DTSTAMP:20260425T192044
CREATED:20221219T184135Z
LAST-MODIFIED:20221219T184135Z
UID:3074-1674237600-1674243000@fiaeastbay.org
SUMMARY:Ceasefire Night Walk
DESCRIPTION:Location: At Thy Word Church ~ 8915 International Blvd\n\nNight walks:\n6pm: Gathering for pre-walk/corners process\n6:30pm: walk or stand on corners\n7:30pm: returned back to starting location or completed from the corners\nBy 7:45pm\, walk process completed\nFor more information\, please contact Chris Moreno at chris@fiaeastbay.org
URL:https://fiaeastbay.org/event/ceasefire-night-walk-20/
ATTACH;FMTTYPE=image/png:https://fiaeastbay.org/wp-content/uploads/2021/12/OaklandCeasefire_cal.png
END:VEVENT
BEGIN:VEVENT
DTSTART;TZID=America/Los_Angeles:20230113T180000
DTEND;TZID=America/Los_Angeles:20230113T193000
DTSTAMP:20260425T192044
CREATED:20221219T183938Z
LAST-MODIFIED:20230113T182845Z
UID:3072-1673632800-1673638200@fiaeastbay.org
SUMMARY:Ceasefire Night Walk - Cancelled Due to Weather
DESCRIPTION:Location: First Mt Sinai\, 1970 86th Avenue – Cancelled Due to Weather\nNight walks:\n6pm: Gathering for pre-walk/corners process\n6:30pm: walk or stand on corners\n7:30pm: returned back to starting location or completed from the corners\nBy 7:45pm\, walk process completed\nFor more information\, please contact Christ Moreno at chris@fiaeastbay.org
URL:https://fiaeastbay.org/event/ceasefire-night-walk-19/
ATTACH;FMTTYPE=image/png:https://fiaeastbay.org/wp-content/uploads/2021/12/OaklandCeasefire_cal.png
END:VEVENT
BEGIN:VEVENT
DTSTART;TZID=America/Los_Angeles:20221231T150000
DTEND;TZID=America/Los_Angeles:20221231T160000
DTSTAMP:20260425T192044
CREATED:20221222T215834Z
LAST-MODIFIED:20221222T215834Z
UID:3097-1672498800-1672502400@fiaeastbay.org
SUMMARY:Ceremony of the Crosses
DESCRIPTION:
URL:https://fiaeastbay.org/event/ceremony-of-the-crosses/
ATTACH;FMTTYPE=image/png:https://fiaeastbay.org/wp-content/uploads/2022/12/CrossesCeremony2022.png
END:VEVENT
BEGIN:VEVENT
DTSTART;TZID=America/Los_Angeles:20221216T180000
DTEND;TZID=America/Los_Angeles:20221216T193000
DTSTAMP:20260425T192044
CREATED:20220922T235314Z
LAST-MODIFIED:20220923T000352Z
UID:2883-1671213600-1671219000@fiaeastbay.org
SUMMARY:Ceasefire Night Walk
DESCRIPTION:Location: At Thy Word ~ 8915 International Blvd\n\nNight walks:\n6pm: Gathering for pre-walk/corners process\n6:30pm: walk or stand on corners\n7:30pm: returned back to starting location or completed from the corners\nBy 7:45pm\, walk process completed\nFor more information\, please contact Chris Moreno at chris@fiaeastbay.org
URL:https://fiaeastbay.org/event/ceasefire-night-walk-18/
ATTACH;FMTTYPE=image/png:https://fiaeastbay.org/wp-content/uploads/2021/12/OaklandCeasefire_cal.png
END:VEVENT
BEGIN:VEVENT
DTSTART;TZID=America/Los_Angeles:20221213T183000
DTEND;TZID=America/Los_Angeles:20221213T200000
DTSTAMP:20260425T192044
CREATED:20221201T231157Z
LAST-MODIFIED:20221201T231342Z
UID:3056-1670956200-1670961600@fiaeastbay.org
SUMMARY:Regional Leadership Holiday Celebration
DESCRIPTION:REGISTER\n \nRegístrese
URL:https://fiaeastbay.org/event/regional-leadership-holiday-celebration/
ATTACH;FMTTYPE=image/png:https://fiaeastbay.org/wp-content/uploads/2022/12/RLAdec22.png
END:VEVENT
BEGIN:VEVENT
DTSTART;TZID=America/Los_Angeles:20221209T180000
DTEND;TZID=America/Los_Angeles:20221209T193000
DTSTAMP:20260425T192044
CREATED:20220922T235138Z
LAST-MODIFIED:20220922T235138Z
UID:2881-1670608800-1670614200@fiaeastbay.org
SUMMARY:Ceasefire Night Walk
DESCRIPTION:Location:First Mt Sinai\, 1970 86th Avenue\n\nNight walks:\n6pm: Gathering for pre-walk/corners process\n6:30pm: walk or stand on corners\n7:30pm: returned back to starting location or completed from the corners\nBy 7:45pm\, walk process completed\nFor more information\, please contact Christ Moreno at chris@fiaeastbay.org
URL:https://fiaeastbay.org/event/ceasefire-night-walk-17/
ATTACH;FMTTYPE=image/png:https://fiaeastbay.org/wp-content/uploads/2021/12/OaklandCeasefire_cal.png
END:VEVENT
BEGIN:VEVENT
DTSTART;TZID=America/Los_Angeles:20221205T173000
DTEND;TZID=America/Los_Angeles:20221205T190000
DTSTAMP:20260425T192044
CREATED:20221121T220223Z
LAST-MODIFIED:20221128T215819Z
UID:3040-1670261400-1670266800@fiaeastbay.org
SUMMARY:PICO Leadership Assembly
DESCRIPTION:It has been a year of renewal and growth for the PICO California network. It has also been a year of challenges and economic instability for many families across California. Although there is a record $100 billion dollar state budget surplus\, we have seen houselessness soar and inflation rise to all-time highs\, negatively impacting ALL of our loved ones. We have heard both the pain and hope of our families and have taken action to confront the systems and institutions causing pain in our communities. Through extensive research with local and state officials\, we have put forth a strategy to best disrupt and reimagine a path forward that sees ALL of our families thrive. \nJoin us on December 5th as we unite with our sibling federations throughout the PICO California network to celebrate our progress and map out a path forward to creating an Economy of Belonging where families have secure & stable housing and a sustainable source of income. It is time for us to come together as communities of faith and take action! \nREGISTER
URL:https://fiaeastbay.org/event/pico-leadership-assembly/
END:VEVENT
BEGIN:VEVENT
DTSTART;TZID=America/Los_Angeles:20221204T153000
DTEND;TZID=America/Los_Angeles:20221204T170000
DTSTAMP:20260425T192044
CREATED:20221128T201035Z
LAST-MODIFIED:20221128T201035Z
UID:3046-1670167800-1670173200@fiaeastbay.org
SUMMARY:Resource Fair
DESCRIPTION:
URL:https://fiaeastbay.org/event/resource-fair/
END:VEVENT
BEGIN:VEVENT
DTSTART;TZID=America/Los_Angeles:20221203T193000
DTEND;TZID=America/Los_Angeles:20221203T210000
DTSTAMP:20260425T192044
CREATED:20221104T182259Z
LAST-MODIFIED:20221104T182259Z
UID:3016-1670095800-1670101200@fiaeastbay.org
SUMMARY:Oakland Interfaith Gospel Choir 37th Annual Holiday Concert
DESCRIPTION:Tickets at www.oigc.org
URL:https://fiaeastbay.org/event/oakland-interfaith-gospel-choir-37th-annual-holiday-concert/
ATTACH;FMTTYPE=image/jpeg:https://fiaeastbay.org/wp-content/uploads/2022/11/OIGC.jpg
END:VEVENT
BEGIN:VEVENT
DTSTART;TZID=America/Los_Angeles:20221122T120000
DTEND;TZID=America/Los_Angeles:20221122T130000
DTSTAMP:20260425T192044
CREATED:20221121T213327Z
LAST-MODIFIED:20221121T213327Z
UID:3037-1669118400-1669122000@fiaeastbay.org
SUMMARY:Annual Thanksgiving Turkey Giveaway
DESCRIPTION:
URL:https://fiaeastbay.org/event/annual-thanksgiving-turkey-giveaway/
ATTACH;FMTTYPE=image/jpeg:https://fiaeastbay.org/wp-content/uploads/2022/11/IMG-2827.jpg
END:VEVENT
BEGIN:VEVENT
DTSTART;TZID=America/Los_Angeles:20221119T090000
DTEND;TZID=America/Los_Angeles:20221119T130000
DTSTAMP:20260425T192044
CREATED:20220614T194000Z
LAST-MODIFIED:20220614T194000Z
UID:2395-1668848400-1668862800@fiaeastbay.org
SUMMARY:Bulky Block Party
DESCRIPTION:Attend a Bulky Block Party event for free large-item disposal\nJoin us on the last Saturday of every month for a Bulky Block Party to dispose of your large unwanted items — the right way\, and for free! Residents only. Please bring proof of residency\, such as a utility bill. \n\n\n\n\n\n\n\n\n\nBulky Block Party events are held the last Saturday of every month (except during holiday weekends. See below.) from 9am to 1pm at 7101 Edgewater Drive\, Oakland\, CA. Oakland residents may drop off for free items that don’t fit in their trash cart at home! \nThis service is open to Oakland residents only – proof of residency such as a household bill will be required (no businesses please). \nCurbside Bulky Pickup service is provided by Waste Management of Alameda County as a part of the City of Oakland’s Zero Waste program. Information about curbside Bulky Pickup service is online at www.oaklandrecycles.com/bulky-pickup-services. Homeowners and property managers may contact Waste Management directly to schedule a bulky pickup by calling (510) 613-8710. \nUPCOMING 2022 BULKY BLOCK PARTY EVENT DATES: \n\nSaturday\, November 19th – 3rd Saturday of the month since the 4th Saturday falls on Thanksgiving weekend\nSaturday\, December 17th – 3rd Saturday of the month since the 4th Saturday falls on the New Year’s weekend
URL:https://fiaeastbay.org/event/bulky-block-party-7/
ATTACH;FMTTYPE=image/png:https://fiaeastbay.org/wp-content/uploads/2022/05/free-trash-icon-347-thumb-e1686701159620.png
END:VEVENT
BEGIN:VEVENT
DTSTART;TZID=America/Los_Angeles:20221118T180000
DTEND;TZID=America/Los_Angeles:20221118T193000
DTSTAMP:20260425T192044
CREATED:20220922T234811Z
LAST-MODIFIED:20220923T000252Z
UID:2879-1668794400-1668799800@fiaeastbay.org
SUMMARY:Ceasefire Night Walk
DESCRIPTION:Location: At Thy Word ~ 8915 International Blvd\n\nNight walks:\n6pm: Gathering for pre-walk/corners process\n6:30pm: walk or stand on corners\n7:30pm: returned back to starting location or completed from the corners\nBy 7:45pm\, walk process completed\nFor more information\, please contact Chris Moreno at chris@fiaeastbay.org
URL:https://fiaeastbay.org/event/ceasefire-night-walk-16/
ATTACH;FMTTYPE=image/png:https://fiaeastbay.org/wp-content/uploads/2021/12/OaklandCeasefire_cal.png
END:VEVENT
BEGIN:VEVENT
DTSTART;TZID=America/Los_Angeles:20221117T190000
DTEND;TZID=America/Los_Angeles:20221117T201500
DTSTAMP:20260425T192044
CREATED:20220831T233705Z
LAST-MODIFIED:20220901T192531Z
UID:2769-1668711600-1668716100@fiaeastbay.org
SUMMARY:Rise Up for Justice
DESCRIPTION:  \n  \n  \n  \n  \n  \n  \n  \n  \n  \n  \n  \n  \n  \n  \n  \n  \n  \n  \n 
URL:https://fiaeastbay.org/event/rise-up-for-justice/
END:VEVENT
BEGIN:VEVENT
DTSTART;TZID=America/Los_Angeles:20221108T200000
DTEND;TZID=America/Los_Angeles:20221108T220000
DTSTAMP:20260425T192044
CREATED:20221104T181932Z
LAST-MODIFIED:20221104T181932Z
UID:3012-1667937600-1667944800@fiaeastbay.org
SUMMARY:Election Night Watch Party
DESCRIPTION:Join Zoom Meeting\nhttps://us02web.zoom.us/j/89193802940?pwd=Z2ZlbCthWDFnUW13TEN0VXo4K0plUT09 \nMeeting ID: 891 9380 2940\nPasscode: 473509\nOne tap mobile\n+16694449171\,\,89193802940#\,\,\,\,*473509# US\n+16699006833\,\,89193802940#\,\,\,\,*473509# US (San Jose) \nDial by your location\n+1 669 444 9171 US\n+1 669 900 6833 US (San Jose)\n+1 408 638 0968 US (San Jose)\n+1 346 248 7799 US (Houston)\n+1 719 359 4580 US\n+1 253 215 8782 US (Tacoma)\n+1 301 715 8592 US (Washington DC)\n+1 309 205 3325 US\n+1 312 626 6799 US (Chicago)\n+1 360 209 5623 US\n+1 386 347 5053 US\n+1 507 473 4847 US\n+1 564 217 2000 US\n+1 646 876 9923 US (New York)\n+1 646 931 3860 US\n+1 689 278 1000 US\nMeeting ID: 891 9380 2940\nPasscode: 473509\nFind your local number: https://us02web.zoom.us/u/klg5jDMIG \n  \n\n\n\n\n\n \n\n\n\n\nWhen\n\n\n\n\nTuesday Nov 8\, 2022 ⋅ 7:30pm – 10:30pm (Pacific Time – Los Angeles) \n\n\n\n\n\n\n\n\n\nLocation\n\n\n\n\nhttps://us02web.zoom.us/j/89193802940?pwd=Z2ZlbCthWDFnUW13TEN0VXo4K0plUT09
URL:https://fiaeastbay.org/event/election-night-watch-party/
ATTACH;FMTTYPE=image/png:https://fiaeastbay.org/wp-content/uploads/2022/11/Screen-Shot-2022-11-04-at-11.09.44-AM.png
END:VEVENT
BEGIN:VEVENT
DTSTART;TZID=America/Los_Angeles:20221104T180000
DTEND;TZID=America/Los_Angeles:20221104T193000
DTSTAMP:20260425T192044
CREATED:20220922T234624Z
LAST-MODIFIED:20220923T000151Z
UID:2877-1667584800-1667590200@fiaeastbay.org
SUMMARY:Ceasefire Night Walk
DESCRIPTION:Location: St. Columba\, 6401 San Pablo Avenue    \nNight walks:\n6pm: Gathering for pre-walk/corners process\n6:30pm: walk or stand on corners\n7:30pm: returned back to starting location or completed from the corners\nBy 7:45pm\, walk process completed\nFor more information\, please contact Chris Moreno at chris@fiaeastbay.org
URL:https://fiaeastbay.org/event/ceasefire-night-walk-15/
ATTACH;FMTTYPE=image/png:https://fiaeastbay.org/wp-content/uploads/2021/12/OaklandCeasefire_cal.png
END:VEVENT
BEGIN:VEVENT
DTSTART;TZID=America/Los_Angeles:20221103T183000
DTEND;TZID=America/Los_Angeles:20221103T193000
DTSTAMP:20260425T192044
CREATED:20221031T211816Z
LAST-MODIFIED:20221031T211816Z
UID:3004-1667500200-1667503800@fiaeastbay.org
SUMMARY:St. Anthony's Community Meeting
DESCRIPTION:
URL:https://fiaeastbay.org/event/st-anthonys-community-meeting/
END:VEVENT
END:VCALENDAR