BEGIN:VCALENDAR
VERSION:2.0
PRODID:-//Faith in  Action East Bay - ECPv6.15.20//NONSGML v1.0//EN
CALSCALE:GREGORIAN
METHOD:PUBLISH
X-WR-CALNAME:Faith in  Action East Bay
X-ORIGINAL-URL:https://fiaeastbay.org
X-WR-CALDESC:Events for Faith in  Action East Bay
REFRESH-INTERVAL;VALUE=DURATION:PT1H
X-Robots-Tag:noindex
X-PUBLISHED-TTL:PT1H
BEGIN:VTIMEZONE
TZID:America/Los_Angeles
BEGIN:DAYLIGHT
TZOFFSETFROM:-0800
TZOFFSETTO:-0700
TZNAME:PDT
DTSTART:20210314T100000
END:DAYLIGHT
BEGIN:STANDARD
TZOFFSETFROM:-0700
TZOFFSETTO:-0800
TZNAME:PST
DTSTART:20211107T090000
END:STANDARD
BEGIN:DAYLIGHT
TZOFFSETFROM:-0800
TZOFFSETTO:-0700
TZNAME:PDT
DTSTART:20220313T100000
END:DAYLIGHT
BEGIN:STANDARD
TZOFFSETFROM:-0700
TZOFFSETTO:-0800
TZNAME:PST
DTSTART:20221106T090000
END:STANDARD
BEGIN:DAYLIGHT
TZOFFSETFROM:-0800
TZOFFSETTO:-0700
TZNAME:PDT
DTSTART:20230312T100000
END:DAYLIGHT
BEGIN:STANDARD
TZOFFSETFROM:-0700
TZOFFSETTO:-0800
TZNAME:PST
DTSTART:20231105T090000
END:STANDARD
END:VTIMEZONE
BEGIN:VEVENT
DTSTART;TZID=America/Los_Angeles:20221118T180000
DTEND;TZID=America/Los_Angeles:20221118T193000
DTSTAMP:20260425T211110
CREATED:20220922T234811Z
LAST-MODIFIED:20220923T000252Z
UID:2879-1668794400-1668799800@fiaeastbay.org
SUMMARY:Ceasefire Night Walk
DESCRIPTION:Location: At Thy Word ~ 8915 International Blvd\n\nNight walks:\n6pm: Gathering for pre-walk/corners process\n6:30pm: walk or stand on corners\n7:30pm: returned back to starting location or completed from the corners\nBy 7:45pm\, walk process completed\nFor more information\, please contact Chris Moreno at chris@fiaeastbay.org
URL:https://fiaeastbay.org/event/ceasefire-night-walk-16/
ATTACH;FMTTYPE=image/png:https://fiaeastbay.org/wp-content/uploads/2021/12/OaklandCeasefire_cal.png
END:VEVENT
BEGIN:VEVENT
DTSTART;TZID=America/Los_Angeles:20221117T190000
DTEND;TZID=America/Los_Angeles:20221117T201500
DTSTAMP:20260425T211110
CREATED:20220831T233705Z
LAST-MODIFIED:20220901T192531Z
UID:2769-1668711600-1668716100@fiaeastbay.org
SUMMARY:Rise Up for Justice
DESCRIPTION:  \n  \n  \n  \n  \n  \n  \n  \n  \n  \n  \n  \n  \n  \n  \n  \n  \n  \n  \n 
URL:https://fiaeastbay.org/event/rise-up-for-justice/
END:VEVENT
BEGIN:VEVENT
DTSTART;TZID=America/Los_Angeles:20221108T200000
DTEND;TZID=America/Los_Angeles:20221108T220000
DTSTAMP:20260425T211110
CREATED:20221104T181932Z
LAST-MODIFIED:20221104T181932Z
UID:3012-1667937600-1667944800@fiaeastbay.org
SUMMARY:Election Night Watch Party
DESCRIPTION:Join Zoom Meeting\nhttps://us02web.zoom.us/j/89193802940?pwd=Z2ZlbCthWDFnUW13TEN0VXo4K0plUT09 \nMeeting ID: 891 9380 2940\nPasscode: 473509\nOne tap mobile\n+16694449171\,\,89193802940#\,\,\,\,*473509# US\n+16699006833\,\,89193802940#\,\,\,\,*473509# US (San Jose) \nDial by your location\n+1 669 444 9171 US\n+1 669 900 6833 US (San Jose)\n+1 408 638 0968 US (San Jose)\n+1 346 248 7799 US (Houston)\n+1 719 359 4580 US\n+1 253 215 8782 US (Tacoma)\n+1 301 715 8592 US (Washington DC)\n+1 309 205 3325 US\n+1 312 626 6799 US (Chicago)\n+1 360 209 5623 US\n+1 386 347 5053 US\n+1 507 473 4847 US\n+1 564 217 2000 US\n+1 646 876 9923 US (New York)\n+1 646 931 3860 US\n+1 689 278 1000 US\nMeeting ID: 891 9380 2940\nPasscode: 473509\nFind your local number: https://us02web.zoom.us/u/klg5jDMIG \n  \n\n\n\n\n\n \n\n\n\n\nWhen\n\n\n\n\nTuesday Nov 8\, 2022 ⋅ 7:30pm – 10:30pm (Pacific Time – Los Angeles) \n\n\n\n\n\n\n\n\n\nLocation\n\n\n\n\nhttps://us02web.zoom.us/j/89193802940?pwd=Z2ZlbCthWDFnUW13TEN0VXo4K0plUT09
URL:https://fiaeastbay.org/event/election-night-watch-party/
ATTACH;FMTTYPE=image/png:https://fiaeastbay.org/wp-content/uploads/2022/11/Screen-Shot-2022-11-04-at-11.09.44-AM.png
END:VEVENT
BEGIN:VEVENT
DTSTART;TZID=America/Los_Angeles:20221104T180000
DTEND;TZID=America/Los_Angeles:20221104T193000
DTSTAMP:20260425T211110
CREATED:20220922T234624Z
LAST-MODIFIED:20220923T000151Z
UID:2877-1667584800-1667590200@fiaeastbay.org
SUMMARY:Ceasefire Night Walk
DESCRIPTION:Location: St. Columba\, 6401 San Pablo Avenue    \nNight walks:\n6pm: Gathering for pre-walk/corners process\n6:30pm: walk or stand on corners\n7:30pm: returned back to starting location or completed from the corners\nBy 7:45pm\, walk process completed\nFor more information\, please contact Chris Moreno at chris@fiaeastbay.org
URL:https://fiaeastbay.org/event/ceasefire-night-walk-15/
ATTACH;FMTTYPE=image/png:https://fiaeastbay.org/wp-content/uploads/2021/12/OaklandCeasefire_cal.png
END:VEVENT
BEGIN:VEVENT
DTSTART;TZID=America/Los_Angeles:20221103T183000
DTEND;TZID=America/Los_Angeles:20221103T193000
DTSTAMP:20260425T211110
CREATED:20221031T211816Z
LAST-MODIFIED:20221031T211816Z
UID:3004-1667500200-1667503800@fiaeastbay.org
SUMMARY:St. Anthony's Community Meeting
DESCRIPTION:
URL:https://fiaeastbay.org/event/st-anthonys-community-meeting/
END:VEVENT
BEGIN:VEVENT
DTSTART;TZID=America/Los_Angeles:20221029T090000
DTEND;TZID=America/Los_Angeles:20221029T130000
DTSTAMP:20260425T211110
CREATED:20220614T193847Z
LAST-MODIFIED:20220614T193847Z
UID:2393-1667034000-1667048400@fiaeastbay.org
SUMMARY:Bulky Block Party
DESCRIPTION:Attend a Bulky Block Party event for free large-item disposal\nJoin us on the last Saturday of every month for a Bulky Block Party to dispose of your large unwanted items — the right way\, and for free! Residents only. Please bring proof of residency\, such as a utility bill. \n\n\n\n\n\n\n\n\n\nBulky Block Party events are held the last Saturday of every month (except during holiday weekends. See below.) from 9am to 1pm at 7101 Edgewater Drive\, Oakland\, CA. Oakland residents may drop off for free items that don’t fit in their trash cart at home! \nThis service is open to Oakland residents only – proof of residency such as a household bill will be required (no businesses please). \nCurbside Bulky Pickup service is provided by Waste Management of Alameda County as a part of the City of Oakland’s Zero Waste program. Information about curbside Bulky Pickup service is online at www.oaklandrecycles.com/bulky-pickup-services. Homeowners and property managers may contact Waste Management directly to schedule a bulky pickup by calling (510) 613-8710. \nUPCOMING 2022 BULKY BLOCK PARTY EVENT DATES: \n\nSaturday\, October 29th\nSaturday\, November 19th – 3rd Saturday of the month since the 4th Saturday falls on Thanksgiving weekend\nSaturday\, December 17th – 3rd Saturday of the month since the 4th Saturday falls on the New Year’s weekend
URL:https://fiaeastbay.org/event/bulky-block-party-6/
ATTACH;FMTTYPE=image/png:https://fiaeastbay.org/wp-content/uploads/2022/05/free-trash-icon-347-thumb-e1686701159620.png
END:VEVENT
BEGIN:VEVENT
DTSTART;TZID=America/Los_Angeles:20221028T180000
DTEND;TZID=America/Los_Angeles:20221028T193000
DTSTAMP:20260425T211110
CREATED:20220922T234430Z
LAST-MODIFIED:20220922T235721Z
UID:2875-1666980000-1666985400@fiaeastbay.org
SUMMARY:Ceasefire Night Walk
DESCRIPTION:Location: St. Benedict’s Catholic Church\, 2245 82nd Avenue \nNight walks:\n6pm: Gathering for pre-walk/corners process\n6:30pm: walk or stand on corners\n7:30pm: returned back to starting location or completed from the corners\nBy 7:45pm\, walk process completed\nFor more information\, please contact Chris Moreno at chris@fiaeastbay.org
URL:https://fiaeastbay.org/event/ceasefire-night-walk-14/
ATTACH;FMTTYPE=image/png:https://fiaeastbay.org/wp-content/uploads/2021/12/OaklandCeasefire_cal.png
END:VEVENT
BEGIN:VEVENT
DTSTART;TZID=America/Los_Angeles:20221027T180000
DTEND;TZID=America/Los_Angeles:20221027T193000
DTSTAMP:20260425T211110
CREATED:20220923T215116Z
LAST-MODIFIED:20221018T203217Z
UID:2897-1666893600-1666899000@fiaeastbay.org
SUMMARY:Oakland Mayoral Forum
DESCRIPTION:REGISTER
URL:https://fiaeastbay.org/event/oakland-mayoral-forum/
ATTACH;FMTTYPE=image/png:https://fiaeastbay.org/wp-content/uploads/2022/09/VOTING.png
END:VEVENT
BEGIN:VEVENT
DTSTART;TZID=America/Los_Angeles:20221025T180000
DTEND;TZID=America/Los_Angeles:20221025T190000
DTSTAMP:20260425T211110
CREATED:20221006T235638Z
LAST-MODIFIED:20221014T192836Z
UID:2944-1666720800-1666724400@fiaeastbay.org
SUMMARY:Meet the New Sheriff: Yesenia Sanchez
DESCRIPTION:REGISTER\nDuties of the Sheriff in Alameda County\nThe Sheriff is a constitutional officer elected on a countywide basis. \nPatrol – Criminal Enforcement in all unincorporated areas of Alameda County. May contract with cities to provide enforcement where a police department has not been established (The City of Dublin Police Dept is a division of the ACSO.) May provide contract services to airports\, transit agencies\, schools\, hospitals\, etc. \nDetention – Operations of the jails; provide care\, safety\, custody and security of those incarcerated including the provision of medical services and proper diet. (In Alameda County medical care is contracted out while behavioral healthcare is provided by the Alameda County Behavioral Health Services a part of the county Health Services Agency.)   \nEmergency Services – The Sheriff is the director of civil defense and disaster services for the entire county when a state of emergency is declared. \nCivil – Receive and serve civil papers such as summons\, complaints\, subpoenas; execute evictions and other orders of the Court. \nCourt Services – Provide transportation of sentenced and pre-trial detainees; act as bailiff in the Court; provide courthouse security. \nRecords – Maintain records\, warrants and criminal history information. \nAnimal Control – Animal services in the unincorporated areas and contract cities.  \nCoroner – Alameda is one of 48 out of 58 counties in California where the Sheriff also serves as the coroner. The Coroner’s Office has three main responsibilities: \nMedical – Where deaths are unattended by physicians conduct autopsies to determine cause of death and sign death certificates; transport and remove bodies of the deceased. \nAdministrative – Maintain all records; respond to inquires by law enforcement agencies\, doctors and others with potential cases; provide custody and security of valuables; arrange sale of unclaimed property (can also be performed by Public Guardian/Public Administrator); locate families of the deceased when necessary. \nInvestigative – Conduct investigations to determine causes of death and/or establish identity of deceased; conduct inquests. \n \nREGISTER
URL:https://fiaeastbay.org/event/meet-the-new-sheriff-yesenia-sanchez/
END:VEVENT
BEGIN:VEVENT
DTSTART;TZID=America/Los_Angeles:20221021T180000
DTEND;TZID=America/Los_Angeles:20221021T193000
DTSTAMP:20260425T211110
CREATED:20220922T234141Z
LAST-MODIFIED:20220926T215731Z
UID:2873-1666375200-1666380600@fiaeastbay.org
SUMMARY:Ceasefire Night Walk
DESCRIPTION:Location: At Thy Word\,  8915 International Blvd.\n\nNight walks:\n6pm: Gathering for pre-walk/corners process\n6:30pm: walk or stand on corners\n7:30pm: returned back to starting location or completed from the corners\nBy 7:45pm\, walk process completed\nFor more information\, please contact Chris Moreno at chris@fiaeastbay.org
URL:https://fiaeastbay.org/event/ceasefire-night-walk-13/
ATTACH;FMTTYPE=image/png:https://fiaeastbay.org/wp-content/uploads/2021/12/OaklandCeasefire_cal.png
END:VEVENT
BEGIN:VEVENT
DTSTART;TZID=America/Los_Angeles:20221019T183000
DTEND;TZID=America/Los_Angeles:20221019T200000
DTSTAMP:20260425T211110
CREATED:20221003T010023Z
LAST-MODIFIED:20221004T200418Z
UID:2910-1666204200-1666209600@fiaeastbay.org
SUMMARY:Justice Jam: Understand Your Ballot and Vote Your Values
DESCRIPTION:REGISTER\nFaith in Action East Bay is a 501c(3). Faith in Action East Bay California is non-partisan. We do not endorse or support candidates for office.
URL:https://fiaeastbay.org/event/justice-jam/
END:VEVENT
BEGIN:VEVENT
DTSTART;TZID=America/Los_Angeles:20221015T083000
DTEND;TZID=America/Los_Angeles:20221015T123000
DTSTAMP:20260425T211110
CREATED:20220907T215755Z
LAST-MODIFIED:20220907T215755Z
UID:2818-1665822600-1665837000@fiaeastbay.org
SUMMARY:Pax Christi Event: Dr. Cummings Guest Speaker
DESCRIPTION:
URL:https://fiaeastbay.org/event/pax-christi-event-dr-cummings-guest-speaker/
END:VEVENT
BEGIN:VEVENT
DTSTART;TZID=America/Los_Angeles:20221014T180000
DTEND;TZID=America/Los_Angeles:20221014T193000
DTSTAMP:20260425T211110
CREATED:20220922T193122Z
LAST-MODIFIED:20221004T172133Z
UID:2871-1665770400-1665775800@fiaeastbay.org
SUMMARY:Ceasefire Night Walk
DESCRIPTION:Location: Williams Chapel Baptist Church\, 1410 10th Ave\, Oakland CA 94606\n\nNight walks:\n6pm: Gathering for pre-walk/corners process\n6:30pm: walk or stand on corners\n7:30pm: returned back to starting location or completed from the corners\nBy 7:45pm\, walk process completed\nFor more information\, please contact Chris Moreno at chris@fiaeastbay.org
URL:https://fiaeastbay.org/event/ceasefire-night-walk-8/
ATTACH;FMTTYPE=image/png:https://fiaeastbay.org/wp-content/uploads/2021/12/OaklandCeasefire_cal.png
END:VEVENT
BEGIN:VEVENT
DTSTART;TZID=America/Los_Angeles:20221014T173000
DTEND;TZID=America/Los_Angeles:20221014T183000
DTSTAMP:20260425T211110
CREATED:20221007T024714Z
LAST-MODIFIED:20221007T024714Z
UID:2950-1665768600-1665772200@fiaeastbay.org
SUMMARY:Oakland Mayoral Forum
DESCRIPTION:REGISTER
URL:https://fiaeastbay.org/event/oakland-mayoral-forum-2/
ATTACH;FMTTYPE=image/png:https://fiaeastbay.org/wp-content/uploads/2022/02/leadership.png
END:VEVENT
BEGIN:VEVENT
DTSTART;TZID=America/Los_Angeles:20221013T150000
DTEND;TZID=America/Los_Angeles:20221013T170000
DTSTAMP:20260425T211110
CREATED:20221011T001155Z
LAST-MODIFIED:20221011T001155Z
UID:2959-1665673200-1665680400@fiaeastbay.org
SUMMARY:Mayoral Forum on Gender-Based Violence
DESCRIPTION:A Safe Place\n\nDo you want to learn about Oakland’s Mayoral candidate’s plan to address human trafficking\, domestic violence and sexual assault in Oakland? \n\nAre you interested in each candidate’s position on  the intersection of gun violence and sexual exploitation\, domestic violence and sexual assault?\n\nJoin us on 10/13/22 from 3-5pm on Zoom to hear from each candidate.\n\nRegister Today https://www.eventbrite.com/e/oaklands-mayoral-candidate-forum-on-gender-based-violence-tickets-428054571747
URL:https://fiaeastbay.org/event/mayoral-forum-on-gender-based-violence/
END:VEVENT
BEGIN:VEVENT
DTSTART;TZID=America/Los_Angeles:20221012T183000
DTEND;TZID=America/Los_Angeles:20221012T193000
DTSTAMP:20260425T211110
CREATED:20220924T005608Z
LAST-MODIFIED:20221004T200508Z
UID:2900-1665599400-1665603000@fiaeastbay.org
SUMMARY:Alameda County D3 Supervisor Candidates Forum
DESCRIPTION:REGISTER\nFaith in Action East Bay is a 501c(3). Faith in Action East Bay California is non-partisan. We do not endorse or support candidates for office. \n \nREGISTRESE\n  \nFaith in Action East Bay is a 501c(3). Faith in Action East Bay California is non-partisan. We do not endorse or support candidates for office.
URL:https://fiaeastbay.org/event/alameda-county-d3-supervisor-candidates-forum/
ATTACH;FMTTYPE=image/png:https://fiaeastbay.org/wp-content/uploads/2022/09/VOTING.png
END:VEVENT
BEGIN:VEVENT
DTSTART;TZID=America/Los_Angeles:20221010T180000
DTEND;TZID=America/Los_Angeles:20221010T200000
DTSTAMP:20260425T211110
CREATED:20221006T221158Z
LAST-MODIFIED:20221006T221158Z
UID:2941-1665424800-1665432000@fiaeastbay.org
SUMMARY:Houselessness\, Housing and Hunger: Oakland Mayoral and BOS D3 Candidate Forum
DESCRIPTION:East Bay Housing Organizations (EBHO)\, St Mary’s Center\, The League of Women Voters and Centro Legal De La Raza invite you to this candidates forum. First\, we will speak to candidates from the Board of Supervisors District 3. Then\, we will be joined by candidates for Mayor of Oakland. \nREGISTER
URL:https://fiaeastbay.org/event/houselessness-housing-and-hunger-oakland-mayoral-and-bos-d3-candidate-forum/
ATTACH;FMTTYPE=image/png:https://fiaeastbay.org/wp-content/uploads/2022/03/homelessness_sm.png
END:VEVENT
BEGIN:VEVENT
DTSTART;TZID=America/Los_Angeles:20221008T103000
DTEND;TZID=America/Los_Angeles:20221008T120000
DTSTAMP:20260425T211110
CREATED:20221007T171629Z
LAST-MODIFIED:20221007T171629Z
UID:2956-1665225000-1665230400@fiaeastbay.org
SUMMARY:Community Town Hall on Public Safety
DESCRIPTION:Join me for a Community Town Hall on Public Safety THIS Saturday. This Saturday Oakland leaders are coming together with neighbors across the city for a day of mourning and conversation as our city continues to experience unacceptable gun violence and works to stem the violence and make our community safer for everyone. \nJoin the District 1 North Oakland gathering from 10:30am to noon at Bushrod Park. Hosted by Councilmember Dan Kalb. OPD Captain Rosin and Dept. of Violence Prevention program specialist Jennifer Argueta will also be participating.\nEarlier in the morning\, from 8:30am – 9:30am outside of Oakland City Hall\, City Councilmembers\, Donald Lacy Jr. of the LoveLife Foundation\, and Oakland Cultural Strategist Kev Choice\, and others\, will gather to share our resources for violence prevention\, jobs\, and housing.
URL:https://fiaeastbay.org/event/community-town-hall-on-public-safety/
END:VEVENT
BEGIN:VEVENT
DTSTART;TZID=America/Los_Angeles:20221006T183000
DTEND;TZID=America/Los_Angeles:20221006T200000
DTSTAMP:20260425T211110
CREATED:20220908T222442Z
LAST-MODIFIED:20220908T222442Z
UID:2840-1665081000-1665086400@fiaeastbay.org
SUMMARY:Leadership Development Training
DESCRIPTION:The Leadership Development Training for Fall 2022 (August 25-October 6\, Thursdays at 6:30) has closed but keep an eye out for the winter session that will begin in January 2023.
URL:https://fiaeastbay.org/event/leadership-development-training-5/
ATTACH;FMTTYPE=image/png:https://fiaeastbay.org/wp-content/uploads/2022/02/leadership.png
END:VEVENT
BEGIN:VEVENT
DTSTART;TZID=America/Los_Angeles:20221001T090000
DTEND;TZID=America/Los_Angeles:20221001T103000
DTSTAMP:20260425T211110
CREATED:20220705T192551Z
LAST-MODIFIED:20220906T214128Z
UID:2516-1664614800-1664620200@fiaeastbay.org
SUMMARY:Immigration Forum
DESCRIPTION:The Social Justice Ministry of Most Holy Rosary Church\, and Faith in Action East Bay (FIAEB) invite the community to an event on the following issues: \n\nIndividual consultations on immigration matters\nCriminal record clearance\nConsultations with the Mexican consulate on individual matters and the services they offer\nHealth insurance registration\, Cal Fresh (food stamps)\, and various other services\n\nWe are looking forward to seeing you on Saturday October 1st at 9am in the parish hall of the church. We need 30 volunteers to run the event. Please contact us for more information about the event or to sign up to volunteer with: Patricia Avila (925) 305-5573 or avila.paty2014@gmail.com\, Joselin Barajas (bilingual) (510) 561-7651 or joselin@fiaeastbay.org\, Yadira Fregoso (bilingual) (925) 446-9800 or yadira.fregoso76@yahoo.com.
URL:https://fiaeastbay.org/event/immigration-forum/
ATTACH;FMTTYPE=image/png:https://fiaeastbay.org/wp-content/uploads/2022/07/MHOImmForumOct2022.png
END:VEVENT
BEGIN:VEVENT
DTSTART;TZID=America/Los_Angeles:20220930T180000
DTEND;TZID=America/Los_Angeles:20220930T200000
DTSTAMP:20260425T211110
CREATED:20220627T212029Z
LAST-MODIFIED:20220922T235607Z
UID:2481-1664560800-1664568000@fiaeastbay.org
SUMMARY:Ceasefire Night Walk
DESCRIPTION:Location: St. Benedict’s ~ 2245 82nd Avenue\n\nNight walks:\n6pm: Gathering for pre-walk/corners process\n6:30pm: walk or stand on corners\n7:30pm: returned back to starting location or completed from the corners\nBy 7:45pm\, walk process completed\nFor more information\, please contact Chris Moreno at chris@fiaeastbay.org
URL:https://fiaeastbay.org/event/ceasefire-night-walk-12/
ATTACH;FMTTYPE=image/png:https://fiaeastbay.org/wp-content/uploads/2021/12/OaklandCeasefire_cal.png
END:VEVENT
BEGIN:VEVENT
DTSTART;TZID=America/Los_Angeles:20220929T183000
DTEND;TZID=America/Los_Angeles:20220929T200000
DTSTAMP:20260425T211110
CREATED:20220920T170346Z
LAST-MODIFIED:20221004T200548Z
UID:2864-1664476200-1664481600@fiaeastbay.org
SUMMARY:Alameda County District Attorney Candidate Forum
DESCRIPTION:On the ballot THIS November is an important run-off for Alameda County District Attorney.  To assist our community in making an informed decision with their vote\, our coalition is hosting a virtual Candidate Forum on Thursday\, 9/29 6:30-8pm. \nFaith in Action East Bay is a 501c(3). Faith in Action East Bay California is non-partisan. We do not endorse or support candidates for office. \nRegister: http://bit.ly/ACDA22 \n \n  \n \n 
URL:https://fiaeastbay.org/event/alameda-county-district-attorney-candidate-forum-2/
ATTACH;FMTTYPE=image/jpeg:https://fiaeastbay.org/wp-content/uploads/2022/09/ACDAForum.jpeg
END:VEVENT
BEGIN:VEVENT
DTSTART;TZID=America/Los_Angeles:20220929T183000
DTEND;TZID=America/Los_Angeles:20220929T200000
DTSTAMP:20260425T211110
CREATED:20220908T222150Z
LAST-MODIFIED:20220908T222344Z
UID:2836-1664476200-1664481600@fiaeastbay.org
SUMMARY:Leadership Development Training
DESCRIPTION:The Leadership Development Training for Fall 2022 (August 25-October 6\, Thursdays at 6:30) has closed but keep an eye out for the winter session that will begin in January 2023.
URL:https://fiaeastbay.org/event/leadership-development-training-3/
ATTACH;FMTTYPE=image/png:https://fiaeastbay.org/wp-content/uploads/2022/02/leadership.png
END:VEVENT
BEGIN:VEVENT
DTSTART;TZID=America/Los_Angeles:20220929T170000
DTEND;TZID=America/Los_Angeles:20220929T180000
DTSTAMP:20260425T211110
CREATED:20220923T214630Z
LAST-MODIFIED:20220923T214630Z
UID:2894-1664470800-1664474400@fiaeastbay.org
SUMMARY:Speak Up for Housing!
DESCRIPTION:REGISTER
URL:https://fiaeastbay.org/event/speak-up-for-housing/
ATTACH;FMTTYPE=image/png:https://fiaeastbay.org/wp-content/uploads/2022/03/homelessness_sm.png
END:VEVENT
BEGIN:VEVENT
DTSTART;TZID=America/Los_Angeles:20220926T190000
DTEND;TZID=America/Los_Angeles:20220926T200000
DTSTAMP:20260425T211110
CREATED:20220908T211938Z
LAST-MODIFIED:20220908T211938Z
UID:2828-1664218800-1664222400@fiaeastbay.org
SUMMARY:Ranked-Choice Voting Educational Forum
DESCRIPTION:In a ranked-choice voting system\, voters rank candidates by preference on their ballots. Come learn more about how it works\, and how it makes elections better. \nREGISTER\nFeaturing: \nHelen Hutchison is a past president and active member of the League of Women Voters of Oakland. She has been a League member since 1969 in a number of communities around the country. She is a past President of the League of Women Voters of California and current member of the LWVC board. Professionally Helen is a retired computer systems analyst. She is an active member of Montclair Presbyterian Church in Oakland\, and a foster care volunteer with the East Bay SPCA. \nRev. Dr. Malik JoDavid Sales is a native of Huntsville\, AL and a product of St. John AME Church.  While attending Xavier University of Louisiana\, he accepted his call into the ministry. He graduated Magna cum Laude from Xavier with a B.A. in Theology. After undergrad\, Rev. Sales attended Harvard Divinity School\, where he earned a Master of Theological Studies. Finally\, he concluded his educational preparation at the Graduate Theological Union in Berkeley\, CA\, where he earned his Ph.D. in Systematic Theology in 2012. His dissertation\, Saving Possibilities\, offered a contemporary perspective on salvation\, evil\, and the Holy Spirit by uniting the insights of various liberation theologies and performance theory.  An eighteen-song album entitled\, The Infinite Struggle [Can’t Won’t Don’t Stop]\, which was written\, performed\, and recorded by Dr. Sales\, accompanied his dissertation. Rev. Sales is the proud pastor of Brookins AME Church\, Oakland CA. Additionally\, Dr. Sales teaches in the Theology and Religious Studies Department of St. Mary’s College in Moraga\, CA\, He also  serves as the CA Conference Co-Director of Christian Education and President of the CA Conference Ministerial Alliance. Since graduating\, Dr. Sales has published a novel\, loves to blog on www.scifitheologian.com\, and continues to write and release music under the artist name “Jolowmight x Cervantes.” He is married to his college sweetheart\, Dr. Keedra Sales\, and they have two daughters\, aka “The Blossom Sisters.” In all things\, Rev. Sales tries to live his life by remembering the words of Jesus in Matthew 25 and the words of 1 John 4:20. “As surely as you did it to the least of these\, you did it it also unto me\,” and “Those who say ‘I love God’ and hate a brother or sister are liars. For those who do not love a brother or sister whom they have seen\, cannot love God whom they have not seen.”
URL:https://fiaeastbay.org/event/ranked-choice-voting-educational-forum/
ATTACH;FMTTYPE=image/png:https://fiaeastbay.org/wp-content/uploads/2022/09/RankedChoiceVotingForum.png
END:VEVENT
BEGIN:VEVENT
DTSTART;TZID=America/Los_Angeles:20220925T120000
DTEND;TZID=America/Los_Angeles:20220925T130000
DTSTAMP:20260425T211110
CREATED:20220906T203728Z
LAST-MODIFIED:20220906T203728Z
UID:2811-1664107200-1664110800@fiaeastbay.org
SUMMARY:What's Faith Got to Do With It? Voter Outreach Event
DESCRIPTION:
URL:https://fiaeastbay.org/event/whats-faith-got-to-do-with-it-voter-outreach-event/
END:VEVENT
BEGIN:VEVENT
DTSTART;TZID=America/Los_Angeles:20220924T090000
DTEND;TZID=America/Los_Angeles:20220924T130000
DTSTAMP:20260425T211110
CREATED:20220614T193735Z
LAST-MODIFIED:20220614T193735Z
UID:2391-1664010000-1664024400@fiaeastbay.org
SUMMARY:Bulky Block Party
DESCRIPTION:Attend a Bulky Block Party event for free large-item disposal\nJoin us on the last Saturday of every month for a Bulky Block Party to dispose of your large unwanted items — the right way\, and for free! Residents only. Please bring proof of residency\, such as a utility bill. \n\n\n\n\n\n\n\n\n\nBulky Block Party events are held the last Saturday of every month (except during holiday weekends. See below.) from 9am to 1pm at 7101 Edgewater Drive\, Oakland\, CA. Oakland residents may drop off for free items that don’t fit in their trash cart at home! \nThis service is open to Oakland residents only – proof of residency such as a household bill will be required (no businesses please). \nCurbside Bulky Pickup service is provided by Waste Management of Alameda County as a part of the City of Oakland’s Zero Waste program. Information about curbside Bulky Pickup service is online at www.oaklandrecycles.com/bulky-pickup-services. Homeowners and property managers may contact Waste Management directly to schedule a bulky pickup by calling (510) 613-8710. \nUPCOMING 2022 BULKY BLOCK PARTY EVENT DATES: \n\nSaturday\, September 24th\nSaturday\, October 29th\nSaturday\, November 19th – 3rd Saturday of the month since the 4th Saturday falls on Thanksgiving weekend\nSaturday\, December 17th – 3rd Saturday of the month since the 4th Saturday falls on the New Year’s weekend
URL:https://fiaeastbay.org/event/bulky-block-party-5/
ATTACH;FMTTYPE=image/png:https://fiaeastbay.org/wp-content/uploads/2022/05/free-trash-icon-347-thumb-e1686701159620.png
END:VEVENT
BEGIN:VEVENT
DTSTART;TZID=America/Los_Angeles:20220923T180000
DTEND;TZID=America/Los_Angeles:20220923T200000
DTSTAMP:20260425T211110
CREATED:20220627T211920Z
LAST-MODIFIED:20220922T235503Z
UID:2479-1663956000-1663963200@fiaeastbay.org
SUMMARY:Ceasefire Night Walk
DESCRIPTION:Location: At Thy Word ~ 8915 International Blvd\n\nNight walks:\n6pm: Gathering for pre-walk/corners process\n6:30pm: walk or stand on corners\n7:30pm: returned back to starting location or completed from the corners\nBy 7:45pm\, walk process completed\nFor more information\, please contact Chris Moreno at chris@fiaeastbay.org
URL:https://fiaeastbay.org/event/ceasefire-night-walk-11/
ATTACH;FMTTYPE=image/png:https://fiaeastbay.org/wp-content/uploads/2021/12/OaklandCeasefire_cal.png
END:VEVENT
BEGIN:VEVENT
DTSTART;TZID=America/Los_Angeles:20220922T183000
DTEND;TZID=America/Los_Angeles:20220922T200000
DTSTAMP:20260425T211110
CREATED:20220908T222252Z
LAST-MODIFIED:20220908T222252Z
UID:2838-1663871400-1663876800@fiaeastbay.org
SUMMARY:Leadership Development Training
DESCRIPTION:The Leadership Development Training for Fall 2022 (August 25-October 6\, Thursdays at 6:30) has closed but keep an eye out for the winter session that will begin in January 2023.
URL:https://fiaeastbay.org/event/leadership-development-training-4/
ATTACH;FMTTYPE=image/png:https://fiaeastbay.org/wp-content/uploads/2022/02/leadership.png
END:VEVENT
BEGIN:VEVENT
DTSTART;TZID=America/Los_Angeles:20220919T183000
DTEND;TZID=America/Los_Angeles:20220919T193000
DTSTAMP:20260425T211110
CREATED:20220728T192941Z
LAST-MODIFIED:20220916T173152Z
UID:2636-1663612200-1663615800@fiaeastbay.org
SUMMARY:Get the Trash Out of Oakland!
DESCRIPTION:REGISTER \nRead more…
URL:https://fiaeastbay.org/event/save-the-date-illegal-dumping-action/
ATTACH;FMTTYPE=image/png:https://fiaeastbay.org/wp-content/uploads/2022/07/Sept22Action.png
END:VEVENT
END:VCALENDAR