BEGIN:VCALENDAR
VERSION:2.0
PRODID:-//Faith in  Action East Bay - ECPv6.15.20//NONSGML v1.0//EN
CALSCALE:GREGORIAN
METHOD:PUBLISH
X-WR-CALNAME:Faith in  Action East Bay
X-ORIGINAL-URL:https://fiaeastbay.org
X-WR-CALDESC:Events for Faith in  Action East Bay
REFRESH-INTERVAL;VALUE=DURATION:PT1H
X-Robots-Tag:noindex
X-PUBLISHED-TTL:PT1H
BEGIN:VTIMEZONE
TZID:America/Los_Angeles
BEGIN:DAYLIGHT
TZOFFSETFROM:-0800
TZOFFSETTO:-0700
TZNAME:PDT
DTSTART:20240310T100000
END:DAYLIGHT
BEGIN:STANDARD
TZOFFSETFROM:-0700
TZOFFSETTO:-0800
TZNAME:PST
DTSTART:20241103T090000
END:STANDARD
BEGIN:DAYLIGHT
TZOFFSETFROM:-0800
TZOFFSETTO:-0700
TZNAME:PDT
DTSTART:20250309T100000
END:DAYLIGHT
BEGIN:STANDARD
TZOFFSETFROM:-0700
TZOFFSETTO:-0800
TZNAME:PST
DTSTART:20251102T090000
END:STANDARD
BEGIN:DAYLIGHT
TZOFFSETFROM:-0800
TZOFFSETTO:-0700
TZNAME:PDT
DTSTART:20260308T100000
END:DAYLIGHT
BEGIN:STANDARD
TZOFFSETFROM:-0700
TZOFFSETTO:-0800
TZNAME:PST
DTSTART:20261101T090000
END:STANDARD
END:VTIMEZONE
BEGIN:VEVENT
DTSTART;TZID=America/Los_Angeles:20250908T100000
DTEND;TZID=America/Los_Angeles:20250908T120000
DTSTAMP:20260424T040533
CREATED:20250814T190043Z
LAST-MODIFIED:20250814T202615Z
UID:5265-1757325600-1757332800@fiaeastbay.org
SUMMARY:CoC Training: Serving Immigrants Experiencing Homelessness
DESCRIPTION:This session will provide information about how to best support individuals and families in accessing housing\, immigration legal support\, education and benefits. \nPresented by Bay Area Legal Aid\, Contra Costa Employment and Human Services Department\, Contra Costa Health: Health Housing and Homeless Services\, Contra Costa Office of Education and Hijas Del Campo\, \n  Monday\, September 8\, 2025 \n10 am – Noon on Zoom \nTo register for the training\, click here \nContent questions may be directed to Contracostacoc@cchealth.org. \nREGISTER
URL:https://fiaeastbay.org/event/coc-training-serving-immigrants-experiencing-homelessness/
ATTACH;FMTTYPE=image/png:https://fiaeastbay.org/wp-content/uploads/2025/08/CoCtraining.png
END:VEVENT
BEGIN:VEVENT
DTSTART;TZID=America/Los_Angeles:20250907T160000
DTEND;TZID=America/Los_Angeles:20250907T180000
DTSTAMP:20260424T040533
CREATED:20250903T201342Z
LAST-MODIFIED:20250903T201414Z
UID:5293-1757260800-1757268000@fiaeastbay.org
SUMMARY:Apache Stronghold: Defend Oak Flats
DESCRIPTION:A Call to Defend the Holy: Oak Flat\n4-6 p.m. Sunday\, September 7\nPresbyterian Church of Oakland\n2619 Broadway\, Oakland \nFor the past 11 years\, the San Carlos Apache have fought to protect and save their sacred land\, Oak Flat\, which is about 2 hours outside of Phoenix\, Arizona. In 2014\, Sen. McCain added a rider to a defense bill that began the possibility of the sale of Oak Flat to a multi-national copper mining company\, Resolution Copper. This company would mine Oak Flat’s copper deposit resulting in a 1-mile crater where the sacred ground presently stands\, as well as ground water contamination\, air pollutants and destruction of the surrounding wildlife. Oak Flat would be destroyed entirely by copper mining. There are many aspects of religious significance of Oak Flat for the Apache\, but one of the primary ones is it is the site for the sunrise ceremonies or coming of age ritual for young girls. It is considered the holiest site for the Apache people\, having a similar significance to Jews and Christians of Mount Sinai. \nThe Apache Stronghold\, founded by Wendsler Nosie\, Sr.\, is the organizing body leading the fight to save Oak Flat through a spiritual battle that is also using legal means\, and political education. The Apache Stronghold is in coalition with over 200 other Native American tribes\, dozens of denominations and national faith bodies\, and thousands of spiritual leaders across the United States (and world). At present there is a temporary injunction halting the land sale until the 9th Circuit Court can hear the case regarding religious freedom. \nConcept: \nOak Flat represents many interconnected issues woven clearly into a battle against evil. It is about land occupation and environmental devastation. It is tied directly to the battles we see for our common humanity where companies and capital come first\, and immigrants\, unhoused people\, indigenous communities\, Black and brown communities and poor communities are disposable. It is also about the fight for a sacred place where women lead and come into a ritual affirming the divine feminine. This is why the communities fighting to save Oak Flat include religious people of all faiths\, immigrants\, survivors of Japanese internment camps and other communities facing displacement\, environmentalists\, and many others. \nOak Flat is a call to defend the holy. With the divisions and inaction present amongst religious progressives\, the struggle to defend Oak Flat could be the path to a deeper spiritual education\, seeding a vision and a network for interfaith movement committed to a radical multicultural pro-democracy movement\, as well as a place of grief and lament for all that truly has been lost to us. It could help build movement and resurgence of energy for the many issues and places where people are occupied and isolated right now. \nCome listen to Dr. Wendsler Nosie\, Sr.\, founder of Apache Stronghold at 4-6 p.m.\, September 7\, at First Presbyterian Church\, 2619 Broadway\, Oakland. \nINFO: Rev. Leslie Takahashi leslie@mduuc.org
URL:https://fiaeastbay.org/event/apache-stronghold-defend-oak-flats/
ATTACH;FMTTYPE=image/png:https://fiaeastbay.org/wp-content/uploads/2025/09/DefendOakFlat.png
END:VEVENT
BEGIN:VEVENT
DTSTART;TZID=America/Los_Angeles:20250907T123000
DTEND;TZID=America/Los_Angeles:20250907T133000
DTSTAMP:20260424T040533
CREATED:20250814T195501Z
LAST-MODIFIED:20250814T195502Z
UID:5278-1757248200-1757251800@fiaeastbay.org
SUMMARY:Volunteer Rapid Responder Training
DESCRIPTION:REGISTER\n \nREGISTER
URL:https://fiaeastbay.org/event/volunteer-rapid-responder-training-2/
ATTACH;FMTTYPE=image/png:https://fiaeastbay.org/wp-content/uploads/2025/08/VRRTsept7eng1.png
END:VEVENT
BEGIN:VEVENT
DTSTART;TZID=America/Los_Angeles:20250906T100000
DTEND;TZID=America/Los_Angeles:20250906T120000
DTSTAMP:20260424T040533
CREATED:20250828T181728Z
LAST-MODIFIED:20250828T181729Z
UID:5289-1757152800-1757160000@fiaeastbay.org
SUMMARY:Listening Session With Members of Mexican Congress
DESCRIPTION:REGISTER\n \nREGISTER
URL:https://fiaeastbay.org/event/listening-session-with-members-of-mexican-congress/
ATTACH;FMTTYPE=image/png:https://fiaeastbay.org/wp-content/uploads/2025/08/MexicanConsulateSept6.png
END:VEVENT
BEGIN:VEVENT
DTSTART;TZID=America/Los_Angeles:20250829T180000
DTEND;TZID=America/Los_Angeles:20250829T200000
DTSTAMP:20260424T040533
CREATED:20250703T165943Z
LAST-MODIFIED:20250703T170158Z
UID:5213-1756490400-1756497600@fiaeastbay.org
SUMMARY:Ceasefire Night Walk
DESCRIPTION:Location: St. Columba\, 6401 San Pablo Avenue\n\nNight walks:\n6pm: Gathering for pre-walk/corners process\n6:30pm: walk or stand on corners\n7:30pm: returned back to starting location or completed from the corners\nBy 7:45pm\, walk process completed\nFor more information\, please contact alba@fiaeastbay.org
URL:https://fiaeastbay.org/event/ceasefire-night-walk-119/
ATTACH;FMTTYPE=image/png:https://fiaeastbay.org/wp-content/uploads/2021/12/OaklandCeasefire_cal.png
END:VEVENT
BEGIN:VEVENT
DTSTART;TZID=America/Los_Angeles:20250825T100000
DTEND;TZID=America/Los_Angeles:20250825T150000
DTSTAMP:20260424T040533
CREATED:20250814T182813Z
LAST-MODIFIED:20250814T182814Z
UID:5249-1756116000-1756134000@fiaeastbay.org
SUMMARY:AB 1231 Press Conference and Lobby Day
DESCRIPTION:Join us on Monday\, August 25 at 10:00 AM on the West Steps of the State Capitol in Sacramento as we rally in support of AB 1231: The Safer Communities through Opportunities Act. \nREGISTER \nThis bill is nearing the finish line in the Senate\, and we need your voice now more than ever. AB 1231 gives judges the discretion to divert people charged with low-level felonies into community-based programs like job training and outpatient treatment instead of prison. It’s a smart\, compassionate step toward safer\, more stable communities. Let’s show lawmakers the strength of our coalition and demand meaningful alternatives to incarceration. \nREGISTER \nAgenda \n10am – 11:15am – Press Conference\n11:30am – Lunch\n12:30pm – Lobby Visits\n3:00pm – Closing \nFor any additional questions\, please contact Eddie Carmona eddie@picocalifornia.org.
URL:https://fiaeastbay.org/event/ab-1231-press-conference-and-lobby-day/
ATTACH;FMTTYPE=image/webp:https://fiaeastbay.org/wp-content/uploads/2025/08/LobbyDayAug25.webp
END:VEVENT
BEGIN:VEVENT
DTSTART;TZID=America/Los_Angeles:20250822T180000
DTEND;TZID=America/Los_Angeles:20250822T200000
DTSTAMP:20260424T040533
CREATED:20250703T170856Z
LAST-MODIFIED:20250703T170857Z
UID:5222-1755885600-1755892800@fiaeastbay.org
SUMMARY:Ceasefire Night Walk
DESCRIPTION:Location: At Thy Word\, 8915 International Blvd.\n\nNight walks:\n6pm: Gathering for pre-walk/corners process\n6:30pm: walk or stand on corners\n7:30pm: returned back to starting location or completed from the corners\nBy 7:45pm\, walk process completed\nFor more information\, please contact alba@fiaeastbay.org
URL:https://fiaeastbay.org/event/ceasefire-night-walk-123/
ATTACH;FMTTYPE=image/png:https://fiaeastbay.org/wp-content/uploads/2021/12/OaklandCeasefire_cal.png
END:VEVENT
BEGIN:VEVENT
DTSTART;TZID=America/Los_Angeles:20250821T180000
DTEND;TZID=America/Los_Angeles:20250821T193000
DTSTAMP:20260424T040533
CREATED:20250820T003031Z
LAST-MODIFIED:20250820T003041Z
UID:5286-1755799200-1755804600@fiaeastbay.org
SUMMARY:Emergency Regional Assembly
DESCRIPTION:REGISTER
URL:https://fiaeastbay.org/event/emergency-regional-assembly/
ATTACH;FMTTYPE=image/png:https://fiaeastbay.org/wp-content/uploads/2025/08/RAaug21post.png
END:VEVENT
BEGIN:VEVENT
DTSTART;TZID=America/Los_Angeles:20250815T180000
DTEND;TZID=America/Los_Angeles:20250815T200000
DTSTAMP:20260424T040533
CREATED:20250703T165606Z
LAST-MODIFIED:20250703T165607Z
UID:5211-1755280800-1755288000@fiaeastbay.org
SUMMARY:Ceasefire Night Walk
DESCRIPTION:Location: Mt Zion MBC\, 1203 Willow Street\n\nNight walks:\n6pm: Gathering for pre-walk/corners process\n6:30pm: walk or stand on corners\n7:30pm: returned back to starting location or completed from the corners\nBy 7:45pm\, walk process completed\nFor more information\, please contact alba@fiaeastbay.org
URL:https://fiaeastbay.org/event/ceasefire-night-walk-118/
ATTACH;FMTTYPE=image/png:https://fiaeastbay.org/wp-content/uploads/2021/12/OaklandCeasefire_cal.png
END:VEVENT
BEGIN:VEVENT
DTSTART;TZID=America/Los_Angeles:20250815T120000
DTEND;TZID=America/Los_Angeles:20250815T190000
DTSTAMP:20260424T040533
CREATED:20250814T185307Z
LAST-MODIFIED:20250814T185308Z
UID:5262-1755259200-1755284400@fiaeastbay.org
SUMMARY:Black Worker Summit
DESCRIPTION:
URL:https://fiaeastbay.org/event/black-worker-summit/
ATTACH;FMTTYPE=image/png:https://fiaeastbay.org/wp-content/uploads/2025/08/BlackWorkerSummit.png
END:VEVENT
BEGIN:VEVENT
DTSTART;TZID=America/Los_Angeles:20250811T180000
DTEND;TZID=America/Los_Angeles:20250811T193000
DTSTAMP:20260424T040533
CREATED:20250808T024406Z
LAST-MODIFIED:20250808T024407Z
UID:5241-1754935200-1754940600@fiaeastbay.org
SUMMARY:Regional Assembly
DESCRIPTION:REGISTER\n \nREGISTER
URL:https://fiaeastbay.org/event/regional-assembly-2/
ATTACH;FMTTYPE=image/png:https://fiaeastbay.org/wp-content/uploads/2025/08/RLAaug11_2025eng.png
END:VEVENT
BEGIN:VEVENT
DTSTART;TZID=America/Los_Angeles:20250810T160000
DTEND;TZID=America/Los_Angeles:20250810T173000
DTSTAMP:20260424T040533
CREATED:20250729T204326Z
LAST-MODIFIED:20250729T204327Z
UID:5237-1754841600-1754847000@fiaeastbay.org
SUMMARY:Volunteer Rapid Responder Training
DESCRIPTION:REGISTER\n \nREGISTER
URL:https://fiaeastbay.org/event/volunteer-rapid-responder-training/
ATTACH;FMTTYPE=image/png:https://fiaeastbay.org/wp-content/uploads/2025/07/EdenChurchAug10engsm.png
END:VEVENT
BEGIN:VEVENT
DTSTART;TZID=America/Los_Angeles:20250808T180000
DTEND;TZID=America/Los_Angeles:20250808T200000
DTSTAMP:20260424T040533
CREATED:20250703T165337Z
LAST-MODIFIED:20250703T165425Z
UID:5209-1754676000-1754683200@fiaeastbay.org
SUMMARY:Ceasefire Night Walk
DESCRIPTION:Location: First Mt. Sinai\, 1970 86th Avenue\n\nNight walks:\n6pm: Gathering for pre-walk/corners process\n6:30pm: walk or stand on corners\n7:30pm: returned back to starting location or completed from the corners\nBy 7:45pm\, walk process completed\nFor more information\, please contact alba@fiaeastbay.org
URL:https://fiaeastbay.org/event/ceasefire-night-walk-117/
ATTACH;FMTTYPE=image/png:https://fiaeastbay.org/wp-content/uploads/2021/12/OaklandCeasefire_cal.png
END:VEVENT
BEGIN:VEVENT
DTSTART;TZID=America/Los_Angeles:20250731T153000
DTEND;TZID=America/Los_Angeles:20250731T170000
DTSTAMP:20260424T040533
CREATED:20250703T180120Z
LAST-MODIFIED:20250703T180120Z
UID:5229-1753975800-1753981200@fiaeastbay.org
SUMMARY:Ceasefire Teach-In With Mayor Barbara Lee
DESCRIPTION:REGISTER
URL:https://fiaeastbay.org/event/ceasefire-teach-in-with-mayor-barbara-lee-3/
ATTACH;FMTTYPE=image/png:https://fiaeastbay.org/wp-content/uploads/2025/06/OFTI2025sm.png
END:VEVENT
BEGIN:VEVENT
DTSTART;TZID=America/Los_Angeles:20250725T180000
DTEND;TZID=America/Los_Angeles:20250725T200000
DTSTAMP:20260424T040533
CREATED:20250703T165010Z
LAST-MODIFIED:20250703T165011Z
UID:5207-1753466400-1753473600@fiaeastbay.org
SUMMARY:Ceasefire Night Walk
DESCRIPTION:Location: Sacred Heart\, 4025 Martin Luther King Jr. Way\n\nNight walks:\n6pm: Gathering for pre-walk/corners process\n6:30pm: walk or stand on corners\n7:30pm: returned back to starting location or completed from the corners\nBy 7:45pm\, walk process completed\nFor more information\, please contact alba@fiaeastbay.org
URL:https://fiaeastbay.org/event/ceasefire-night-walk-116/
ATTACH;FMTTYPE=image/png:https://fiaeastbay.org/wp-content/uploads/2021/12/OaklandCeasefire_cal.png
END:VEVENT
BEGIN:VEVENT
DTSTART;TZID=America/Los_Angeles:20250724T153000
DTEND;TZID=America/Los_Angeles:20250724T170000
DTSTAMP:20260424T040533
CREATED:20250703T180024Z
LAST-MODIFIED:20250703T180025Z
UID:5227-1753371000-1753376400@fiaeastbay.org
SUMMARY:Ceasefire Teach-In With Mayor Barbara Lee
DESCRIPTION:REGISTER
URL:https://fiaeastbay.org/event/ceasefire-teach-in-with-mayor-barbara-lee-2/
ATTACH;FMTTYPE=image/png:https://fiaeastbay.org/wp-content/uploads/2025/06/OFTI2025sm.png
END:VEVENT
BEGIN:VEVENT
DTSTART;TZID=America/Los_Angeles:20250721T183000
DTEND;TZID=America/Los_Angeles:20250721T200000
DTSTAMP:20260424T040533
CREATED:20250718T211618Z
LAST-MODIFIED:20250718T211820Z
UID:5232-1753122600-1753128000@fiaeastbay.org
SUMMARY:Regional Assembly
DESCRIPTION:REGISTER\nREGISTER
URL:https://fiaeastbay.org/event/regional-assembly/
ATTACH;FMTTYPE=image/png:https://fiaeastbay.org/wp-content/uploads/2025/07/RAjuly21eng.png
END:VEVENT
BEGIN:VEVENT
DTSTART;TZID=America/Los_Angeles:20250719T143000
DTEND;TZID=America/Los_Angeles:20250719T160000
DTSTAMP:20260424T040533
CREATED:20250617T232216Z
LAST-MODIFIED:20250703T175610Z
UID:5200-1752935400-1752940800@fiaeastbay.org
SUMMARY:Ceasefire Teach-In With Mayor Barbara Lee
DESCRIPTION:REGISTER
URL:https://fiaeastbay.org/event/ceasefire-teach-in-with-mayor-barbara-lee/
ATTACH;FMTTYPE=image/png:https://fiaeastbay.org/wp-content/uploads/2025/06/OFTI2025sm.png
END:VEVENT
BEGIN:VEVENT
DTSTART;TZID=America/Los_Angeles:20250718T180000
DTEND;TZID=America/Los_Angeles:20250718T200000
DTSTAMP:20260424T040533
CREATED:20250703T164835Z
LAST-MODIFIED:20250703T164836Z
UID:5205-1752861600-1752868800@fiaeastbay.org
SUMMARY:Ceasefire Night Walk
DESCRIPTION:Location: St. Benedict’s Church\, 2245 82nd Ave.\n\nNight walks:\n6pm: Gathering for pre-walk/corners process\n6:30pm: walk or stand on corners\n7:30pm: returned back to starting location or completed from the corners\nBy 7:45pm\, walk process completed\nFor more information\, please contact alba@fiaeastbay.org
URL:https://fiaeastbay.org/event/ceasefire-night-walk-115/
ATTACH;FMTTYPE=image/png:https://fiaeastbay.org/wp-content/uploads/2021/12/OaklandCeasefire_cal.png
END:VEVENT
BEGIN:VEVENT
DTSTART;TZID=America/Los_Angeles:20250711T180000
DTEND;TZID=America/Los_Angeles:20250711T200000
DTSTAMP:20260424T040533
CREATED:20250703T164700Z
LAST-MODIFIED:20250703T164700Z
UID:5203-1752256800-1752264000@fiaeastbay.org
SUMMARY:Ceasefire Night Walk
DESCRIPTION:Location: St. Patrick’s\, 1023 Peralta Street\n\nNight walks:\n6pm: Gathering for pre-walk/corners process\n6:30pm: walk or stand on corners\n7:30pm: returned back to starting location or completed from the corners\nBy 7:45pm\, walk process completed\nFor more information\, please contact alba@fiaeastbay.org
URL:https://fiaeastbay.org/event/ceasefire-night-walk-114/
ATTACH;FMTTYPE=image/png:https://fiaeastbay.org/wp-content/uploads/2021/12/OaklandCeasefire_cal.png
END:VEVENT
BEGIN:VEVENT
DTSTART;TZID=America/Los_Angeles:20250627T180000
DTEND;TZID=America/Los_Angeles:20250627T200000
DTSTAMP:20260424T040533
CREATED:20250402T023054Z
LAST-MODIFIED:20250402T212118Z
UID:5065-1751047200-1751054400@fiaeastbay.org
SUMMARY:Ceasefire Night Walk
DESCRIPTION:Location: At Thy Word\, 8915 International Blvd.\n\nNight walks:\n6pm: Gathering for pre-walk/corners process\n6:30pm: walk or stand on corners\n7:30pm: returned back to starting location or completed from the corners\nBy 7:45pm\, walk process completed\nFor more information\, please contact alba@fiaeastbay.org
URL:https://fiaeastbay.org/event/ceasefire-night-walk-113/
ATTACH;FMTTYPE=image/png:https://fiaeastbay.org/wp-content/uploads/2021/12/OaklandCeasefire_cal.png
END:VEVENT
BEGIN:VEVENT
DTSTART;TZID=America/Los_Angeles:20250621T100000
DTEND;TZID=America/Los_Angeles:20250621T110000
DTSTAMP:20260424T040533
CREATED:20250612T174827Z
LAST-MODIFIED:20250613T172012Z
UID:5189-1750500000-1750503600@fiaeastbay.org
SUMMARY:Renters Know Your Rights Workshop
DESCRIPTION:REGISTER
URL:https://fiaeastbay.org/event/renters-know-your-rights-workshop/
ATTACH;FMTTYPE=image/png:https://fiaeastbay.org/wp-content/uploads/2025/06/StPatricksKYRjune21.png
END:VEVENT
BEGIN:VEVENT
DTSTART;TZID=America/Los_Angeles:20250620T180000
DTEND;TZID=America/Los_Angeles:20250620T200000
DTSTAMP:20260424T040533
CREATED:20250402T022944Z
LAST-MODIFIED:20250402T212034Z
UID:5063-1750442400-1750449600@fiaeastbay.org
SUMMARY:Ceasefire Night Walk
DESCRIPTION:Location: Emmanuel Greater Praise Church\, 2025 86th Avenue\n\nNight walks:\n6pm: Gathering for pre-walk/corners process\n6:30pm: walk or stand on corners\n7:30pm: returned back to starting location or completed from the corners\nBy 7:45pm\, walk process completed\nFor more information\, please contact alba@fiaeastbay.org
URL:https://fiaeastbay.org/event/ceasefire-night-walk-112/
ATTACH;FMTTYPE=image/png:https://fiaeastbay.org/wp-content/uploads/2021/12/OaklandCeasefire_cal.png
END:VEVENT
BEGIN:VEVENT
DTSTART;TZID=America/Los_Angeles:20250620T160000
DTEND;TZID=America/Los_Angeles:20250620T210000
DTSTAMP:20260424T040533
CREATED:20250609T223014Z
LAST-MODIFIED:20250609T223049Z
UID:5175-1750435200-1750453200@fiaeastbay.org
SUMMARY:Silence Our Violence Leadership Summit
DESCRIPTION:Join us this Juneteenth in Richmond\, CA for the free Juneteenth Silence Our Violence Summit — an urgent and powerful gathering to explore the U.S. history of harm and honor those we have lost to death\, deportation\, and systemic injustice. In the spirit of Juneteenth\, we stand in remembrance and resistance\, calling our communities together to chart a new way forward — one rooted in unity\, justice\, and healing. \nWHAT TO EXPECT: \n✨ Panel Discussions with thought leaders\, survivors\, and elected officials\n🎤 Live Music & Spoken Word performances from local artists\n🖼️ Community Art Installations centered on remembrance and resilience\n🍽️ Food & Fellowship to nourish body and soul\n🕯️ Honoring Ceremony for lives lost and futures stolen — from gun violence to immigration policies \nREGISTER
URL:https://fiaeastbay.org/event/silence-our-violence-leadership-summit/
ATTACH;FMTTYPE=image/png:https://fiaeastbay.org/wp-content/uploads/2025/06/RichmondJun20.png
END:VEVENT
BEGIN:VEVENT
DTSTART;TZID=America/Los_Angeles:20250619T173000
DTEND;TZID=America/Los_Angeles:20250619T193000
DTSTAMP:20260424T040533
CREATED:20250607T003556Z
LAST-MODIFIED:20250607T003557Z
UID:5170-1750354200-1750361400@fiaeastbay.org
SUMMARY:End the Violence March
DESCRIPTION:REGISTER
URL:https://fiaeastbay.org/event/end-the-violence-march/
ATTACH;FMTTYPE=image/png:https://fiaeastbay.org/wp-content/uploads/2025/06/SilenceOurViolenceJune19.png
END:VEVENT
BEGIN:VEVENT
DTSTART;TZID=America/Los_Angeles:20250614T123000
DTEND;TZID=America/Los_Angeles:20250614T150000
DTSTAMP:20260424T040533
CREATED:20250529T202046Z
LAST-MODIFIED:20250529T202141Z
UID:5161-1749904200-1749913200@fiaeastbay.org
SUMMARY:No Kings Oakland March
DESCRIPTION:
URL:https://fiaeastbay.org/event/no-kings-oakland-march/
ATTACH;FMTTYPE=image/png:https://fiaeastbay.org/wp-content/uploads/2025/05/NoKingsJune14.png
END:VEVENT
BEGIN:VEVENT
DTSTART;TZID=America/Los_Angeles:20250613T180000
DTEND;TZID=America/Los_Angeles:20250613T200000
DTSTAMP:20260424T040533
CREATED:20250402T022819Z
LAST-MODIFIED:20250402T211943Z
UID:5061-1749837600-1749844800@fiaeastbay.org
SUMMARY:Ceasefire Night Walk
DESCRIPTION:Location: Tabernacle MBC\, 10115 Edes Avenue\n\nNight walks:\n6pm: Gathering for pre-walk/corners process\n6:30pm: walk or stand on corners\n7:30pm: returned back to starting location or completed from the corners\nBy 7:45pm\, walk process completed\nFor more information\, please contact alba@fiaeastbay.org
URL:https://fiaeastbay.org/event/ceasefire-night-walk-111/
ATTACH;FMTTYPE=image/png:https://fiaeastbay.org/wp-content/uploads/2021/12/OaklandCeasefire_cal.png
END:VEVENT
BEGIN:VEVENT
DTSTART;TZID=America/Los_Angeles:20250611T180000
DTEND;TZID=America/Los_Angeles:20250611T200000
DTSTAMP:20260424T040533
CREATED:20250610T174317Z
LAST-MODIFIED:20250610T220518Z
UID:5181-1749664800-1749672000@fiaeastbay.org
SUMMARY:Volunteer Rapid Response Training
DESCRIPTION:  \nREGISTER
URL:https://fiaeastbay.org/event/volunteer-rapid-response-training-2/
ATTACH;FMTTYPE=image/png:https://fiaeastbay.org/wp-content/uploads/2025/06/VRRTjune11Eng.png
END:VEVENT
BEGIN:VEVENT
DTSTART;TZID=America/Los_Angeles:20250610T180000
DTEND;TZID=America/Los_Angeles:20250610T190000
DTSTAMP:20260424T040533
CREATED:20250613T170803Z
LAST-MODIFIED:20250613T170826Z
UID:5192-1749578400-1749582000@fiaeastbay.org
SUMMARY:Interfaith Immigration Vigil
DESCRIPTION:
URL:https://fiaeastbay.org/event/interfaith-immigration-vigil/
ATTACH;FMTTYPE=image/jpeg:https://fiaeastbay.org/wp-content/uploads/2025/06/June10vigil.jpg
END:VEVENT
BEGIN:VEVENT
DTSTART;TZID=America/Los_Angeles:20250609T180000
DTEND;TZID=America/Los_Angeles:20250609T193000
DTSTAMP:20260424T040533
CREATED:20250528T205304Z
LAST-MODIFIED:20250528T205306Z
UID:5159-1749492000-1749497400@fiaeastbay.org
SUMMARY:Social Justice Ministry at OLR
DESCRIPTION:REGISTER
URL:https://fiaeastbay.org/event/social-justice-ministry-at-olr/
ATTACH;FMTTYPE=image/png:https://fiaeastbay.org/wp-content/uploads/2025/05/OLRUCjun9.png
END:VEVENT
END:VCALENDAR