BEGIN:VCALENDAR
VERSION:2.0
PRODID:-//Faith in  Action East Bay - ECPv6.15.20//NONSGML v1.0//EN
CALSCALE:GREGORIAN
METHOD:PUBLISH
X-WR-CALNAME:Faith in  Action East Bay
X-ORIGINAL-URL:https://fiaeastbay.org
X-WR-CALDESC:Events for Faith in  Action East Bay
REFRESH-INTERVAL;VALUE=DURATION:PT1H
X-Robots-Tag:noindex
X-PUBLISHED-TTL:PT1H
BEGIN:VTIMEZONE
TZID:America/Los_Angeles
BEGIN:DAYLIGHT
TZOFFSETFROM:-0800
TZOFFSETTO:-0700
TZNAME:PDT
DTSTART:20240310T100000
END:DAYLIGHT
BEGIN:STANDARD
TZOFFSETFROM:-0700
TZOFFSETTO:-0800
TZNAME:PST
DTSTART:20241103T090000
END:STANDARD
BEGIN:DAYLIGHT
TZOFFSETFROM:-0800
TZOFFSETTO:-0700
TZNAME:PDT
DTSTART:20250309T100000
END:DAYLIGHT
BEGIN:STANDARD
TZOFFSETFROM:-0700
TZOFFSETTO:-0800
TZNAME:PST
DTSTART:20251102T090000
END:STANDARD
BEGIN:DAYLIGHT
TZOFFSETFROM:-0800
TZOFFSETTO:-0700
TZNAME:PDT
DTSTART:20260308T100000
END:DAYLIGHT
BEGIN:STANDARD
TZOFFSETFROM:-0700
TZOFFSETTO:-0800
TZNAME:PST
DTSTART:20261101T090000
END:STANDARD
END:VTIMEZONE
BEGIN:VEVENT
DTSTART;TZID=America/Los_Angeles:20250620T180000
DTEND;TZID=America/Los_Angeles:20250620T200000
DTSTAMP:20260424T040544
CREATED:20250402T022944Z
LAST-MODIFIED:20250402T212034Z
UID:5063-1750442400-1750449600@fiaeastbay.org
SUMMARY:Ceasefire Night Walk
DESCRIPTION:Location: Emmanuel Greater Praise Church\, 2025 86th Avenue\n\nNight walks:\n6pm: Gathering for pre-walk/corners process\n6:30pm: walk or stand on corners\n7:30pm: returned back to starting location or completed from the corners\nBy 7:45pm\, walk process completed\nFor more information\, please contact alba@fiaeastbay.org
URL:https://fiaeastbay.org/event/ceasefire-night-walk-112/
ATTACH;FMTTYPE=image/png:https://fiaeastbay.org/wp-content/uploads/2021/12/OaklandCeasefire_cal.png
END:VEVENT
BEGIN:VEVENT
DTSTART;TZID=America/Los_Angeles:20250620T160000
DTEND;TZID=America/Los_Angeles:20250620T210000
DTSTAMP:20260424T040544
CREATED:20250609T223014Z
LAST-MODIFIED:20250609T223049Z
UID:5175-1750435200-1750453200@fiaeastbay.org
SUMMARY:Silence Our Violence Leadership Summit
DESCRIPTION:Join us this Juneteenth in Richmond\, CA for the free Juneteenth Silence Our Violence Summit — an urgent and powerful gathering to explore the U.S. history of harm and honor those we have lost to death\, deportation\, and systemic injustice. In the spirit of Juneteenth\, we stand in remembrance and resistance\, calling our communities together to chart a new way forward — one rooted in unity\, justice\, and healing. \nWHAT TO EXPECT: \n✨ Panel Discussions with thought leaders\, survivors\, and elected officials\n🎤 Live Music & Spoken Word performances from local artists\n🖼️ Community Art Installations centered on remembrance and resilience\n🍽️ Food & Fellowship to nourish body and soul\n🕯️ Honoring Ceremony for lives lost and futures stolen — from gun violence to immigration policies \nREGISTER
URL:https://fiaeastbay.org/event/silence-our-violence-leadership-summit/
ATTACH;FMTTYPE=image/png:https://fiaeastbay.org/wp-content/uploads/2025/06/RichmondJun20.png
END:VEVENT
BEGIN:VEVENT
DTSTART;TZID=America/Los_Angeles:20250619T173000
DTEND;TZID=America/Los_Angeles:20250619T193000
DTSTAMP:20260424T040544
CREATED:20250607T003556Z
LAST-MODIFIED:20250607T003557Z
UID:5170-1750354200-1750361400@fiaeastbay.org
SUMMARY:End the Violence March
DESCRIPTION:REGISTER
URL:https://fiaeastbay.org/event/end-the-violence-march/
ATTACH;FMTTYPE=image/png:https://fiaeastbay.org/wp-content/uploads/2025/06/SilenceOurViolenceJune19.png
END:VEVENT
BEGIN:VEVENT
DTSTART;TZID=America/Los_Angeles:20250614T123000
DTEND;TZID=America/Los_Angeles:20250614T150000
DTSTAMP:20260424T040544
CREATED:20250529T202046Z
LAST-MODIFIED:20250529T202141Z
UID:5161-1749904200-1749913200@fiaeastbay.org
SUMMARY:No Kings Oakland March
DESCRIPTION:
URL:https://fiaeastbay.org/event/no-kings-oakland-march/
ATTACH;FMTTYPE=image/png:https://fiaeastbay.org/wp-content/uploads/2025/05/NoKingsJune14.png
END:VEVENT
BEGIN:VEVENT
DTSTART;TZID=America/Los_Angeles:20250613T180000
DTEND;TZID=America/Los_Angeles:20250613T200000
DTSTAMP:20260424T040544
CREATED:20250402T022819Z
LAST-MODIFIED:20250402T211943Z
UID:5061-1749837600-1749844800@fiaeastbay.org
SUMMARY:Ceasefire Night Walk
DESCRIPTION:Location: Tabernacle MBC\, 10115 Edes Avenue\n\nNight walks:\n6pm: Gathering for pre-walk/corners process\n6:30pm: walk or stand on corners\n7:30pm: returned back to starting location or completed from the corners\nBy 7:45pm\, walk process completed\nFor more information\, please contact alba@fiaeastbay.org
URL:https://fiaeastbay.org/event/ceasefire-night-walk-111/
ATTACH;FMTTYPE=image/png:https://fiaeastbay.org/wp-content/uploads/2021/12/OaklandCeasefire_cal.png
END:VEVENT
BEGIN:VEVENT
DTSTART;TZID=America/Los_Angeles:20250611T180000
DTEND;TZID=America/Los_Angeles:20250611T200000
DTSTAMP:20260424T040544
CREATED:20250610T174317Z
LAST-MODIFIED:20250610T220518Z
UID:5181-1749664800-1749672000@fiaeastbay.org
SUMMARY:Volunteer Rapid Response Training
DESCRIPTION:  \nREGISTER
URL:https://fiaeastbay.org/event/volunteer-rapid-response-training-2/
ATTACH;FMTTYPE=image/png:https://fiaeastbay.org/wp-content/uploads/2025/06/VRRTjune11Eng.png
END:VEVENT
BEGIN:VEVENT
DTSTART;TZID=America/Los_Angeles:20250610T180000
DTEND;TZID=America/Los_Angeles:20250610T190000
DTSTAMP:20260424T040544
CREATED:20250613T170803Z
LAST-MODIFIED:20250613T170826Z
UID:5192-1749578400-1749582000@fiaeastbay.org
SUMMARY:Interfaith Immigration Vigil
DESCRIPTION:
URL:https://fiaeastbay.org/event/interfaith-immigration-vigil/
ATTACH;FMTTYPE=image/jpeg:https://fiaeastbay.org/wp-content/uploads/2025/06/June10vigil.jpg
END:VEVENT
BEGIN:VEVENT
DTSTART;TZID=America/Los_Angeles:20250609T180000
DTEND;TZID=America/Los_Angeles:20250609T193000
DTSTAMP:20260424T040544
CREATED:20250528T205304Z
LAST-MODIFIED:20250528T205306Z
UID:5159-1749492000-1749497400@fiaeastbay.org
SUMMARY:Social Justice Ministry at OLR
DESCRIPTION:REGISTER
URL:https://fiaeastbay.org/event/social-justice-ministry-at-olr/
ATTACH;FMTTYPE=image/png:https://fiaeastbay.org/wp-content/uploads/2025/05/OLRUCjun9.png
END:VEVENT
BEGIN:VEVENT
DTSTART;TZID=America/Los_Angeles:20250608T080000
DTEND;TZID=America/Los_Angeles:20250608T170000
DTSTAMP:20260424T040544
CREATED:20250529T213155Z
LAST-MODIFIED:20250529T213436Z
UID:5164-1749369600-1749402000@fiaeastbay.org
SUMMARY:Right of Return Pilgrimage
DESCRIPTION:On Sunday\, June 8\, 2025\, we will journey 22 miles from Alameda to Berkeley\, retracing in reverse last year’s pilgrimage route. This distance mirrors the path from Rafah to Gaza City\, taken in prayerful solidarity with those displaced by violence and war. Our pilgrimage is part of the global Gaza Ceasefire Pilgrimages movement\, which continues to grow in power and spirit. \nWe will gather as people of diverse faiths\, cultures\, and communities who believe in the sacredness of life\, dignity\, and shared well-being. \nWe are organizing this pilgrimage because the violence funded by U.S. tax dollars in Gaza is not separate from the violence our communities experience here — through systems of incarceration\, family separation\, displacement\, and criminalization that target immigrants\, Indigenous people\, unsheltered neighbors\, trans and BIPOC communities. \nREGISTER\n \n\n\n\n\n\n\n\n\n\n\n\n\n\n\n\n\n\n\n\n  \nREGISTER
URL:https://fiaeastbay.org/event/right-of-return-pilgrimage/
ATTACH;FMTTYPE=image/png:https://fiaeastbay.org/wp-content/uploads/2025/05/Right-of-Return-Pilgrimage.png
END:VEVENT
BEGIN:VEVENT
DTSTART;TZID=America/Los_Angeles:20250605T180000
DTEND;TZID=America/Los_Angeles:20250605T193000
DTSTAMP:20260424T040544
CREATED:20250528T200922Z
LAST-MODIFIED:20250604T190333Z
UID:5146-1749146400-1749151800@fiaeastbay.org
SUMMARY:Know Your Rights Training
DESCRIPTION:REGISTER
URL:https://fiaeastbay.org/event/know-your-rights-training-3/
ATTACH;FMTTYPE=image/png:https://fiaeastbay.org/wp-content/uploads/2025/05/KYRjun5.png
END:VEVENT
BEGIN:VEVENT
DTSTART;TZID=America/Los_Angeles:20250604T180000
DTEND;TZID=America/Los_Angeles:20250604T190000
DTSTAMP:20260424T040544
CREATED:20250528T201920Z
LAST-MODIFIED:20250528T201921Z
UID:5152-1749060000-1749063600@fiaeastbay.org
SUMMARY:Crime Prevention Through Environmental Design
DESCRIPTION:St. Anthony’s Social Justice Ministry and San Antonio Neighborhood Coalition invite you to learn about how environmental design can affect crime prevention. We will discuss three different suggestions to street changes in order to disrupt local sex trafficking activity. This will impact your drive and neighborhood so we want to hear your feedback! \n6 p.m. Wednesday\, June 4 \nIn person: St. Anthony Church \n1535 16th Ave\, Oakland CA 94606 \nINFO: Valeria Ochoa\, (510) 502-9958\, valeria@fiaeastbay.org
URL:https://fiaeastbay.org/event/crime-prevention-through-environmental-design-2/
ATTACH;FMTTYPE=image/png:https://fiaeastbay.org/wp-content/uploads/2025/05/STcp.png
END:VEVENT
BEGIN:VEVENT
DTSTART;TZID=America/Los_Angeles:20250601T160000
DTEND;TZID=America/Los_Angeles:20250601T170000
DTSTAMP:20260424T040544
CREATED:20250528T201710Z
LAST-MODIFIED:20250528T202152Z
UID:5149-1748793600-1748797200@fiaeastbay.org
SUMMARY:Crime Prevention Through Environmental Design
DESCRIPTION:St. Anthony’s Social Justice Ministry and San Antonio Neighborhood Coalition invite you to learn about how environmental design can affect crime prevention. We will discuss three different suggestions to street changes in order to disrupt local sex trafficking activity. This will impact your drive and neighborhood so we want to hear your feedback! \n4 p.m. Sunday\, June 1 and 6 p.m. Wednesday\, June 4 \nIn person: St. Anthony Church \n1535 16th Ave\, Oakland CA 94606 \nINFO: Valeria Ochoa\, (510) 502-9958\, valeria@fiaeastbay.org
URL:https://fiaeastbay.org/event/crime-prevention-through-environmental-design/
ATTACH;FMTTYPE=image/png:https://fiaeastbay.org/wp-content/uploads/2025/05/STcp.png
END:VEVENT
BEGIN:VEVENT
DTSTART;TZID=America/Los_Angeles:20250530T180000
DTEND;TZID=America/Los_Angeles:20250530T200000
DTSTAMP:20260424T040544
CREATED:20250402T022702Z
LAST-MODIFIED:20250402T211856Z
UID:5059-1748628000-1748635200@fiaeastbay.org
SUMMARY:Ceasefire Night Walk
DESCRIPTION:Location: At Thy Word\, 8915 International Blvd.\n\nNight walks:\n6pm: Gathering for pre-walk/corners process\n6:30pm: walk or stand on corners\n7:30pm: returned back to starting location or completed from the corners\nBy 7:45pm\, walk process completed\nFor more information\, please contact alba@fiaeastbay.org
URL:https://fiaeastbay.org/event/ceasefire-night-walk-110/
ATTACH;FMTTYPE=image/png:https://fiaeastbay.org/wp-content/uploads/2021/12/OaklandCeasefire_cal.png
END:VEVENT
BEGIN:VEVENT
DTSTART;TZID=America/Los_Angeles:20250523T180000
DTEND;TZID=America/Los_Angeles:20250523T200000
DTSTAMP:20260424T040544
CREATED:20250402T022536Z
LAST-MODIFIED:20250402T211828Z
UID:5057-1748023200-1748030400@fiaeastbay.org
SUMMARY:Ceasefire Night Walk
DESCRIPTION:Location: New Hope MBC\, 892 36th Street\n\nNight walks:\n6pm: Gathering for pre-walk/corners process\n6:30pm: walk or stand on corners\n7:30pm: returned back to starting location or completed from the corners\nBy 7:45pm\, walk process completed\nFor more information\, please contact alba@fiaeastbay.org
URL:https://fiaeastbay.org/event/ceasefire-night-walk-109/
ATTACH;FMTTYPE=image/png:https://fiaeastbay.org/wp-content/uploads/2021/12/OaklandCeasefire_cal.png
END:VEVENT
BEGIN:VEVENT
DTSTART;TZID=America/Los_Angeles:20250520T130000
DTEND;TZID=America/Los_Angeles:20250520T140000
DTSTAMP:20260424T040544
CREATED:20250519T233637Z
LAST-MODIFIED:20250519T233700Z
UID:5138-1747746000-1747749600@fiaeastbay.org
SUMMARY:Save Oakland Head Start at City Hall
DESCRIPTION:
URL:https://fiaeastbay.org/event/save-oakland-head-start-at-city-hall/
ATTACH;FMTTYPE=image/png:https://fiaeastbay.org/wp-content/uploads/2025/05/HeadStartMay20.png
END:VEVENT
BEGIN:VEVENT
DTSTART;TZID=America/Los_Angeles:20250516T180000
DTEND;TZID=America/Los_Angeles:20250516T200000
DTSTAMP:20260424T040544
CREATED:20250402T022411Z
LAST-MODIFIED:20250402T211754Z
UID:5055-1747418400-1747425600@fiaeastbay.org
SUMMARY:Ceasefire Night Walk
DESCRIPTION:Location: St. Columba\, 6401 San Pablo Avenue\n\nNight walks:\n6pm: Gathering for pre-walk/corners process\n6:30pm: walk or stand on corners\n7:30pm: returned back to starting location or completed from the corners\nBy 7:45pm\, walk process completed\nFor more information\, please contact alba@fiaeastbay.org
URL:https://fiaeastbay.org/event/ceasefire-night-walk-108/
ATTACH;FMTTYPE=image/png:https://fiaeastbay.org/wp-content/uploads/2021/12/OaklandCeasefire_cal.png
END:VEVENT
BEGIN:VEVENT
DTSTART;TZID=America/Los_Angeles:20250516T140000
DTEND;TZID=America/Los_Angeles:20250516T150000
DTSTAMP:20260424T040544
CREATED:20250513T182835Z
LAST-MODIFIED:20250513T184607Z
UID:5133-1747404000-1747407600@fiaeastbay.org
SUMMARY:Say No to Wellpath!
DESCRIPTION:Thank you for your concern about medical care in Alameda County Jail. The next important step in the process is a joint meeting of the Board of Supervisors’ Health and Public Protection Committees on Friday May 16th at 2 PM. This is an opportunity for community advocates to demand that the Supervisors bring a motion to the full Board to explore alternatives to Wellpath\, the current for-profit medical provider. Presentations by the Sheriff and the General Service Administration will be followed by discussion by the Supervisors and public comments. \nZoom info: Webinar: https://us02web.zoom.us/j/83246519903
URL:https://fiaeastbay.org/event/say-no-to-wellpath/
ATTACH;FMTTYPE=image/png:https://fiaeastbay.org/wp-content/uploads/2025/05/May16wellpath.png
END:VEVENT
BEGIN:VEVENT
DTSTART;TZID=America/Los_Angeles:20250513T110000
DTEND;TZID=America/Los_Angeles:20250513T123000
DTSTAMP:20260424T040544
CREATED:20250502T145408Z
LAST-MODIFIED:20250502T145857Z
UID:5126-1747134000-1747139400@fiaeastbay.org
SUMMARY:How Can We Put Our Faith Into Action?
DESCRIPTION:REGISTER
URL:https://fiaeastbay.org/event/how-can-we-put-our-faith-into-action/
ATTACH;FMTTYPE=image/png:https://fiaeastbay.org/wp-content/uploads/2025/05/FIAEBmay13.png
END:VEVENT
BEGIN:VEVENT
DTSTART;TZID=America/Los_Angeles:20250509T180000
DTEND;TZID=America/Los_Angeles:20250509T200000
DTSTAMP:20260424T040544
CREATED:20250402T022219Z
LAST-MODIFIED:20250402T211718Z
UID:5053-1746813600-1746820800@fiaeastbay.org
SUMMARY:Ceasefire Night Walk
DESCRIPTION:Location: First Mt. Sinai\, 1970 86th Avenue\n\nNight walks:\n6pm: Gathering for pre-walk/corners process\n6:30pm: walk or stand on corners\n7:30pm: returned back to starting location or completed from the corners\nBy 7:45pm\, walk process completed\nFor more information\, please contact alba@fiaeastbay.org
URL:https://fiaeastbay.org/event/ceasefire-night-walk-107/
ATTACH;FMTTYPE=image/png:https://fiaeastbay.org/wp-content/uploads/2021/12/OaklandCeasefire_cal.png
END:VEVENT
BEGIN:VEVENT
DTSTART;TZID=America/Los_Angeles:20250502T170000
DTEND;TZID=America/Los_Angeles:20250502T183000
DTSTAMP:20260424T040544
CREATED:20250424T220744Z
LAST-MODIFIED:20250424T220820Z
UID:5123-1746205200-1746210600@fiaeastbay.org
SUMMARY:Know Your Rights Workshop
DESCRIPTION:REGISTER
URL:https://fiaeastbay.org/event/know-your-rights-workshop-3/
ATTACH;FMTTYPE=image/png:https://fiaeastbay.org/wp-content/uploads/2025/04/KYRmay2.png
END:VEVENT
BEGIN:VEVENT
DTSTART;TZID=America/Los_Angeles:20250429T173000
DTEND;TZID=America/Los_Angeles:20250429T190000
DTSTAMP:20260424T040544
CREATED:20250410T222912Z
LAST-MODIFIED:20250410T223326Z
UID:5092-1745947800-1745953200@fiaeastbay.org
SUMMARY:An Evening With Fr. Greg Boyle
DESCRIPTION:REGISTER
URL:https://fiaeastbay.org/event/an-evening-with-fr-greg-boyle/
ATTACH;FMTTYPE=image/jpeg:https://fiaeastbay.org/wp-content/uploads/2025/04/FGBeng.jpg
END:VEVENT
BEGIN:VEVENT
DTSTART;TZID=America/Los_Angeles:20250428T070000
DTEND;TZID=America/Los_Angeles:20250428T130000
DTSTAMP:20260424T040544
CREATED:20250326T000416Z
LAST-MODIFIED:20250415T211029Z
UID:5024-1745823600-1745845200@fiaeastbay.org
SUMMARY:Housing Lobby Day in Sacramento
DESCRIPTION:Good morning family\,\n\n\n\nJoin us for a powerful public action in Sacramento\,CA on Monday\, April 28th at 9:00 AM\, led by Faith In Action + Silence The Violence and PICO California. /  Únete a nosotros para una poderosa acción pública en Sacramento\, CA el lunes 28 de abril a las 9:00 AM\, liderada por Faith In Action + Silence The Violence y PICO California.\n\nPlease complete this form to reserve your seat and receive updates. Lunch and materials will be provided. Wear comfortable shoes and bring water! / Por favor\, completa este formulario para reservar tu asiento y recibir actualizaciones. Se proporcionará almuerzo y materiales. ¡Usa zapatos cómodos y trae agua!\n\n—————————————————————————————————\n\n   WHAT ARE WE FIGHTING FOR: / ¿POR QUÉ LUCHAMOS?   \n \nAB1157 THE AFFORDABLE RENT ACT will amend the 2019 Tenant Protection Act (TPA) in three ways:/ AB1157 – LA LEY DE RENTA ASEQUIBLE propone enmendar la Ley de Protección al Inquilino (TPA) de 2019 de tres maneras:\n\n\nLimit allowable annual rent increases to inflation to 5%. Current law sets the limit at a maximum of 10%. / Limitar los aumentos anuales de alquiler permitidos a la inflación hasta un máximo del 5%. Actualmente\, la ley permite hasta un 10%. \n\n\nCover renters living in single family homes by removing the TPA’s exemption for most single-family homes. /Incluir a los inquilinos que viven en casas unifamiliares\, eliminando la exención de la TPA para la mayoría de estas viviendas. \n\n\nMake the Tenant Protection Act (TPA) permanent\, by removing the 2030 sunset./ Hacer permanente la Ley de Protección al Inquilino (TPA)\, eliminando su fecha de vencimiento en 2030. \n\n\nAccording to research from the U.S. Government Accountability Office\, a $100 increase in median rent is associated with a 9% increase in homelessness./ Según investigaciones de la Oficina de Responsabilidad Gubernamental de EE.UU.\, un aumento de $100 en el alquiler medio se asocia con un aumento del 9% en la falta de vivienda. \n\n\nIn 2024\, for every 100 people who exited homelessness\, 118 more entered into homelessness\, revealing how our current system is failing to address the root causes of this emergency./ En 2024\, por cada 100 personas que salieron de la falta de vivienda\, 118 más entraron\, lo que revela cómo nuestro sistema actual no aborda las causas profundas de esta emergencia. \n\n\nREAD MORE HERE/ LEE MÁS AQUÍ \n\n\n\n\n\nREGISTER\n \nOur mission is to empower each resident to harness your power as a community leader\, leveraging our network of East Bay congregations\, schools\, and local organizing communities\, we learn to drive systemic change\, and improve the quality of life for families across the East Bay. \nREGISTER
URL:https://fiaeastbay.org/event/housing-lobby-day-in-sacramento/
ATTACH;FMTTYPE=image/png:https://fiaeastbay.org/wp-content/uploads/2025/03/April28LobbyDayeng.png
END:VEVENT
BEGIN:VEVENT
DTSTART;TZID=America/Los_Angeles:20250425T180000
DTEND;TZID=America/Los_Angeles:20250425T200000
DTSTAMP:20260424T040544
CREATED:20250402T021836Z
LAST-MODIFIED:20250402T211407Z
UID:5049-1745604000-1745611200@fiaeastbay.org
SUMMARY:Ceasefire Night Walk
DESCRIPTION:Location: Mt Zion MBC\, 1203 Willow Street\n\nNight walks:\n6pm: Gathering for pre-walk/corners process\n6:30pm: walk or stand on corners\n7:30pm: returned back to starting location or completed from the corners\nBy 7:45pm\, walk process completed\nFor more information\, please contact alba@fiaeastbay.org
URL:https://fiaeastbay.org/event/ceasefire-night-walk-106/
ATTACH;FMTTYPE=image/png:https://fiaeastbay.org/wp-content/uploads/2021/12/OaklandCeasefire_cal.png
END:VEVENT
BEGIN:VEVENT
DTSTART;TZID=America/Los_Angeles:20250418T180000
DTEND;TZID=America/Los_Angeles:20250418T200000
DTSTAMP:20260424T040544
CREATED:20250410T223239Z
LAST-MODIFIED:20250410T223240Z
UID:5096-1744999200-1745006400@fiaeastbay.org
SUMMARY:March4Family Contra Costa County
DESCRIPTION:
URL:https://fiaeastbay.org/event/march4family-contra-costa-county/
ATTACH;FMTTYPE=image/jpeg:https://fiaeastbay.org/wp-content/uploads/2025/04/M4F.jpeg
END:VEVENT
BEGIN:VEVENT
DTSTART;TZID=America/Los_Angeles:20250416T173000
DTEND;TZID=America/Los_Angeles:20250416T190000
DTSTAMP:20260424T040544
CREATED:20250408T212157Z
LAST-MODIFIED:20250408T212405Z
UID:5084-1744824600-1744830000@fiaeastbay.org
SUMMARY:Interfaith Vigil to Stop ICE Expansion in Dublin
DESCRIPTION:RSVP
URL:https://fiaeastbay.org/event/interfaith-vigil-to-stop-ice-expansion-in-dublin/
ATTACH;FMTTYPE=image/png:https://fiaeastbay.org/wp-content/uploads/2025/04/Dublin-Vigil-April-16-2.png
END:VEVENT
BEGIN:VEVENT
DTSTART;TZID=America/Los_Angeles:20250412T100000
DTEND;TZID=America/Los_Angeles:20250412T150000
DTSTAMP:20260424T040544
CREATED:20250123T035930Z
LAST-MODIFIED:20250318T153554Z
UID:4935-1744452000-1744470000@fiaeastbay.org
SUMMARY:Immigration Forum
DESCRIPTION:
URL:https://fiaeastbay.org/event/immigration-forum-14/
ATTACH;FMTTYPE=image/png:https://fiaeastbay.org/wp-content/uploads/2025/01/ImForumApril12StFrancis.png
END:VEVENT
BEGIN:VEVENT
DTSTART;TZID=America/Los_Angeles:20250411T180000
DTEND;TZID=America/Los_Angeles:20250411T200000
DTSTAMP:20260424T040544
CREATED:20250402T021627Z
LAST-MODIFIED:20250402T211229Z
UID:5046-1744394400-1744401600@fiaeastbay.org
SUMMARY:Ceasefire Night Walk
DESCRIPTION:Location: Sacred Heart\, 4025 Martin Luther King Jr. Way\n\nNight walks:\n6pm: Gathering for pre-walk/corners process\n6:30pm: walk or stand on corners\n7:30pm: returned back to starting location or completed from the corners\nBy 7:45pm\, walk process completed\nFor more information\, please contact alba@fiaeastbay.org
URL:https://fiaeastbay.org/event/ceasefire-night-walk-105/
ATTACH;FMTTYPE=image/png:https://fiaeastbay.org/wp-content/uploads/2021/12/OaklandCeasefire_cal.png
END:VEVENT
BEGIN:VEVENT
DTSTART;TZID=America/Los_Angeles:20250409T090000
DTEND;TZID=America/Los_Angeles:20250409T110000
DTSTAMP:20260424T040544
CREATED:20250407T150059Z
LAST-MODIFIED:20250407T150100Z
UID:5081-1744189200-1744196400@fiaeastbay.org
SUMMARY:Learn About the OUSD Budget Crisis
DESCRIPTION:
URL:https://fiaeastbay.org/event/learn-about-the-ousd-budget-crisis-4/
ATTACH;FMTTYPE=image/png:https://fiaeastbay.org/wp-content/uploads/2025/04/OUSDEdBudgetApril9.png
END:VEVENT
BEGIN:VEVENT
DTSTART;TZID=America/Los_Angeles:20250330T140000
DTEND;TZID=America/Los_Angeles:20250330T153000
DTSTAMP:20260424T040544
CREATED:20250318T153741Z
LAST-MODIFIED:20250318T153742Z
UID:5009-1743343200-1743348600@fiaeastbay.org
SUMMARY:Oakland Mayoral Forum
DESCRIPTION:
URL:https://fiaeastbay.org/event/oakland-mayoral-forum-3/
ATTACH;FMTTYPE=image/png:https://fiaeastbay.org/wp-content/uploads/2025/03/OaklandMayoralForum.png
END:VEVENT
BEGIN:VEVENT
DTSTART;TZID=America/Los_Angeles:20250329T110000
DTEND;TZID=America/Los_Angeles:20250329T140000
DTSTAMP:20260424T040544
CREATED:20250326T231815Z
LAST-MODIFIED:20250326T231913Z
UID:5026-1743246000-1743256800@fiaeastbay.org
SUMMARY:Stop the Killings: A Peaceful Caravan to City Hall
DESCRIPTION:Stop the Killings: A Peaceful Caravan to City Hall\n\n\nWe invite you to stand Shoulder-2-Shoulder with us and bring the peace movement to our city! Join us for “Stop the Killings: A Peaceful Caravan to City Hall” as we raise our voices against violence and advocate for peace in our communities. \n Date: Saturday\, March 29th\n Time: 11:00 AM\n Starting Point: 7300 E14\n Ending at: City Hall \nThis is more than just a march—it’s a movement to end all hostilities and create a safer future for everyone. Let’s come together in solidarity to demand change and make our streets safer. \nFor more information\, contact Edwin Hagler at 415-678-6000. \nSpread the word\, bring your friends and family\, and let’s march for peace!
URL:https://fiaeastbay.org/event/stop-the-killings-a-peaceful-caravan-to-city-hall/
ATTACH;FMTTYPE=image/jpeg:https://fiaeastbay.org/wp-content/uploads/2025/03/unnamed.jpg
END:VEVENT
END:VCALENDAR